BEGIN:VCALENDAR
VERSION:2.0
PRODID:-//Living Hope Church Community CT - ECPv6.15.19//NONSGML v1.0//EN
CALSCALE:GREGORIAN
METHOD:PUBLISH
X-ORIGINAL-URL:https://livinghopect.org
X-WR-CALDESC:Events for Living Hope Church Community CT
REFRESH-INTERVAL;VALUE=DURATION:PT1H
X-Robots-Tag:noindex
X-PUBLISHED-TTL:PT1H
BEGIN:VTIMEZONE
TZID:America/New_York
BEGIN:DAYLIGHT
TZOFFSETFROM:-0500
TZOFFSETTO:-0400
TZNAME:EDT
DTSTART:20240310T070000
END:DAYLIGHT
BEGIN:STANDARD
TZOFFSETFROM:-0400
TZOFFSETTO:-0500
TZNAME:EST
DTSTART:20241103T060000
END:STANDARD
BEGIN:DAYLIGHT
TZOFFSETFROM:-0500
TZOFFSETTO:-0400
TZNAME:EDT
DTSTART:20250309T070000
END:DAYLIGHT
BEGIN:STANDARD
TZOFFSETFROM:-0400
TZOFFSETTO:-0500
TZNAME:EST
DTSTART:20251102T060000
END:STANDARD
BEGIN:DAYLIGHT
TZOFFSETFROM:-0500
TZOFFSETTO:-0400
TZNAME:EDT
DTSTART:20260308T070000
END:DAYLIGHT
BEGIN:STANDARD
TZOFFSETFROM:-0400
TZOFFSETTO:-0500
TZNAME:EST
DTSTART:20261101T060000
END:STANDARD
END:VTIMEZONE
BEGIN:VEVENT
DTSTART;TZID=America/New_York:20251002T190000
DTEND;TZID=America/New_York:20251002T203000
DTSTAMP:20260419T110754
CREATED:20251002T190804Z
LAST-MODIFIED:20251002T191317Z
UID:10005342-1759431600-1759437000@livinghopect.org
SUMMARY:Young Adult ALL IN Service
DESCRIPTION:ALL IN Young Adults Service\n\n\n\nOctober 17\, 2025 7:00 pm\n\n\nJoin us for this regional Young Adult service on October 17th at 7pm at Harvest Time Church in Greenwich. What if we were a generation who were all in? This is the question we pray will be answered through this service. We pray that you all would join us in encountering the Presence of Jesus and commit to a lifestyle all in for Him. \n\nWhat to Expect:\n– Pre-Service Games\n– Young Adult Lead Worship\n– Word by Guest Speaker Evangelist Jamie Montera\n– Giveaways\n– Coffee Pop Up\n– Food & Fellowship
URL:https://livinghopect.org/event/young-adult-all-in-service/2025-10-02/2/
LOCATION:Harvest Time Church\, 1338 King Street\, Greenwich\,\, CT\, 06831\, United States
CATEGORIES:Young Adults Group
ATTACH;FMTTYPE=image/webp:https://livinghopect.org/wp-content/uploads/2025/10/htya-all-in-1920px.webp
END:VEVENT
BEGIN:VEVENT
DTSTART;TZID=America/New_York:20251002T190000
DTEND;TZID=America/New_York:20251002T203000
DTSTAMP:20260419T110754
CREATED:20250331T142130Z
LAST-MODIFIED:20250806T152001Z
UID:10000598-1759431600-1759437000@livinghopect.org
SUMMARY:Thursdays: Group for Young Adults
DESCRIPTION:  \n\n\n\nGroup for Young Adults in their 20s and 30s \n\n\n\n7 – 8:30 PM \n\n\n\nDinner provided!
URL:https://livinghopect.org/event/thursdays-group-for-young-adults/2025-10-02/
LOCATION:Living Hope Community Church\, 38 West End Ave\, Old Greenwich\, CT\, 10118\, United States
CATEGORIES:Young Adults Group
ATTACH;FMTTYPE=image/jpeg:https://livinghopect.org/wp-content/uploads/2025/08/IMG_8860-1-3-scaled.jpg
END:VEVENT
BEGIN:VEVENT
DTSTART;TZID=America/New_York:20251002T080000
DTEND;TZID=America/New_York:20251002T170000
DTSTAMP:20260419T110754
CREATED:20251002T190804Z
LAST-MODIFIED:20251002T191317Z
UID:10005341-1759392000-1759424400@livinghopect.org
SUMMARY:Young Adult ALL IN Service
DESCRIPTION:ALL IN Young Adults Service\n\n\n\nOctober 17\, 2025 7:00 pm\n\n\nJoin us for this regional Young Adult service on October 17th at 7pm at Harvest Time Church in Greenwich. What if we were a generation who were all in? This is the question we pray will be answered through this service. We pray that you all would join us in encountering the Presence of Jesus and commit to a lifestyle all in for Him. \n\nWhat to Expect:\n– Pre-Service Games\n– Young Adult Lead Worship\n– Word by Guest Speaker Evangelist Jamie Montera\n– Giveaways\n– Coffee Pop Up\n– Food & Fellowship
URL:https://livinghopect.org/event/young-adult-all-in-service/2025-10-02/1/
LOCATION:Harvest Time Church\, 1338 King Street\, Greenwich\,\, CT\, 06831\, United States
CATEGORIES:Young Adults Group
ATTACH;FMTTYPE=image/webp:https://livinghopect.org/wp-content/uploads/2025/10/htya-all-in-1920px.webp
END:VEVENT
BEGIN:VEVENT
DTSTART;TZID=America/New_York:20250930T100000
DTEND;TZID=America/New_York:20250930T113000
DTSTAMP:20260419T110754
CREATED:20250903T155651Z
LAST-MODIFIED:20251015T140724Z
UID:10005346-1759226400-1759231800@livinghopect.org
SUMMARY:Women's Bible Study
DESCRIPTION:We will kick off our Tuesday morning bible study this fall with a new study which will focus on women of the Bible and the challenges they faced and the lessons we can learn from them. Challenges of Womanhood is a 24 lesson series on 17 Old Testament women (including Rachel\, Deborah\, Delilah\, Ruth\, and Naomi) and 7 New Testament women (such as Mary Magdalene and Herodias just to name two…).  Topics addressed in the study include “Unfading Inner Beauty\,” “Rising Above Rejection\,” “Bringing out the Best in People\,” and “Freedom from Vanity.”\n\nLet’s start with an “in person” time of sharing on Tuesday\, September 23rd at 10am – 11:30 with “Coffee and Catch-up at Cricket’s”. Books will be distributed on the 23rd\, too!  Our first Zoom bible study will be Tuesday\, September 30th from 10-11:30.\n\n\n\n\nContact lhccwf@gmail.com
URL:https://livinghopect.org/event/womens-bible-study/2025-09-30/
LOCATION:CT
CATEGORIES:Women's Ministry
ATTACH;FMTTYPE=image/png:https://livinghopect.org/wp-content/uploads/2025/09/CLBS.png
ORGANIZER;CN="Cricket Dyment":MAILTO:lhccwf@gmail.com
END:VEVENT
BEGIN:VEVENT
DTSTART;TZID=America/New_York:20250929T190000
DTEND;TZID=America/New_York:20250929T203000
DTSTAMP:20260419T110754
CREATED:20250710T192108Z
LAST-MODIFIED:20250710T194828Z
UID:10003681-1759172400-1759177800@livinghopect.org
SUMMARY:Re:generation
DESCRIPTION:Re:generation is a Christ-centered\, disciple-making ministry in men-only and women-only closed groups. Through a biblical 12-step discipleship process\, Re:generation recovery walks you through the pain\, hurt\, sin\, and brokenness in your life–the things you’ve done and the things that were done to you– so you can begin to experience hope\, peace\, joy\, and a life of purpose. By working through biblical steps within an authentic community\, people have found freedom from all sorts of personal struggles such as anxiety\, substance abuse\, codependency\, and more.
URL:https://livinghopect.org/event/regeneration/2025-09-29/
LOCATION:Living Hope Community Church\, 38 West End Avenue\, Old Greenwich\, CT\, 06870\, United States
ATTACH;FMTTYPE=image/jpeg:https://livinghopect.org/wp-content/uploads/2025/07/ReGen_1Line_Full_Tagline_Primary-1.jpg
END:VEVENT
BEGIN:VEVENT
DTSTART;TZID=America/New_York:20250929T113000
DTEND;TZID=America/New_York:20250929T113000
DTSTAMP:20260419T110754
CREATED:20250809T182821Z
LAST-MODIFIED:20250828T191333Z
UID:10003858-1759145400-1759145400@livinghopect.org
SUMMARY:Women's Book/Prayer Group
DESCRIPTION:The Women’s Book/Prayer Group meets Mondays 11:30-12:45 on Zoom beginning September 15\, 2025. If you’d like to join\, please contact Nancy Henkes at nancyhenkes4@gmail.com.
URL:https://livinghopect.org/event/womens-book-prayer-group/2025-09-29/
LOCATION:CT
CATEGORIES:Women's Ministry
ATTACH;FMTTYPE=image/jpeg:https://livinghopect.org/wp-content/uploads/2025/08/Daniel-Prayer.jpg
END:VEVENT
BEGIN:VEVENT
DTSTART;TZID=America/New_York:20250928T160000
DTEND;TZID=America/New_York:20250928T173000
DTSTAMP:20260419T110754
CREATED:20250902T135501Z
LAST-MODIFIED:20250916T155135Z
UID:10004946-1759075200-1759080600@livinghopect.org
SUMMARY:Youth Group
DESCRIPTION:Middle & High School Ages.   \n\n\n\n\n\nEmail Jaden@LivingHopeCT.org for more information. \n\n\n\n  \n\n\n\n\n\n\n\n\n\n\n\n\n\n 
URL:https://livinghopect.org/event/youth-group-2-2/2025-09-28/
LOCATION:Living Hope Community Church\, 38 West End Ave\, Old Greenwich\, CT\, 10118\, United States
CATEGORIES:Youth Group
ATTACH;FMTTYPE=image/jpeg:https://livinghopect.org/wp-content/uploads/2025/03/youth1-1920w-1.jpeg
END:VEVENT
BEGIN:VEVENT
DTSTART;TZID=America/New_York:20250928T100000
DTEND;TZID=America/New_York:20250928T111500
DTSTAMP:20260419T110754
CREATED:20250331T143248Z
LAST-MODIFIED:20250610T142532Z
UID:10000103-1759053600-1759058100@livinghopect.org
SUMMARY:Sundays: Worship Service
DESCRIPTION: 
URL:https://livinghopect.org/event/sundays-morning-services/2025-09-28/
LOCATION:Living Hope Community Church\, 38 West End Ave\, Old Greenwich\, CT\, 10118\, United States
CATEGORIES:Sunday Services
ATTACH;FMTTYPE=image/jpeg:https://livinghopect.org/wp-content/uploads/2025/03/sunday-service-e1741750136601.jpeg
END:VEVENT
BEGIN:VEVENT
DTSTART;TZID=America/New_York:20250928T090000
DTEND;TZID=America/New_York:20250928T100000
DTSTAMP:20260419T110754
CREATED:20250623T215707Z
LAST-MODIFIED:20250623T215914Z
UID:10003368-1759050000-1759053600@livinghopect.org
SUMMARY:Forum for Fathers
DESCRIPTION:Are you a man with or who has kids or family members with ADHD? We meet Sundays at 9AM at the church to pray\, seek God\, and encourage each other. Contact Todd.klair@gmail.com for more info.
URL:https://livinghopect.org/event/forum-for-fathers/2025-09-28/
LOCATION:Living Hope Community Church\, 38 West End Avenue\, Old Greenwich\, CT\, 06870\, United States
CATEGORIES:Men's Ministry
ATTACH;FMTTYPE=image/jpeg:https://livinghopect.org/wp-content/uploads/2025/06/ADHD-image-scaled.jpg
END:VEVENT
BEGIN:VEVENT
DTSTART;TZID=America/New_York:20250928T084500
DTEND;TZID=America/New_York:20250928T094500
DTSTAMP:20260419T110754
CREATED:20250522T013419Z
LAST-MODIFIED:20250610T143532Z
UID:10002996-1759049100-1759052700@livinghopect.org
SUMMARY:Matthew Bible Study
DESCRIPTION:Starting Sunday\, June 1 \n8:45-9:45 AM \nBible Study: Matthew Please join us for an hour of learning and discussion about a corrupt tax collector for Rome\, who would one day write a document that would be read\, studied\, and treasured for centuries in every part of the world!
URL:https://livinghopect.org/event/40842/2025-09-28/
LOCATION:Living Hope Community Church\, 38 West End Avenue\, Old Greenwich\, CT\, 06870\, United States
CATEGORIES:Men's Ministry,Women's Ministry
ATTACH;FMTTYPE=image/jpeg:https://livinghopect.org/wp-content/uploads/2025/05/Matthew-the-Arrival-of-a-King.jpg
END:VEVENT
BEGIN:VEVENT
DTSTART;TZID=America/New_York:20250928T083000
DTEND;TZID=America/New_York:20250928T094500
DTSTAMP:20260419T110754
CREATED:20250909T163253Z
LAST-MODIFIED:20251209T161839Z
UID:10004685-1759048200-1759052700@livinghopect.org
SUMMARY:Women's Book Study
DESCRIPTION:Women’s Sunday morning before church book study of Fervent by Pricilla Shirer meets at 8:30AM
URL:https://livinghopect.org/event/womens-book-study-3/2025-09-28/
LOCATION:Living Hope Community Church\, 38 West End Avenue\, Old Greenwich\, CT\, 06870\, United States
CATEGORIES:Women's Ministry
ATTACH;FMTTYPE=image/jpeg:https://livinghopect.org/wp-content/uploads/2025/08/Fervent-Pic.jpg
ORGANIZER;CN="Sue Curry":MAILTO:lhccwf@gmail.com
END:VEVENT
BEGIN:VEVENT
DTSTART;TZID=America/New_York:20250927T080000
DTEND;TZID=America/New_York:20250927T093000
DTSTAMP:20260419T110754
CREATED:20250331T142734Z
LAST-MODIFIED:20251230T162414Z
UID:10000505-1758960000-1758965400@livinghopect.org
SUMMARY:Saturdays: Men's Fellowship
DESCRIPTION:Men are invited to a meaningful journey through The Measure of a Man by Gene A. Getz\, as we explore God’s call to faith\, character\, and leadership in everyday life. \nBooks are available for purchase at church\, $20 each. \nSign up on Realm \nhttps://onrealm.org/livinghopect/PublicRegistrations/Event?linkString=NjlhOGViN2MtZmZiZS00ZTMxLWE4NjItYjNiNTAxMjdkZmQz \n\n\n\n\n\n 
URL:https://livinghopect.org/event/saturdays-mens-fellowship8am/2025-09-27/
LOCATION:Living Hope Community Church\, 38 West End Ave\, Old Greenwich\, CT\, 10118\, United States
CATEGORIES:Men's Ministry
ATTACH;FMTTYPE=image/jpeg:https://livinghopect.org/wp-content/uploads/2025/03/measure-of-a-man.jpeg
END:VEVENT
BEGIN:VEVENT
DTSTART;TZID=America/New_York:20250925T190000
DTEND;TZID=America/New_York:20250925T203000
DTSTAMP:20260419T110754
CREATED:20250331T142130Z
LAST-MODIFIED:20250806T152001Z
UID:10000597-1758826800-1758832200@livinghopect.org
SUMMARY:Thursdays: Group for Young Adults
DESCRIPTION:  \n\n\n\nGroup for Young Adults in their 20s and 30s \n\n\n\n7 – 8:30 PM \n\n\n\nDinner provided!
URL:https://livinghopect.org/event/thursdays-group-for-young-adults/2025-09-25/
LOCATION:Living Hope Community Church\, 38 West End Ave\, Old Greenwich\, CT\, 10118\, United States
CATEGORIES:Young Adults Group
ATTACH;FMTTYPE=image/jpeg:https://livinghopect.org/wp-content/uploads/2025/08/IMG_8860-1-3-scaled.jpg
END:VEVENT
BEGIN:VEVENT
DTSTART;TZID=America/New_York:20250924T180000
DTEND;TZID=America/New_York:20250924T203000
DTSTAMP:20260419T110754
CREATED:20250828T192128Z
LAST-MODIFIED:20250828T192128Z
UID:10004118-1758736800-1758745800@livinghopect.org
SUMMARY:Grow Night Spiritual Connections Seminar
DESCRIPTION:Join us for SPIRITUAL CONNECTIONS \nWednesday Night\, September 24th. \nSchedule for Grow Night: 6pm dinner\, 6:30 worship\, 7-8:30 seminar
URL:https://livinghopect.org/event/grow-night-spiritual-connections-seminar-2/
LOCATION:Living Hope Community Church\, 38 West End Avenue\, Old Greenwich\, CT\, 06870\, United States
CATEGORIES:Grow Night
ATTACH;FMTTYPE=image/webp:https://livinghopect.org/wp-content/uploads/2025/03/grow-night-1920w.webp
END:VEVENT
BEGIN:VEVENT
DTSTART;TZID=America/New_York:20250923T100000
DTEND;TZID=America/New_York:20250923T113000
DTSTAMP:20260419T110754
CREATED:20250903T155651Z
LAST-MODIFIED:20251015T140724Z
UID:10004676-1758621600-1758627000@livinghopect.org
SUMMARY:Women's Bible Study
DESCRIPTION:We will kick off our Tuesday morning bible study this fall with a new study which will focus on women of the Bible and the challenges they faced and the lessons we can learn from them. Challenges of Womanhood is a 24 lesson series on 17 Old Testament women (including Rachel\, Deborah\, Delilah\, Ruth\, and Naomi) and 7 New Testament women (such as Mary Magdalene and Herodias just to name two…).  Topics addressed in the study include “Unfading Inner Beauty\,” “Rising Above Rejection\,” “Bringing out the Best in People\,” and “Freedom from Vanity.”\n\nLet’s start with an “in person” time of sharing on Tuesday\, September 23rd at 10am – 11:30 with “Coffee and Catch-up at Cricket’s”. Books will be distributed on the 23rd\, too!  Our first Zoom bible study will be Tuesday\, September 30th from 10-11:30.\n\n\n\n\nContact lhccwf@gmail.com
URL:https://livinghopect.org/event/womens-bible-study/2025-09-23/
LOCATION:CT
CATEGORIES:Women's Ministry
ATTACH;FMTTYPE=image/png:https://livinghopect.org/wp-content/uploads/2025/09/CLBS.png
ORGANIZER;CN="Cricket Dyment":MAILTO:lhccwf@gmail.com
END:VEVENT
BEGIN:VEVENT
DTSTART;TZID=America/New_York:20250922T190000
DTEND;TZID=America/New_York:20250922T203000
DTSTAMP:20260419T110754
CREATED:20250710T192108Z
LAST-MODIFIED:20250710T194828Z
UID:10003680-1758567600-1758573000@livinghopect.org
SUMMARY:Re:generation
DESCRIPTION:Re:generation is a Christ-centered\, disciple-making ministry in men-only and women-only closed groups. Through a biblical 12-step discipleship process\, Re:generation recovery walks you through the pain\, hurt\, sin\, and brokenness in your life–the things you’ve done and the things that were done to you– so you can begin to experience hope\, peace\, joy\, and a life of purpose. By working through biblical steps within an authentic community\, people have found freedom from all sorts of personal struggles such as anxiety\, substance abuse\, codependency\, and more.
URL:https://livinghopect.org/event/regeneration/2025-09-22/
LOCATION:Living Hope Community Church\, 38 West End Avenue\, Old Greenwich\, CT\, 06870\, United States
ATTACH;FMTTYPE=image/jpeg:https://livinghopect.org/wp-content/uploads/2025/07/ReGen_1Line_Full_Tagline_Primary-1.jpg
END:VEVENT
BEGIN:VEVENT
DTSTART;TZID=America/New_York:20250922T113000
DTEND;TZID=America/New_York:20250922T113000
DTSTAMP:20260419T110754
CREATED:20250809T182821Z
LAST-MODIFIED:20250828T191333Z
UID:10003857-1758540600-1758540600@livinghopect.org
SUMMARY:Women's Book/Prayer Group
DESCRIPTION:The Women’s Book/Prayer Group meets Mondays 11:30-12:45 on Zoom beginning September 15\, 2025. If you’d like to join\, please contact Nancy Henkes at nancyhenkes4@gmail.com.
URL:https://livinghopect.org/event/womens-book-prayer-group/2025-09-22/
LOCATION:CT
CATEGORIES:Women's Ministry
ATTACH;FMTTYPE=image/jpeg:https://livinghopect.org/wp-content/uploads/2025/08/Daniel-Prayer.jpg
END:VEVENT
BEGIN:VEVENT
DTSTART;VALUE=DATE:20250922
DTEND;VALUE=DATE:20251003
DTSTAMP:20260419T110754
CREATED:20250623T222455Z
LAST-MODIFIED:20250830T143620Z
UID:10003656-1758499200-1759449599@livinghopect.org
SUMMARY:Ten Days of Prayer
DESCRIPTION:For more info\, please visit www.10days.net
URL:https://livinghopect.org/event/ten-days-of-prayer/
LOCATION:CT
CATEGORIES:Prayer
ATTACH;FMTTYPE=image/webp:https://livinghopect.org/wp-content/uploads/2025/06/10Days_Logo.Transparent-01.webp
END:VEVENT
BEGIN:VEVENT
DTSTART;TZID=America/New_York:20250921T160000
DTEND;TZID=America/New_York:20250921T173000
DTSTAMP:20260419T110754
CREATED:20250902T135501Z
LAST-MODIFIED:20250916T155135Z
UID:10004945-1758470400-1758475800@livinghopect.org
SUMMARY:Youth Group
DESCRIPTION:Middle & High School Ages.   \n\n\n\n\n\nEmail Jaden@LivingHopeCT.org for more information. \n\n\n\n  \n\n\n\n\n\n\n\n\n\n\n\n\n\n 
URL:https://livinghopect.org/event/youth-group-2-2/2025-09-21/
LOCATION:Living Hope Community Church\, 38 West End Ave\, Old Greenwich\, CT\, 10118\, United States
CATEGORIES:Youth Group
ATTACH;FMTTYPE=image/jpeg:https://livinghopect.org/wp-content/uploads/2025/03/youth1-1920w-1.jpeg
END:VEVENT
BEGIN:VEVENT
DTSTART;TZID=America/New_York:20250921T100000
DTEND;TZID=America/New_York:20250921T111500
DTSTAMP:20260419T110754
CREATED:20250331T143248Z
LAST-MODIFIED:20250610T142532Z
UID:10000102-1758448800-1758453300@livinghopect.org
SUMMARY:Sundays: Worship Service
DESCRIPTION: 
URL:https://livinghopect.org/event/sundays-morning-services/2025-09-21/
LOCATION:Living Hope Community Church\, 38 West End Ave\, Old Greenwich\, CT\, 10118\, United States
CATEGORIES:Sunday Services
ATTACH;FMTTYPE=image/jpeg:https://livinghopect.org/wp-content/uploads/2025/03/sunday-service-e1741750136601.jpeg
END:VEVENT
BEGIN:VEVENT
DTSTART;TZID=America/New_York:20250921T090000
DTEND;TZID=America/New_York:20250921T100000
DTSTAMP:20260419T110754
CREATED:20250623T215707Z
LAST-MODIFIED:20250623T215914Z
UID:10003367-1758445200-1758448800@livinghopect.org
SUMMARY:Forum for Fathers
DESCRIPTION:Are you a man with or who has kids or family members with ADHD? We meet Sundays at 9AM at the church to pray\, seek God\, and encourage each other. Contact Todd.klair@gmail.com for more info.
URL:https://livinghopect.org/event/forum-for-fathers/2025-09-21/
LOCATION:Living Hope Community Church\, 38 West End Avenue\, Old Greenwich\, CT\, 06870\, United States
CATEGORIES:Men's Ministry
ATTACH;FMTTYPE=image/jpeg:https://livinghopect.org/wp-content/uploads/2025/06/ADHD-image-scaled.jpg
END:VEVENT
BEGIN:VEVENT
DTSTART;TZID=America/New_York:20250921T084500
DTEND;TZID=America/New_York:20250921T094500
DTSTAMP:20260419T110754
CREATED:20250522T013419Z
LAST-MODIFIED:20250610T143532Z
UID:10002995-1758444300-1758447900@livinghopect.org
SUMMARY:Matthew Bible Study
DESCRIPTION:Starting Sunday\, June 1 \n8:45-9:45 AM \nBible Study: Matthew Please join us for an hour of learning and discussion about a corrupt tax collector for Rome\, who would one day write a document that would be read\, studied\, and treasured for centuries in every part of the world!
URL:https://livinghopect.org/event/40842/2025-09-21/
LOCATION:Living Hope Community Church\, 38 West End Avenue\, Old Greenwich\, CT\, 06870\, United States
CATEGORIES:Men's Ministry,Women's Ministry
ATTACH;FMTTYPE=image/jpeg:https://livinghopect.org/wp-content/uploads/2025/05/Matthew-the-Arrival-of-a-King.jpg
END:VEVENT
BEGIN:VEVENT
DTSTART;TZID=America/New_York:20250921T083000
DTEND;TZID=America/New_York:20250921T094500
DTSTAMP:20260419T110754
CREATED:20250909T163253Z
LAST-MODIFIED:20251209T161839Z
UID:10004684-1758443400-1758447900@livinghopect.org
SUMMARY:Women's Book Study
DESCRIPTION:Women’s Sunday morning before church book study of Fervent by Pricilla Shirer meets at 8:30AM
URL:https://livinghopect.org/event/womens-book-study-3/2025-09-21/
LOCATION:Living Hope Community Church\, 38 West End Avenue\, Old Greenwich\, CT\, 06870\, United States
CATEGORIES:Women's Ministry
ATTACH;FMTTYPE=image/jpeg:https://livinghopect.org/wp-content/uploads/2025/08/Fervent-Pic.jpg
ORGANIZER;CN="Sue Curry":MAILTO:lhccwf@gmail.com
END:VEVENT
BEGIN:VEVENT
DTSTART;TZID=America/New_York:20250920T080000
DTEND;TZID=America/New_York:20250920T093000
DTSTAMP:20260419T110754
CREATED:20250331T142734Z
LAST-MODIFIED:20251230T162414Z
UID:10000504-1758355200-1758360600@livinghopect.org
SUMMARY:Saturdays: Men's Fellowship
DESCRIPTION:Men are invited to a meaningful journey through The Measure of a Man by Gene A. Getz\, as we explore God’s call to faith\, character\, and leadership in everyday life. \nBooks are available for purchase at church\, $20 each. \nSign up on Realm \nhttps://onrealm.org/livinghopect/PublicRegistrations/Event?linkString=NjlhOGViN2MtZmZiZS00ZTMxLWE4NjItYjNiNTAxMjdkZmQz \n\n\n\n\n\n 
URL:https://livinghopect.org/event/saturdays-mens-fellowship8am/2025-09-20/
LOCATION:Living Hope Community Church\, 38 West End Ave\, Old Greenwich\, CT\, 10118\, United States
CATEGORIES:Men's Ministry
ATTACH;FMTTYPE=image/jpeg:https://livinghopect.org/wp-content/uploads/2025/03/measure-of-a-man.jpeg
END:VEVENT
BEGIN:VEVENT
DTSTART;TZID=America/New_York:20250918T190000
DTEND;TZID=America/New_York:20250918T203000
DTSTAMP:20260419T110754
CREATED:20250331T142130Z
LAST-MODIFIED:20250806T152001Z
UID:10000596-1758222000-1758227400@livinghopect.org
SUMMARY:Thursdays: Group for Young Adults
DESCRIPTION:  \n\n\n\nGroup for Young Adults in their 20s and 30s \n\n\n\n7 – 8:30 PM \n\n\n\nDinner provided!
URL:https://livinghopect.org/event/thursdays-group-for-young-adults/2025-09-18/
LOCATION:Living Hope Community Church\, 38 West End Ave\, Old Greenwich\, CT\, 10118\, United States
CATEGORIES:Young Adults Group
ATTACH;FMTTYPE=image/jpeg:https://livinghopect.org/wp-content/uploads/2025/08/IMG_8860-1-3-scaled.jpg
END:VEVENT
BEGIN:VEVENT
DTSTART;TZID=America/New_York:20250917T180000
DTEND;TZID=America/New_York:20250917T203000
DTSTAMP:20260419T110754
CREATED:20250828T191718Z
LAST-MODIFIED:20250910T182111Z
UID:10004117-1758132000-1758141000@livinghopect.org
SUMMARY:Grow Night Spiritual Connections Seminar
DESCRIPTION:Starting Wednesday\, September 17\, we will offer two weeks of SPIRITUAL CONNECTIONS seminar \nWednesday Nights on Prayer on the 17th and 24th \nSchedule for Grow Night: 6pm dinner\, 6:30 worship\, 7-8:30 seminar \nREGISTER HERE
URL:https://livinghopect.org/event/grow-night-spiritual-connections-seminar/
LOCATION:Living Hope Community Church\, 38 West End Avenue\, Old Greenwich\, CT\, 06870\, United States
CATEGORIES:Grow Night
ATTACH;FMTTYPE=image/png:https://livinghopect.org/wp-content/uploads/2025/08/Spiritual-Connections-icon_rgb-1.png
END:VEVENT
BEGIN:VEVENT
DTSTART;TZID=America/New_York:20250915T190000
DTEND;TZID=America/New_York:20250915T203000
DTSTAMP:20260419T110754
CREATED:20250710T192108Z
LAST-MODIFIED:20250710T194828Z
UID:10003679-1757962800-1757968200@livinghopect.org
SUMMARY:Re:generation
DESCRIPTION:Re:generation is a Christ-centered\, disciple-making ministry in men-only and women-only closed groups. Through a biblical 12-step discipleship process\, Re:generation recovery walks you through the pain\, hurt\, sin\, and brokenness in your life–the things you’ve done and the things that were done to you– so you can begin to experience hope\, peace\, joy\, and a life of purpose. By working through biblical steps within an authentic community\, people have found freedom from all sorts of personal struggles such as anxiety\, substance abuse\, codependency\, and more.
URL:https://livinghopect.org/event/regeneration/2025-09-15/
LOCATION:Living Hope Community Church\, 38 West End Avenue\, Old Greenwich\, CT\, 06870\, United States
ATTACH;FMTTYPE=image/jpeg:https://livinghopect.org/wp-content/uploads/2025/07/ReGen_1Line_Full_Tagline_Primary-1.jpg
END:VEVENT
BEGIN:VEVENT
DTSTART;TZID=America/New_York:20250915T113000
DTEND;TZID=America/New_York:20250915T113000
DTSTAMP:20260419T110754
CREATED:20250809T182821Z
LAST-MODIFIED:20250828T191333Z
UID:10004115-1757935800-1757935800@livinghopect.org
SUMMARY:Women's Book/Prayer Group
DESCRIPTION:The Women’s Book/Prayer Group meets Mondays 11:30-12:45 on Zoom beginning September 15\, 2025. If you’d like to join\, please contact Nancy Henkes at nancyhenkes4@gmail.com.
URL:https://livinghopect.org/event/womens-book-prayer-group/2025-09-15/
LOCATION:CT
CATEGORIES:Women's Ministry
ATTACH;FMTTYPE=image/jpeg:https://livinghopect.org/wp-content/uploads/2025/08/Daniel-Prayer.jpg
END:VEVENT
BEGIN:VEVENT
DTSTART;TZID=America/New_York:20250914T160000
DTEND;TZID=America/New_York:20250914T173000
DTSTAMP:20260419T110754
CREATED:20250902T135501Z
LAST-MODIFIED:20250916T155135Z
UID:10004944-1757865600-1757871000@livinghopect.org
SUMMARY:Youth Group
DESCRIPTION:Middle & High School Ages.   \n\n\n\n\n\nEmail Jaden@LivingHopeCT.org for more information. \n\n\n\n  \n\n\n\n\n\n\n\n\n\n\n\n\n\n 
URL:https://livinghopect.org/event/youth-group-2-2/2025-09-14/
LOCATION:Living Hope Community Church\, 38 West End Ave\, Old Greenwich\, CT\, 10118\, United States
CATEGORIES:Youth Group
ATTACH;FMTTYPE=image/jpeg:https://livinghopect.org/wp-content/uploads/2025/03/youth1-1920w-1.jpeg
END:VEVENT
BEGIN:VEVENT
DTSTART;TZID=America/New_York:20250914T100000
DTEND;TZID=America/New_York:20250914T111500
DTSTAMP:20260419T110754
CREATED:20250331T143248Z
LAST-MODIFIED:20250610T142532Z
UID:10000101-1757844000-1757848500@livinghopect.org
SUMMARY:Sundays: Worship Service
DESCRIPTION: 
URL:https://livinghopect.org/event/sundays-morning-services/2025-09-14/
LOCATION:Living Hope Community Church\, 38 West End Ave\, Old Greenwich\, CT\, 10118\, United States
CATEGORIES:Sunday Services
ATTACH;FMTTYPE=image/jpeg:https://livinghopect.org/wp-content/uploads/2025/03/sunday-service-e1741750136601.jpeg
END:VEVENT
END:VCALENDAR