BEGIN:VCALENDAR
VERSION:2.0
PRODID:-//Living Hope Church Community CT - ECPv6.15.19//NONSGML v1.0//EN
CALSCALE:GREGORIAN
METHOD:PUBLISH
X-ORIGINAL-URL:https://livinghopect.org
X-WR-CALDESC:Events for Living Hope Church Community CT
REFRESH-INTERVAL;VALUE=DURATION:PT1H
X-Robots-Tag:noindex
X-PUBLISHED-TTL:PT1H
BEGIN:VTIMEZONE
TZID:America/New_York
BEGIN:DAYLIGHT
TZOFFSETFROM:-0500
TZOFFSETTO:-0400
TZNAME:EDT
DTSTART:20260308T070000
END:DAYLIGHT
BEGIN:STANDARD
TZOFFSETFROM:-0400
TZOFFSETTO:-0500
TZNAME:EST
DTSTART:20261101T060000
END:STANDARD
BEGIN:DAYLIGHT
TZOFFSETFROM:-0500
TZOFFSETTO:-0400
TZNAME:EDT
DTSTART:20270314T070000
END:DAYLIGHT
BEGIN:STANDARD
TZOFFSETFROM:-0400
TZOFFSETTO:-0500
TZNAME:EST
DTSTART:20271107T060000
END:STANDARD
BEGIN:DAYLIGHT
TZOFFSETFROM:-0500
TZOFFSETTO:-0400
TZNAME:EDT
DTSTART:20280312T070000
END:DAYLIGHT
BEGIN:STANDARD
TZOFFSETFROM:-0400
TZOFFSETTO:-0500
TZNAME:EST
DTSTART:20281105T060000
END:STANDARD
END:VTIMEZONE
BEGIN:VEVENT
DTSTART;TZID=America/New_York:20270124T090000
DTEND;TZID=America/New_York:20270124T100000
DTSTAMP:20260420T031827
CREATED:20250623T215707Z
LAST-MODIFIED:20250623T215914Z
UID:10003437-1800781200-1800784800@livinghopect.org
SUMMARY:Forum for Fathers
DESCRIPTION:Are you a man with or who has kids or family members with ADHD? We meet Sundays at 9AM at the church to pray\, seek God\, and encourage each other. Contact Todd.klair@gmail.com for more info.
URL:https://livinghopect.org/event/forum-for-fathers/2027-01-24/
LOCATION:Living Hope Community Church\, 38 West End Avenue\, Old Greenwich\, CT\, 06870\, United States
CATEGORIES:Men's Ministry
ATTACH;FMTTYPE=image/jpeg:https://livinghopect.org/wp-content/uploads/2025/06/ADHD-image-scaled.jpg
END:VEVENT
BEGIN:VEVENT
DTSTART;TZID=America/New_York:20270124T100000
DTEND;TZID=America/New_York:20270124T111500
DTSTAMP:20260420T031827
CREATED:20250331T143248Z
LAST-MODIFIED:20250610T142532Z
UID:10000172-1800784800-1800789300@livinghopect.org
SUMMARY:Sundays: Worship Service
DESCRIPTION: 
URL:https://livinghopect.org/event/sundays-morning-services/2027-01-24/
LOCATION:Living Hope Community Church\, 38 West End Ave\, Old Greenwich\, CT\, 10118\, United States
CATEGORIES:Sunday Services
ATTACH;FMTTYPE=image/jpeg:https://livinghopect.org/wp-content/uploads/2025/03/sunday-service-e1741750136601.jpeg
END:VEVENT
BEGIN:VEVENT
DTSTART;TZID=America/New_York:20270125T113000
DTEND;TZID=America/New_York:20270125T113000
DTSTAMP:20260420T031827
CREATED:20250809T182821Z
LAST-MODIFIED:20250828T191333Z
UID:10003927-1800876600-1800876600@livinghopect.org
SUMMARY:Women's Book/Prayer Group
DESCRIPTION:The Women’s Book/Prayer Group meets Mondays 11:30-12:45 on Zoom beginning September 15\, 2025. If you’d like to join\, please contact Nancy Henkes at nancyhenkes4@gmail.com.
URL:https://livinghopect.org/event/womens-book-prayer-group/2027-01-25/
LOCATION:CT
CATEGORIES:Women's Ministry
ATTACH;FMTTYPE=image/jpeg:https://livinghopect.org/wp-content/uploads/2025/08/Daniel-Prayer.jpg
END:VEVENT
BEGIN:VEVENT
DTSTART;TZID=America/New_York:20270125T190000
DTEND;TZID=America/New_York:20270125T203000
DTSTAMP:20260420T031827
CREATED:20250710T192108Z
LAST-MODIFIED:20250710T194828Z
UID:10003750-1800903600-1800909000@livinghopect.org
SUMMARY:Re:generation
DESCRIPTION:Re:generation is a Christ-centered\, disciple-making ministry in men-only and women-only closed groups. Through a biblical 12-step discipleship process\, Re:generation recovery walks you through the pain\, hurt\, sin\, and brokenness in your life–the things you’ve done and the things that were done to you– so you can begin to experience hope\, peace\, joy\, and a life of purpose. By working through biblical steps within an authentic community\, people have found freedom from all sorts of personal struggles such as anxiety\, substance abuse\, codependency\, and more.
URL:https://livinghopect.org/event/regeneration/2027-01-25/
LOCATION:Living Hope Community Church\, 38 West End Avenue\, Old Greenwich\, CT\, 06870\, United States
ATTACH;FMTTYPE=image/jpeg:https://livinghopect.org/wp-content/uploads/2025/07/ReGen_1Line_Full_Tagline_Primary-1.jpg
END:VEVENT
BEGIN:VEVENT
DTSTART;TZID=America/New_York:20270127T190000
DTEND;TZID=America/New_York:20270127T203000
DTSTAMP:20260420T031827
CREATED:20260129T220429Z
LAST-MODIFIED:20260408T135219Z
UID:10005976-1801076400-1801081800@livinghopect.org
SUMMARY:Unity in Community Series
DESCRIPTION:Come explore what the Scriptures teach us about how God calls us to love one another as brothers and sisters in Christ. This is vital training for every Christian to understand God’s plan for His covenant community\, the Church. We will have light food from 6:30-7 pm and childcare upon request. \nWednesdays from 7-8:30 pm starting April 15
URL:https://livinghopect.org/event/unity-in-community-series/2027-01-27/
LOCATION:Living Hope Community Church\, 38 West End Avenue\, Old Greenwich\, CT\, 06870\, United States
CATEGORIES:Grow Night
ATTACH;FMTTYPE=image/jpeg:https://livinghopect.org/wp-content/uploads/2026/01/IMG_7996.jpeg
ORGANIZER;CN="office":MAILTO:office@livinghopect.org
END:VEVENT
BEGIN:VEVENT
DTSTART;TZID=America/New_York:20270128T190000
DTEND;TZID=America/New_York:20270128T203000
DTSTAMP:20260420T031827
CREATED:20250331T142130Z
LAST-MODIFIED:20250806T152001Z
UID:10000667-1801162800-1801168200@livinghopect.org
SUMMARY:Thursdays: Group for Young Adults
DESCRIPTION:  \n\n\n\nGroup for Young Adults in their 20s and 30s \n\n\n\n7 – 8:30 PM \n\n\n\nDinner provided!
URL:https://livinghopect.org/event/thursdays-group-for-young-adults/2027-01-28/
LOCATION:Living Hope Community Church\, 38 West End Ave\, Old Greenwich\, CT\, 10118\, United States
CATEGORIES:Young Adults Group
ATTACH;FMTTYPE=image/jpeg:https://livinghopect.org/wp-content/uploads/2025/08/IMG_8860-1-3-scaled.jpg
END:VEVENT
BEGIN:VEVENT
DTSTART;TZID=America/New_York:20270130T080000
DTEND;TZID=America/New_York:20270130T093000
DTSTAMP:20260420T031827
CREATED:20250331T142734Z
LAST-MODIFIED:20251230T162414Z
UID:10000575-1801296000-1801301400@livinghopect.org
SUMMARY:Saturdays: Men's Fellowship
DESCRIPTION:Men are invited to a meaningful journey through The Measure of a Man by Gene A. Getz\, as we explore God’s call to faith\, character\, and leadership in everyday life. \nBooks are available for purchase at church\, $20 each. \nSign up on Realm \nhttps://onrealm.org/livinghopect/PublicRegistrations/Event?linkString=NjlhOGViN2MtZmZiZS00ZTMxLWE4NjItYjNiNTAxMjdkZmQz \n\n\n\n\n\n 
URL:https://livinghopect.org/event/saturdays-mens-fellowship8am/2027-01-30/
LOCATION:Living Hope Community Church\, 38 West End Ave\, Old Greenwich\, CT\, 10118\, United States
CATEGORIES:Men's Ministry
ATTACH;FMTTYPE=image/jpeg:https://livinghopect.org/wp-content/uploads/2025/03/measure-of-a-man.jpeg
END:VEVENT
BEGIN:VEVENT
DTSTART;TZID=America/New_York:20270131T084500
DTEND;TZID=America/New_York:20270131T094500
DTSTAMP:20260420T031827
CREATED:20260128T221920Z
LAST-MODIFIED:20260129T184020Z
UID:10005535-1801385100-1801388700@livinghopect.org
SUMMARY:Isaiah Bible Study
DESCRIPTION:This 12-week study facilitated by Rick and Amy Lutz\, will begin promptly at 8:45AM on Sunday mornings. \nThe book of Isaiah is famous for its extensive prophecies about Jesus Christ the Messiah\, God’s judgment\, and future salvation\, making it a cornerstone of Old Testament prophecy and influencing Christian theology extensively. \nPlease have Chapter 1 completed for the first meeting\, as you’ll be jumping right into this profoundly significant prophetic work! \nSunday\, February 8 at 8:45am
URL:https://livinghopect.org/event/isaiah-bible-study/2027-01-31/
LOCATION:Living Hope Community Church\, 38 West End Avenue\, Old Greenwich\, CT\, 06870\, United States
CATEGORIES:Bible Study
ATTACH;FMTTYPE=image/jpeg:https://livinghopect.org/wp-content/uploads/2026/01/Isaiah-Bible-Study.jpg
ORGANIZER;CN="office":MAILTO:office@livinghopect.org
END:VEVENT
BEGIN:VEVENT
DTSTART;TZID=America/New_York:20270131T090000
DTEND;TZID=America/New_York:20270131T100000
DTSTAMP:20260420T031827
CREATED:20250623T215707Z
LAST-MODIFIED:20250623T215914Z
UID:10003438-1801386000-1801389600@livinghopect.org
SUMMARY:Forum for Fathers
DESCRIPTION:Are you a man with or who has kids or family members with ADHD? We meet Sundays at 9AM at the church to pray\, seek God\, and encourage each other. Contact Todd.klair@gmail.com for more info.
URL:https://livinghopect.org/event/forum-for-fathers/2027-01-31/
LOCATION:Living Hope Community Church\, 38 West End Avenue\, Old Greenwich\, CT\, 06870\, United States
CATEGORIES:Men's Ministry
ATTACH;FMTTYPE=image/jpeg:https://livinghopect.org/wp-content/uploads/2025/06/ADHD-image-scaled.jpg
END:VEVENT
BEGIN:VEVENT
DTSTART;TZID=America/New_York:20270131T100000
DTEND;TZID=America/New_York:20270131T111500
DTSTAMP:20260420T031827
CREATED:20250331T143248Z
LAST-MODIFIED:20250610T142532Z
UID:10000173-1801389600-1801394100@livinghopect.org
SUMMARY:Sundays: Worship Service
DESCRIPTION: 
URL:https://livinghopect.org/event/sundays-morning-services/2027-01-31/
LOCATION:Living Hope Community Church\, 38 West End Ave\, Old Greenwich\, CT\, 10118\, United States
CATEGORIES:Sunday Services
ATTACH;FMTTYPE=image/jpeg:https://livinghopect.org/wp-content/uploads/2025/03/sunday-service-e1741750136601.jpeg
END:VEVENT
BEGIN:VEVENT
DTSTART;TZID=America/New_York:20270201T113000
DTEND;TZID=America/New_York:20270201T113000
DTSTAMP:20260420T031827
CREATED:20250809T182821Z
LAST-MODIFIED:20250828T191333Z
UID:10003928-1801481400-1801481400@livinghopect.org
SUMMARY:Women's Book/Prayer Group
DESCRIPTION:The Women’s Book/Prayer Group meets Mondays 11:30-12:45 on Zoom beginning September 15\, 2025. If you’d like to join\, please contact Nancy Henkes at nancyhenkes4@gmail.com.
URL:https://livinghopect.org/event/womens-book-prayer-group/2027-02-01/
LOCATION:CT
CATEGORIES:Women's Ministry
ATTACH;FMTTYPE=image/jpeg:https://livinghopect.org/wp-content/uploads/2025/08/Daniel-Prayer.jpg
END:VEVENT
BEGIN:VEVENT
DTSTART;TZID=America/New_York:20270201T190000
DTEND;TZID=America/New_York:20270201T203000
DTSTAMP:20260420T031827
CREATED:20250710T192108Z
LAST-MODIFIED:20250710T194828Z
UID:10003751-1801508400-1801513800@livinghopect.org
SUMMARY:Re:generation
DESCRIPTION:Re:generation is a Christ-centered\, disciple-making ministry in men-only and women-only closed groups. Through a biblical 12-step discipleship process\, Re:generation recovery walks you through the pain\, hurt\, sin\, and brokenness in your life–the things you’ve done and the things that were done to you– so you can begin to experience hope\, peace\, joy\, and a life of purpose. By working through biblical steps within an authentic community\, people have found freedom from all sorts of personal struggles such as anxiety\, substance abuse\, codependency\, and more.
URL:https://livinghopect.org/event/regeneration/2027-02-01/
LOCATION:Living Hope Community Church\, 38 West End Avenue\, Old Greenwich\, CT\, 06870\, United States
ATTACH;FMTTYPE=image/jpeg:https://livinghopect.org/wp-content/uploads/2025/07/ReGen_1Line_Full_Tagline_Primary-1.jpg
END:VEVENT
BEGIN:VEVENT
DTSTART;TZID=America/New_York:20270203T190000
DTEND;TZID=America/New_York:20270203T203000
DTSTAMP:20260420T031827
CREATED:20260129T220429Z
LAST-MODIFIED:20260408T135219Z
UID:10005977-1801681200-1801686600@livinghopect.org
SUMMARY:Unity in Community Series
DESCRIPTION:Come explore what the Scriptures teach us about how God calls us to love one another as brothers and sisters in Christ. This is vital training for every Christian to understand God’s plan for His covenant community\, the Church. We will have light food from 6:30-7 pm and childcare upon request. \nWednesdays from 7-8:30 pm starting April 15
URL:https://livinghopect.org/event/unity-in-community-series/2027-02-03/
LOCATION:Living Hope Community Church\, 38 West End Avenue\, Old Greenwich\, CT\, 06870\, United States
CATEGORIES:Grow Night
ATTACH;FMTTYPE=image/jpeg:https://livinghopect.org/wp-content/uploads/2026/01/IMG_7996.jpeg
ORGANIZER;CN="office":MAILTO:office@livinghopect.org
END:VEVENT
BEGIN:VEVENT
DTSTART;TZID=America/New_York:20270204T190000
DTEND;TZID=America/New_York:20270204T203000
DTSTAMP:20260420T031827
CREATED:20250331T142130Z
LAST-MODIFIED:20250806T152001Z
UID:10000668-1801767600-1801773000@livinghopect.org
SUMMARY:Thursdays: Group for Young Adults
DESCRIPTION:  \n\n\n\nGroup for Young Adults in their 20s and 30s \n\n\n\n7 – 8:30 PM \n\n\n\nDinner provided!
URL:https://livinghopect.org/event/thursdays-group-for-young-adults/2027-02-04/
LOCATION:Living Hope Community Church\, 38 West End Ave\, Old Greenwich\, CT\, 10118\, United States
CATEGORIES:Young Adults Group
ATTACH;FMTTYPE=image/jpeg:https://livinghopect.org/wp-content/uploads/2025/08/IMG_8860-1-3-scaled.jpg
END:VEVENT
BEGIN:VEVENT
DTSTART;TZID=America/New_York:20270206T080000
DTEND;TZID=America/New_York:20270206T093000
DTSTAMP:20260420T031827
CREATED:20250331T142734Z
LAST-MODIFIED:20251230T162414Z
UID:10001931-1801900800-1801906200@livinghopect.org
SUMMARY:Saturdays: Men's Fellowship
DESCRIPTION:Men are invited to a meaningful journey through The Measure of a Man by Gene A. Getz\, as we explore God’s call to faith\, character\, and leadership in everyday life. \nBooks are available for purchase at church\, $20 each. \nSign up on Realm \nhttps://onrealm.org/livinghopect/PublicRegistrations/Event?linkString=NjlhOGViN2MtZmZiZS00ZTMxLWE4NjItYjNiNTAxMjdkZmQz \n\n\n\n\n\n 
URL:https://livinghopect.org/event/saturdays-mens-fellowship8am/2027-02-06/
LOCATION:Living Hope Community Church\, 38 West End Ave\, Old Greenwich\, CT\, 10118\, United States
CATEGORIES:Men's Ministry
ATTACH;FMTTYPE=image/jpeg:https://livinghopect.org/wp-content/uploads/2025/03/measure-of-a-man.jpeg
END:VEVENT
BEGIN:VEVENT
DTSTART;TZID=America/New_York:20270207T084500
DTEND;TZID=America/New_York:20270207T094500
DTSTAMP:20260420T031827
CREATED:20260128T221920Z
LAST-MODIFIED:20260129T184020Z
UID:10005536-1801989900-1801993500@livinghopect.org
SUMMARY:Isaiah Bible Study
DESCRIPTION:This 12-week study facilitated by Rick and Amy Lutz\, will begin promptly at 8:45AM on Sunday mornings. \nThe book of Isaiah is famous for its extensive prophecies about Jesus Christ the Messiah\, God’s judgment\, and future salvation\, making it a cornerstone of Old Testament prophecy and influencing Christian theology extensively. \nPlease have Chapter 1 completed for the first meeting\, as you’ll be jumping right into this profoundly significant prophetic work! \nSunday\, February 8 at 8:45am
URL:https://livinghopect.org/event/isaiah-bible-study/2027-02-07/
LOCATION:Living Hope Community Church\, 38 West End Avenue\, Old Greenwich\, CT\, 06870\, United States
CATEGORIES:Bible Study
ATTACH;FMTTYPE=image/jpeg:https://livinghopect.org/wp-content/uploads/2026/01/Isaiah-Bible-Study.jpg
ORGANIZER;CN="office":MAILTO:office@livinghopect.org
END:VEVENT
BEGIN:VEVENT
DTSTART;TZID=America/New_York:20270207T090000
DTEND;TZID=America/New_York:20270207T100000
DTSTAMP:20260420T031827
CREATED:20250623T215707Z
LAST-MODIFIED:20250623T215914Z
UID:10003439-1801990800-1801994400@livinghopect.org
SUMMARY:Forum for Fathers
DESCRIPTION:Are you a man with or who has kids or family members with ADHD? We meet Sundays at 9AM at the church to pray\, seek God\, and encourage each other. Contact Todd.klair@gmail.com for more info.
URL:https://livinghopect.org/event/forum-for-fathers/2027-02-07/
LOCATION:Living Hope Community Church\, 38 West End Avenue\, Old Greenwich\, CT\, 06870\, United States
CATEGORIES:Men's Ministry
ATTACH;FMTTYPE=image/jpeg:https://livinghopect.org/wp-content/uploads/2025/06/ADHD-image-scaled.jpg
END:VEVENT
BEGIN:VEVENT
DTSTART;TZID=America/New_York:20270207T100000
DTEND;TZID=America/New_York:20270207T111500
DTSTAMP:20260420T031827
CREATED:20250331T143248Z
LAST-MODIFIED:20250610T142532Z
UID:10000174-1801994400-1801998900@livinghopect.org
SUMMARY:Sundays: Worship Service
DESCRIPTION: 
URL:https://livinghopect.org/event/sundays-morning-services/2027-02-07/
LOCATION:Living Hope Community Church\, 38 West End Ave\, Old Greenwich\, CT\, 10118\, United States
CATEGORIES:Sunday Services
ATTACH;FMTTYPE=image/jpeg:https://livinghopect.org/wp-content/uploads/2025/03/sunday-service-e1741750136601.jpeg
END:VEVENT
BEGIN:VEVENT
DTSTART;TZID=America/New_York:20270208T113000
DTEND;TZID=America/New_York:20270208T113000
DTSTAMP:20260420T031827
CREATED:20250809T182821Z
LAST-MODIFIED:20250828T191333Z
UID:10003929-1802086200-1802086200@livinghopect.org
SUMMARY:Women's Book/Prayer Group
DESCRIPTION:The Women’s Book/Prayer Group meets Mondays 11:30-12:45 on Zoom beginning September 15\, 2025. If you’d like to join\, please contact Nancy Henkes at nancyhenkes4@gmail.com.
URL:https://livinghopect.org/event/womens-book-prayer-group/2027-02-08/
LOCATION:CT
CATEGORIES:Women's Ministry
ATTACH;FMTTYPE=image/jpeg:https://livinghopect.org/wp-content/uploads/2025/08/Daniel-Prayer.jpg
END:VEVENT
BEGIN:VEVENT
DTSTART;TZID=America/New_York:20270208T190000
DTEND;TZID=America/New_York:20270208T203000
DTSTAMP:20260420T031827
CREATED:20250710T192108Z
LAST-MODIFIED:20250710T194828Z
UID:10003752-1802113200-1802118600@livinghopect.org
SUMMARY:Re:generation
DESCRIPTION:Re:generation is a Christ-centered\, disciple-making ministry in men-only and women-only closed groups. Through a biblical 12-step discipleship process\, Re:generation recovery walks you through the pain\, hurt\, sin\, and brokenness in your life–the things you’ve done and the things that were done to you– so you can begin to experience hope\, peace\, joy\, and a life of purpose. By working through biblical steps within an authentic community\, people have found freedom from all sorts of personal struggles such as anxiety\, substance abuse\, codependency\, and more.
URL:https://livinghopect.org/event/regeneration/2027-02-08/
LOCATION:Living Hope Community Church\, 38 West End Avenue\, Old Greenwich\, CT\, 06870\, United States
ATTACH;FMTTYPE=image/jpeg:https://livinghopect.org/wp-content/uploads/2025/07/ReGen_1Line_Full_Tagline_Primary-1.jpg
END:VEVENT
BEGIN:VEVENT
DTSTART;TZID=America/New_York:20270210T190000
DTEND;TZID=America/New_York:20270210T203000
DTSTAMP:20260420T031827
CREATED:20260129T220429Z
LAST-MODIFIED:20260408T135219Z
UID:10005978-1802286000-1802291400@livinghopect.org
SUMMARY:Unity in Community Series
DESCRIPTION:Come explore what the Scriptures teach us about how God calls us to love one another as brothers and sisters in Christ. This is vital training for every Christian to understand God’s plan for His covenant community\, the Church. We will have light food from 6:30-7 pm and childcare upon request. \nWednesdays from 7-8:30 pm starting April 15
URL:https://livinghopect.org/event/unity-in-community-series/2027-02-10/
LOCATION:Living Hope Community Church\, 38 West End Avenue\, Old Greenwich\, CT\, 06870\, United States
CATEGORIES:Grow Night
ATTACH;FMTTYPE=image/jpeg:https://livinghopect.org/wp-content/uploads/2026/01/IMG_7996.jpeg
ORGANIZER;CN="office":MAILTO:office@livinghopect.org
END:VEVENT
BEGIN:VEVENT
DTSTART;TZID=America/New_York:20270211T190000
DTEND;TZID=America/New_York:20270211T203000
DTSTAMP:20260420T031827
CREATED:20250331T142130Z
LAST-MODIFIED:20250806T152001Z
UID:10000669-1802372400-1802377800@livinghopect.org
SUMMARY:Thursdays: Group for Young Adults
DESCRIPTION:  \n\n\n\nGroup for Young Adults in their 20s and 30s \n\n\n\n7 – 8:30 PM \n\n\n\nDinner provided!
URL:https://livinghopect.org/event/thursdays-group-for-young-adults/2027-02-11/
LOCATION:Living Hope Community Church\, 38 West End Ave\, Old Greenwich\, CT\, 10118\, United States
CATEGORIES:Young Adults Group
ATTACH;FMTTYPE=image/jpeg:https://livinghopect.org/wp-content/uploads/2025/08/IMG_8860-1-3-scaled.jpg
END:VEVENT
BEGIN:VEVENT
DTSTART;TZID=America/New_York:20270213T080000
DTEND;TZID=America/New_York:20270213T093000
DTSTAMP:20260420T031827
CREATED:20250331T142734Z
LAST-MODIFIED:20251230T162414Z
UID:10001932-1802505600-1802511000@livinghopect.org
SUMMARY:Saturdays: Men's Fellowship
DESCRIPTION:Men are invited to a meaningful journey through The Measure of a Man by Gene A. Getz\, as we explore God’s call to faith\, character\, and leadership in everyday life. \nBooks are available for purchase at church\, $20 each. \nSign up on Realm \nhttps://onrealm.org/livinghopect/PublicRegistrations/Event?linkString=NjlhOGViN2MtZmZiZS00ZTMxLWE4NjItYjNiNTAxMjdkZmQz \n\n\n\n\n\n 
URL:https://livinghopect.org/event/saturdays-mens-fellowship8am/2027-02-13/
LOCATION:Living Hope Community Church\, 38 West End Ave\, Old Greenwich\, CT\, 10118\, United States
CATEGORIES:Men's Ministry
ATTACH;FMTTYPE=image/jpeg:https://livinghopect.org/wp-content/uploads/2025/03/measure-of-a-man.jpeg
END:VEVENT
BEGIN:VEVENT
DTSTART;TZID=America/New_York:20270214T084500
DTEND;TZID=America/New_York:20270214T094500
DTSTAMP:20260420T031827
CREATED:20260128T221920Z
LAST-MODIFIED:20260129T184020Z
UID:10005537-1802594700-1802598300@livinghopect.org
SUMMARY:Isaiah Bible Study
DESCRIPTION:This 12-week study facilitated by Rick and Amy Lutz\, will begin promptly at 8:45AM on Sunday mornings. \nThe book of Isaiah is famous for its extensive prophecies about Jesus Christ the Messiah\, God’s judgment\, and future salvation\, making it a cornerstone of Old Testament prophecy and influencing Christian theology extensively. \nPlease have Chapter 1 completed for the first meeting\, as you’ll be jumping right into this profoundly significant prophetic work! \nSunday\, February 8 at 8:45am
URL:https://livinghopect.org/event/isaiah-bible-study/2027-02-14/
LOCATION:Living Hope Community Church\, 38 West End Avenue\, Old Greenwich\, CT\, 06870\, United States
CATEGORIES:Bible Study
ATTACH;FMTTYPE=image/jpeg:https://livinghopect.org/wp-content/uploads/2026/01/Isaiah-Bible-Study.jpg
ORGANIZER;CN="office":MAILTO:office@livinghopect.org
END:VEVENT
BEGIN:VEVENT
DTSTART;TZID=America/New_York:20270214T090000
DTEND;TZID=America/New_York:20270214T100000
DTSTAMP:20260420T031827
CREATED:20250623T215707Z
LAST-MODIFIED:20250623T215914Z
UID:10003440-1802595600-1802599200@livinghopect.org
SUMMARY:Forum for Fathers
DESCRIPTION:Are you a man with or who has kids or family members with ADHD? We meet Sundays at 9AM at the church to pray\, seek God\, and encourage each other. Contact Todd.klair@gmail.com for more info.
URL:https://livinghopect.org/event/forum-for-fathers/2027-02-14/
LOCATION:Living Hope Community Church\, 38 West End Avenue\, Old Greenwich\, CT\, 06870\, United States
CATEGORIES:Men's Ministry
ATTACH;FMTTYPE=image/jpeg:https://livinghopect.org/wp-content/uploads/2025/06/ADHD-image-scaled.jpg
END:VEVENT
BEGIN:VEVENT
DTSTART;TZID=America/New_York:20270214T100000
DTEND;TZID=America/New_York:20270214T111500
DTSTAMP:20260420T031827
CREATED:20250331T143248Z
LAST-MODIFIED:20250610T142532Z
UID:10000175-1802599200-1802603700@livinghopect.org
SUMMARY:Sundays: Worship Service
DESCRIPTION: 
URL:https://livinghopect.org/event/sundays-morning-services/2027-02-14/
LOCATION:Living Hope Community Church\, 38 West End Ave\, Old Greenwich\, CT\, 10118\, United States
CATEGORIES:Sunday Services
ATTACH;FMTTYPE=image/jpeg:https://livinghopect.org/wp-content/uploads/2025/03/sunday-service-e1741750136601.jpeg
END:VEVENT
BEGIN:VEVENT
DTSTART;TZID=America/New_York:20270215T113000
DTEND;TZID=America/New_York:20270215T113000
DTSTAMP:20260420T031827
CREATED:20250809T182821Z
LAST-MODIFIED:20250828T191333Z
UID:10003930-1802691000-1802691000@livinghopect.org
SUMMARY:Women's Book/Prayer Group
DESCRIPTION:The Women’s Book/Prayer Group meets Mondays 11:30-12:45 on Zoom beginning September 15\, 2025. If you’d like to join\, please contact Nancy Henkes at nancyhenkes4@gmail.com.
URL:https://livinghopect.org/event/womens-book-prayer-group/2027-02-15/
LOCATION:CT
CATEGORIES:Women's Ministry
ATTACH;FMTTYPE=image/jpeg:https://livinghopect.org/wp-content/uploads/2025/08/Daniel-Prayer.jpg
END:VEVENT
BEGIN:VEVENT
DTSTART;TZID=America/New_York:20270215T190000
DTEND;TZID=America/New_York:20270215T203000
DTSTAMP:20260420T031827
CREATED:20250710T192108Z
LAST-MODIFIED:20250710T194828Z
UID:10003753-1802718000-1802723400@livinghopect.org
SUMMARY:Re:generation
DESCRIPTION:Re:generation is a Christ-centered\, disciple-making ministry in men-only and women-only closed groups. Through a biblical 12-step discipleship process\, Re:generation recovery walks you through the pain\, hurt\, sin\, and brokenness in your life–the things you’ve done and the things that were done to you– so you can begin to experience hope\, peace\, joy\, and a life of purpose. By working through biblical steps within an authentic community\, people have found freedom from all sorts of personal struggles such as anxiety\, substance abuse\, codependency\, and more.
URL:https://livinghopect.org/event/regeneration/2027-02-15/
LOCATION:Living Hope Community Church\, 38 West End Avenue\, Old Greenwich\, CT\, 06870\, United States
ATTACH;FMTTYPE=image/jpeg:https://livinghopect.org/wp-content/uploads/2025/07/ReGen_1Line_Full_Tagline_Primary-1.jpg
END:VEVENT
BEGIN:VEVENT
DTSTART;TZID=America/New_York:20270217T190000
DTEND;TZID=America/New_York:20270217T203000
DTSTAMP:20260420T031827
CREATED:20260129T220429Z
LAST-MODIFIED:20260408T135219Z
UID:10005979-1802890800-1802896200@livinghopect.org
SUMMARY:Unity in Community Series
DESCRIPTION:Come explore what the Scriptures teach us about how God calls us to love one another as brothers and sisters in Christ. This is vital training for every Christian to understand God’s plan for His covenant community\, the Church. We will have light food from 6:30-7 pm and childcare upon request. \nWednesdays from 7-8:30 pm starting April 15
URL:https://livinghopect.org/event/unity-in-community-series/2027-02-17/
LOCATION:Living Hope Community Church\, 38 West End Avenue\, Old Greenwich\, CT\, 06870\, United States
CATEGORIES:Grow Night
ATTACH;FMTTYPE=image/jpeg:https://livinghopect.org/wp-content/uploads/2026/01/IMG_7996.jpeg
ORGANIZER;CN="office":MAILTO:office@livinghopect.org
END:VEVENT
BEGIN:VEVENT
DTSTART;TZID=America/New_York:20270218T190000
DTEND;TZID=America/New_York:20270218T203000
DTSTAMP:20260420T031827
CREATED:20250331T142130Z
LAST-MODIFIED:20250806T152001Z
UID:10000670-1802977200-1802982600@livinghopect.org
SUMMARY:Thursdays: Group for Young Adults
DESCRIPTION:  \n\n\n\nGroup for Young Adults in their 20s and 30s \n\n\n\n7 – 8:30 PM \n\n\n\nDinner provided!
URL:https://livinghopect.org/event/thursdays-group-for-young-adults/2027-02-18/
LOCATION:Living Hope Community Church\, 38 West End Ave\, Old Greenwich\, CT\, 10118\, United States
CATEGORIES:Young Adults Group
ATTACH;FMTTYPE=image/jpeg:https://livinghopect.org/wp-content/uploads/2025/08/IMG_8860-1-3-scaled.jpg
END:VEVENT
END:VCALENDAR