BEGIN:VCALENDAR
VERSION:2.0
PRODID:-//Living Hope Church Community CT - ECPv6.15.19//NONSGML v1.0//EN
CALSCALE:GREGORIAN
METHOD:PUBLISH
X-ORIGINAL-URL:https://livinghopect.org
X-WR-CALDESC:Events for Living Hope Church Community CT
REFRESH-INTERVAL;VALUE=DURATION:PT1H
X-Robots-Tag:noindex
X-PUBLISHED-TTL:PT1H
BEGIN:VTIMEZONE
TZID:America/New_York
BEGIN:DAYLIGHT
TZOFFSETFROM:-0500
TZOFFSETTO:-0400
TZNAME:EDT
DTSTART:20280312T070000
END:DAYLIGHT
BEGIN:STANDARD
TZOFFSETFROM:-0400
TZOFFSETTO:-0500
TZNAME:EST
DTSTART:20281105T060000
END:STANDARD
BEGIN:DAYLIGHT
TZOFFSETFROM:-0500
TZOFFSETTO:-0400
TZNAME:EDT
DTSTART:20290311T070000
END:DAYLIGHT
BEGIN:STANDARD
TZOFFSETFROM:-0400
TZOFFSETTO:-0500
TZNAME:EST
DTSTART:20291104T060000
END:STANDARD
BEGIN:DAYLIGHT
TZOFFSETFROM:-0500
TZOFFSETTO:-0400
TZNAME:EDT
DTSTART:20300310T070000
END:DAYLIGHT
BEGIN:STANDARD
TZOFFSETFROM:-0400
TZOFFSETTO:-0500
TZNAME:EST
DTSTART:20301103T060000
END:STANDARD
BEGIN:DAYLIGHT
TZOFFSETFROM:-0500
TZOFFSETTO:-0400
TZNAME:EDT
DTSTART:20310309T070000
END:DAYLIGHT
BEGIN:STANDARD
TZOFFSETFROM:-0400
TZOFFSETTO:-0500
TZNAME:EST
DTSTART:20311102T060000
END:STANDARD
END:VTIMEZONE
BEGIN:VEVENT
DTSTART;TZID=America/New_York:20290712T190000
DTEND;TZID=America/New_York:20290712T203000
DTSTAMP:20260419T150145
CREATED:20250331T142130Z
LAST-MODIFIED:20250806T152001Z
UID:10000795-1878577200-1878582600@livinghopect.org
SUMMARY:Thursdays: Group for Young Adults
DESCRIPTION:  \n\n\n\nGroup for Young Adults in their 20s and 30s \n\n\n\n7 – 8:30 PM \n\n\n\nDinner provided!
URL:https://livinghopect.org/event/thursdays-group-for-young-adults/2029-07-12/
LOCATION:Living Hope Community Church\, 38 West End Ave\, Old Greenwich\, CT\, 10118\, United States
CATEGORIES:Young Adults Group
ATTACH;FMTTYPE=image/jpeg:https://livinghopect.org/wp-content/uploads/2025/08/IMG_8860-1-3-scaled.jpg
END:VEVENT
BEGIN:VEVENT
DTSTART;TZID=America/New_York:20290719T190000
DTEND;TZID=America/New_York:20290719T203000
DTSTAMP:20260419T150145
CREATED:20250331T142130Z
LAST-MODIFIED:20250806T152001Z
UID:10000796-1879182000-1879187400@livinghopect.org
SUMMARY:Thursdays: Group for Young Adults
DESCRIPTION:  \n\n\n\nGroup for Young Adults in their 20s and 30s \n\n\n\n7 – 8:30 PM \n\n\n\nDinner provided!
URL:https://livinghopect.org/event/thursdays-group-for-young-adults/2029-07-19/
LOCATION:Living Hope Community Church\, 38 West End Ave\, Old Greenwich\, CT\, 10118\, United States
CATEGORIES:Young Adults Group
ATTACH;FMTTYPE=image/jpeg:https://livinghopect.org/wp-content/uploads/2025/08/IMG_8860-1-3-scaled.jpg
END:VEVENT
BEGIN:VEVENT
DTSTART;TZID=America/New_York:20290726T190000
DTEND;TZID=America/New_York:20290726T203000
DTSTAMP:20260419T150145
CREATED:20250331T142130Z
LAST-MODIFIED:20250806T152001Z
UID:10000797-1879786800-1879792200@livinghopect.org
SUMMARY:Thursdays: Group for Young Adults
DESCRIPTION:  \n\n\n\nGroup for Young Adults in their 20s and 30s \n\n\n\n7 – 8:30 PM \n\n\n\nDinner provided!
URL:https://livinghopect.org/event/thursdays-group-for-young-adults/2029-07-26/
LOCATION:Living Hope Community Church\, 38 West End Ave\, Old Greenwich\, CT\, 10118\, United States
CATEGORIES:Young Adults Group
ATTACH;FMTTYPE=image/jpeg:https://livinghopect.org/wp-content/uploads/2025/08/IMG_8860-1-3-scaled.jpg
END:VEVENT
BEGIN:VEVENT
DTSTART;TZID=America/New_York:20290802T190000
DTEND;TZID=America/New_York:20290802T203000
DTSTAMP:20260419T150145
CREATED:20250331T142130Z
LAST-MODIFIED:20250806T152001Z
UID:10000798-1880391600-1880397000@livinghopect.org
SUMMARY:Thursdays: Group for Young Adults
DESCRIPTION:  \n\n\n\nGroup for Young Adults in their 20s and 30s \n\n\n\n7 – 8:30 PM \n\n\n\nDinner provided!
URL:https://livinghopect.org/event/thursdays-group-for-young-adults/2029-08-02/
LOCATION:Living Hope Community Church\, 38 West End Ave\, Old Greenwich\, CT\, 10118\, United States
CATEGORIES:Young Adults Group
ATTACH;FMTTYPE=image/jpeg:https://livinghopect.org/wp-content/uploads/2025/08/IMG_8860-1-3-scaled.jpg
END:VEVENT
BEGIN:VEVENT
DTSTART;TZID=America/New_York:20290809T190000
DTEND;TZID=America/New_York:20290809T203000
DTSTAMP:20260419T150145
CREATED:20250331T142130Z
LAST-MODIFIED:20250806T152001Z
UID:10000799-1880996400-1881001800@livinghopect.org
SUMMARY:Thursdays: Group for Young Adults
DESCRIPTION:  \n\n\n\nGroup for Young Adults in their 20s and 30s \n\n\n\n7 – 8:30 PM \n\n\n\nDinner provided!
URL:https://livinghopect.org/event/thursdays-group-for-young-adults/2029-08-09/
LOCATION:Living Hope Community Church\, 38 West End Ave\, Old Greenwich\, CT\, 10118\, United States
CATEGORIES:Young Adults Group
ATTACH;FMTTYPE=image/jpeg:https://livinghopect.org/wp-content/uploads/2025/08/IMG_8860-1-3-scaled.jpg
END:VEVENT
BEGIN:VEVENT
DTSTART;TZID=America/New_York:20290816T190000
DTEND;TZID=America/New_York:20290816T203000
DTSTAMP:20260419T150145
CREATED:20250331T142130Z
LAST-MODIFIED:20250806T152001Z
UID:10000800-1881601200-1881606600@livinghopect.org
SUMMARY:Thursdays: Group for Young Adults
DESCRIPTION:  \n\n\n\nGroup for Young Adults in their 20s and 30s \n\n\n\n7 – 8:30 PM \n\n\n\nDinner provided!
URL:https://livinghopect.org/event/thursdays-group-for-young-adults/2029-08-16/
LOCATION:Living Hope Community Church\, 38 West End Ave\, Old Greenwich\, CT\, 10118\, United States
CATEGORIES:Young Adults Group
ATTACH;FMTTYPE=image/jpeg:https://livinghopect.org/wp-content/uploads/2025/08/IMG_8860-1-3-scaled.jpg
END:VEVENT
BEGIN:VEVENT
DTSTART;TZID=America/New_York:20290823T190000
DTEND;TZID=America/New_York:20290823T203000
DTSTAMP:20260419T150145
CREATED:20250331T142130Z
LAST-MODIFIED:20250806T152001Z
UID:10000801-1882206000-1882211400@livinghopect.org
SUMMARY:Thursdays: Group for Young Adults
DESCRIPTION:  \n\n\n\nGroup for Young Adults in their 20s and 30s \n\n\n\n7 – 8:30 PM \n\n\n\nDinner provided!
URL:https://livinghopect.org/event/thursdays-group-for-young-adults/2029-08-23/
LOCATION:Living Hope Community Church\, 38 West End Ave\, Old Greenwich\, CT\, 10118\, United States
CATEGORIES:Young Adults Group
ATTACH;FMTTYPE=image/jpeg:https://livinghopect.org/wp-content/uploads/2025/08/IMG_8860-1-3-scaled.jpg
END:VEVENT
BEGIN:VEVENT
DTSTART;TZID=America/New_York:20290830T190000
DTEND;TZID=America/New_York:20290830T203000
DTSTAMP:20260419T150145
CREATED:20250331T142130Z
LAST-MODIFIED:20250806T152001Z
UID:10000802-1882810800-1882816200@livinghopect.org
SUMMARY:Thursdays: Group for Young Adults
DESCRIPTION:  \n\n\n\nGroup for Young Adults in their 20s and 30s \n\n\n\n7 – 8:30 PM \n\n\n\nDinner provided!
URL:https://livinghopect.org/event/thursdays-group-for-young-adults/2029-08-30/
LOCATION:Living Hope Community Church\, 38 West End Ave\, Old Greenwich\, CT\, 10118\, United States
CATEGORIES:Young Adults Group
ATTACH;FMTTYPE=image/jpeg:https://livinghopect.org/wp-content/uploads/2025/08/IMG_8860-1-3-scaled.jpg
END:VEVENT
BEGIN:VEVENT
DTSTART;TZID=America/New_York:20290906T190000
DTEND;TZID=America/New_York:20290906T203000
DTSTAMP:20260419T150145
CREATED:20250331T142130Z
LAST-MODIFIED:20250806T152001Z
UID:10000803-1883415600-1883421000@livinghopect.org
SUMMARY:Thursdays: Group for Young Adults
DESCRIPTION:  \n\n\n\nGroup for Young Adults in their 20s and 30s \n\n\n\n7 – 8:30 PM \n\n\n\nDinner provided!
URL:https://livinghopect.org/event/thursdays-group-for-young-adults/2029-09-06/
LOCATION:Living Hope Community Church\, 38 West End Ave\, Old Greenwich\, CT\, 10118\, United States
CATEGORIES:Young Adults Group
ATTACH;FMTTYPE=image/jpeg:https://livinghopect.org/wp-content/uploads/2025/08/IMG_8860-1-3-scaled.jpg
END:VEVENT
BEGIN:VEVENT
DTSTART;TZID=America/New_York:20290913T190000
DTEND;TZID=America/New_York:20290913T203000
DTSTAMP:20260419T150145
CREATED:20250331T142130Z
LAST-MODIFIED:20250806T152001Z
UID:10000804-1884020400-1884025800@livinghopect.org
SUMMARY:Thursdays: Group for Young Adults
DESCRIPTION:  \n\n\n\nGroup for Young Adults in their 20s and 30s \n\n\n\n7 – 8:30 PM \n\n\n\nDinner provided!
URL:https://livinghopect.org/event/thursdays-group-for-young-adults/2029-09-13/
LOCATION:Living Hope Community Church\, 38 West End Ave\, Old Greenwich\, CT\, 10118\, United States
CATEGORIES:Young Adults Group
ATTACH;FMTTYPE=image/jpeg:https://livinghopect.org/wp-content/uploads/2025/08/IMG_8860-1-3-scaled.jpg
END:VEVENT
BEGIN:VEVENT
DTSTART;TZID=America/New_York:20290920T190000
DTEND;TZID=America/New_York:20290920T203000
DTSTAMP:20260419T150145
CREATED:20250331T142130Z
LAST-MODIFIED:20250806T152001Z
UID:10000805-1884625200-1884630600@livinghopect.org
SUMMARY:Thursdays: Group for Young Adults
DESCRIPTION:  \n\n\n\nGroup for Young Adults in their 20s and 30s \n\n\n\n7 – 8:30 PM \n\n\n\nDinner provided!
URL:https://livinghopect.org/event/thursdays-group-for-young-adults/2029-09-20/
LOCATION:Living Hope Community Church\, 38 West End Ave\, Old Greenwich\, CT\, 10118\, United States
CATEGORIES:Young Adults Group
ATTACH;FMTTYPE=image/jpeg:https://livinghopect.org/wp-content/uploads/2025/08/IMG_8860-1-3-scaled.jpg
END:VEVENT
BEGIN:VEVENT
DTSTART;TZID=America/New_York:20290927T190000
DTEND;TZID=America/New_York:20290927T203000
DTSTAMP:20260419T150145
CREATED:20250331T142130Z
LAST-MODIFIED:20250806T152001Z
UID:10000806-1885230000-1885235400@livinghopect.org
SUMMARY:Thursdays: Group for Young Adults
DESCRIPTION:  \n\n\n\nGroup for Young Adults in their 20s and 30s \n\n\n\n7 – 8:30 PM \n\n\n\nDinner provided!
URL:https://livinghopect.org/event/thursdays-group-for-young-adults/2029-09-27/
LOCATION:Living Hope Community Church\, 38 West End Ave\, Old Greenwich\, CT\, 10118\, United States
CATEGORIES:Young Adults Group
ATTACH;FMTTYPE=image/jpeg:https://livinghopect.org/wp-content/uploads/2025/08/IMG_8860-1-3-scaled.jpg
END:VEVENT
BEGIN:VEVENT
DTSTART;TZID=America/New_York:20291004T190000
DTEND;TZID=America/New_York:20291004T203000
DTSTAMP:20260419T150145
CREATED:20250331T142130Z
LAST-MODIFIED:20250806T152001Z
UID:10000807-1885834800-1885840200@livinghopect.org
SUMMARY:Thursdays: Group for Young Adults
DESCRIPTION:  \n\n\n\nGroup for Young Adults in their 20s and 30s \n\n\n\n7 – 8:30 PM \n\n\n\nDinner provided!
URL:https://livinghopect.org/event/thursdays-group-for-young-adults/2029-10-04/
LOCATION:Living Hope Community Church\, 38 West End Ave\, Old Greenwich\, CT\, 10118\, United States
CATEGORIES:Young Adults Group
ATTACH;FMTTYPE=image/jpeg:https://livinghopect.org/wp-content/uploads/2025/08/IMG_8860-1-3-scaled.jpg
END:VEVENT
BEGIN:VEVENT
DTSTART;TZID=America/New_York:20291011T190000
DTEND;TZID=America/New_York:20291011T203000
DTSTAMP:20260419T150145
CREATED:20250331T142130Z
LAST-MODIFIED:20250806T152001Z
UID:10000808-1886439600-1886445000@livinghopect.org
SUMMARY:Thursdays: Group for Young Adults
DESCRIPTION:  \n\n\n\nGroup for Young Adults in their 20s and 30s \n\n\n\n7 – 8:30 PM \n\n\n\nDinner provided!
URL:https://livinghopect.org/event/thursdays-group-for-young-adults/2029-10-11/
LOCATION:Living Hope Community Church\, 38 West End Ave\, Old Greenwich\, CT\, 10118\, United States
CATEGORIES:Young Adults Group
ATTACH;FMTTYPE=image/jpeg:https://livinghopect.org/wp-content/uploads/2025/08/IMG_8860-1-3-scaled.jpg
END:VEVENT
BEGIN:VEVENT
DTSTART;TZID=America/New_York:20291018T190000
DTEND;TZID=America/New_York:20291018T203000
DTSTAMP:20260419T150145
CREATED:20250331T142130Z
LAST-MODIFIED:20250806T152001Z
UID:10000809-1887044400-1887049800@livinghopect.org
SUMMARY:Thursdays: Group for Young Adults
DESCRIPTION:  \n\n\n\nGroup for Young Adults in their 20s and 30s \n\n\n\n7 – 8:30 PM \n\n\n\nDinner provided!
URL:https://livinghopect.org/event/thursdays-group-for-young-adults/2029-10-18/
LOCATION:Living Hope Community Church\, 38 West End Ave\, Old Greenwich\, CT\, 10118\, United States
CATEGORIES:Young Adults Group
ATTACH;FMTTYPE=image/jpeg:https://livinghopect.org/wp-content/uploads/2025/08/IMG_8860-1-3-scaled.jpg
END:VEVENT
BEGIN:VEVENT
DTSTART;TZID=America/New_York:20291025T190000
DTEND;TZID=America/New_York:20291025T203000
DTSTAMP:20260419T150145
CREATED:20250331T142130Z
LAST-MODIFIED:20250806T152001Z
UID:10000810-1887649200-1887654600@livinghopect.org
SUMMARY:Thursdays: Group for Young Adults
DESCRIPTION:  \n\n\n\nGroup for Young Adults in their 20s and 30s \n\n\n\n7 – 8:30 PM \n\n\n\nDinner provided!
URL:https://livinghopect.org/event/thursdays-group-for-young-adults/2029-10-25/
LOCATION:Living Hope Community Church\, 38 West End Ave\, Old Greenwich\, CT\, 10118\, United States
CATEGORIES:Young Adults Group
ATTACH;FMTTYPE=image/jpeg:https://livinghopect.org/wp-content/uploads/2025/08/IMG_8860-1-3-scaled.jpg
END:VEVENT
BEGIN:VEVENT
DTSTART;TZID=America/New_York:20291101T190000
DTEND;TZID=America/New_York:20291101T203000
DTSTAMP:20260419T150145
CREATED:20250331T142130Z
LAST-MODIFIED:20250806T152001Z
UID:10000811-1888254000-1888259400@livinghopect.org
SUMMARY:Thursdays: Group for Young Adults
DESCRIPTION:  \n\n\n\nGroup for Young Adults in their 20s and 30s \n\n\n\n7 – 8:30 PM \n\n\n\nDinner provided!
URL:https://livinghopect.org/event/thursdays-group-for-young-adults/2029-11-01/
LOCATION:Living Hope Community Church\, 38 West End Ave\, Old Greenwich\, CT\, 10118\, United States
CATEGORIES:Young Adults Group
ATTACH;FMTTYPE=image/jpeg:https://livinghopect.org/wp-content/uploads/2025/08/IMG_8860-1-3-scaled.jpg
END:VEVENT
BEGIN:VEVENT
DTSTART;TZID=America/New_York:20291108T190000
DTEND;TZID=America/New_York:20291108T203000
DTSTAMP:20260419T150145
CREATED:20250331T142130Z
LAST-MODIFIED:20250806T152001Z
UID:10000812-1888858800-1888864200@livinghopect.org
SUMMARY:Thursdays: Group for Young Adults
DESCRIPTION:  \n\n\n\nGroup for Young Adults in their 20s and 30s \n\n\n\n7 – 8:30 PM \n\n\n\nDinner provided!
URL:https://livinghopect.org/event/thursdays-group-for-young-adults/2029-11-08/
LOCATION:Living Hope Community Church\, 38 West End Ave\, Old Greenwich\, CT\, 10118\, United States
CATEGORIES:Young Adults Group
ATTACH;FMTTYPE=image/jpeg:https://livinghopect.org/wp-content/uploads/2025/08/IMG_8860-1-3-scaled.jpg
END:VEVENT
BEGIN:VEVENT
DTSTART;TZID=America/New_York:20291115T190000
DTEND;TZID=America/New_York:20291115T203000
DTSTAMP:20260419T150145
CREATED:20250331T142130Z
LAST-MODIFIED:20250806T152001Z
UID:10000813-1889463600-1889469000@livinghopect.org
SUMMARY:Thursdays: Group for Young Adults
DESCRIPTION:  \n\n\n\nGroup for Young Adults in their 20s and 30s \n\n\n\n7 – 8:30 PM \n\n\n\nDinner provided!
URL:https://livinghopect.org/event/thursdays-group-for-young-adults/2029-11-15/
LOCATION:Living Hope Community Church\, 38 West End Ave\, Old Greenwich\, CT\, 10118\, United States
CATEGORIES:Young Adults Group
ATTACH;FMTTYPE=image/jpeg:https://livinghopect.org/wp-content/uploads/2025/08/IMG_8860-1-3-scaled.jpg
END:VEVENT
BEGIN:VEVENT
DTSTART;TZID=America/New_York:20291122T190000
DTEND;TZID=America/New_York:20291122T203000
DTSTAMP:20260419T150145
CREATED:20250331T142130Z
LAST-MODIFIED:20250806T152001Z
UID:10000814-1890068400-1890073800@livinghopect.org
SUMMARY:Thursdays: Group for Young Adults
DESCRIPTION:  \n\n\n\nGroup for Young Adults in their 20s and 30s \n\n\n\n7 – 8:30 PM \n\n\n\nDinner provided!
URL:https://livinghopect.org/event/thursdays-group-for-young-adults/2029-11-22/
LOCATION:Living Hope Community Church\, 38 West End Ave\, Old Greenwich\, CT\, 10118\, United States
CATEGORIES:Young Adults Group
ATTACH;FMTTYPE=image/jpeg:https://livinghopect.org/wp-content/uploads/2025/08/IMG_8860-1-3-scaled.jpg
END:VEVENT
BEGIN:VEVENT
DTSTART;TZID=America/New_York:20291129T190000
DTEND;TZID=America/New_York:20291129T203000
DTSTAMP:20260419T150145
CREATED:20250331T142130Z
LAST-MODIFIED:20250806T152001Z
UID:10000815-1890673200-1890678600@livinghopect.org
SUMMARY:Thursdays: Group for Young Adults
DESCRIPTION:  \n\n\n\nGroup for Young Adults in their 20s and 30s \n\n\n\n7 – 8:30 PM \n\n\n\nDinner provided!
URL:https://livinghopect.org/event/thursdays-group-for-young-adults/2029-11-29/
LOCATION:Living Hope Community Church\, 38 West End Ave\, Old Greenwich\, CT\, 10118\, United States
CATEGORIES:Young Adults Group
ATTACH;FMTTYPE=image/jpeg:https://livinghopect.org/wp-content/uploads/2025/08/IMG_8860-1-3-scaled.jpg
END:VEVENT
BEGIN:VEVENT
DTSTART;TZID=America/New_York:20291206T190000
DTEND;TZID=America/New_York:20291206T203000
DTSTAMP:20260419T150145
CREATED:20250331T142130Z
LAST-MODIFIED:20250806T152001Z
UID:10000816-1891278000-1891283400@livinghopect.org
SUMMARY:Thursdays: Group for Young Adults
DESCRIPTION:  \n\n\n\nGroup for Young Adults in their 20s and 30s \n\n\n\n7 – 8:30 PM \n\n\n\nDinner provided!
URL:https://livinghopect.org/event/thursdays-group-for-young-adults/2029-12-06/
LOCATION:Living Hope Community Church\, 38 West End Ave\, Old Greenwich\, CT\, 10118\, United States
CATEGORIES:Young Adults Group
ATTACH;FMTTYPE=image/jpeg:https://livinghopect.org/wp-content/uploads/2025/08/IMG_8860-1-3-scaled.jpg
END:VEVENT
BEGIN:VEVENT
DTSTART;TZID=America/New_York:20291213T190000
DTEND;TZID=America/New_York:20291213T203000
DTSTAMP:20260419T150145
CREATED:20250331T142130Z
LAST-MODIFIED:20250806T152001Z
UID:10000817-1891882800-1891888200@livinghopect.org
SUMMARY:Thursdays: Group for Young Adults
DESCRIPTION:  \n\n\n\nGroup for Young Adults in their 20s and 30s \n\n\n\n7 – 8:30 PM \n\n\n\nDinner provided!
URL:https://livinghopect.org/event/thursdays-group-for-young-adults/2029-12-13/
LOCATION:Living Hope Community Church\, 38 West End Ave\, Old Greenwich\, CT\, 10118\, United States
CATEGORIES:Young Adults Group
ATTACH;FMTTYPE=image/jpeg:https://livinghopect.org/wp-content/uploads/2025/08/IMG_8860-1-3-scaled.jpg
END:VEVENT
BEGIN:VEVENT
DTSTART;TZID=America/New_York:20291220T190000
DTEND;TZID=America/New_York:20291220T203000
DTSTAMP:20260419T150145
CREATED:20250331T142130Z
LAST-MODIFIED:20250806T152001Z
UID:10000818-1892487600-1892493000@livinghopect.org
SUMMARY:Thursdays: Group for Young Adults
DESCRIPTION:  \n\n\n\nGroup for Young Adults in their 20s and 30s \n\n\n\n7 – 8:30 PM \n\n\n\nDinner provided!
URL:https://livinghopect.org/event/thursdays-group-for-young-adults/2029-12-20/
LOCATION:Living Hope Community Church\, 38 West End Ave\, Old Greenwich\, CT\, 10118\, United States
CATEGORIES:Young Adults Group
ATTACH;FMTTYPE=image/jpeg:https://livinghopect.org/wp-content/uploads/2025/08/IMG_8860-1-3-scaled.jpg
END:VEVENT
BEGIN:VEVENT
DTSTART;TZID=America/New_York:20291227T190000
DTEND;TZID=America/New_York:20291227T203000
DTSTAMP:20260419T150145
CREATED:20250331T142130Z
LAST-MODIFIED:20250806T152001Z
UID:10000819-1893092400-1893097800@livinghopect.org
SUMMARY:Thursdays: Group for Young Adults
DESCRIPTION:  \n\n\n\nGroup for Young Adults in their 20s and 30s \n\n\n\n7 – 8:30 PM \n\n\n\nDinner provided!
URL:https://livinghopect.org/event/thursdays-group-for-young-adults/2029-12-27/
LOCATION:Living Hope Community Church\, 38 West End Ave\, Old Greenwich\, CT\, 10118\, United States
CATEGORIES:Young Adults Group
ATTACH;FMTTYPE=image/jpeg:https://livinghopect.org/wp-content/uploads/2025/08/IMG_8860-1-3-scaled.jpg
END:VEVENT
BEGIN:VEVENT
DTSTART;TZID=America/New_York:20300103T190000
DTEND;TZID=America/New_York:20300103T203000
DTSTAMP:20260419T150145
CREATED:20250331T142130Z
LAST-MODIFIED:20250806T152001Z
UID:10000820-1893697200-1893702600@livinghopect.org
SUMMARY:Thursdays: Group for Young Adults
DESCRIPTION:  \n\n\n\nGroup for Young Adults in their 20s and 30s \n\n\n\n7 – 8:30 PM \n\n\n\nDinner provided!
URL:https://livinghopect.org/event/thursdays-group-for-young-adults/2030-01-03/
LOCATION:Living Hope Community Church\, 38 West End Ave\, Old Greenwich\, CT\, 10118\, United States
CATEGORIES:Young Adults Group
ATTACH;FMTTYPE=image/jpeg:https://livinghopect.org/wp-content/uploads/2025/08/IMG_8860-1-3-scaled.jpg
END:VEVENT
BEGIN:VEVENT
DTSTART;TZID=America/New_York:20300110T190000
DTEND;TZID=America/New_York:20300110T203000
DTSTAMP:20260419T150145
CREATED:20250331T142130Z
LAST-MODIFIED:20250806T152001Z
UID:10000821-1894302000-1894307400@livinghopect.org
SUMMARY:Thursdays: Group for Young Adults
DESCRIPTION:  \n\n\n\nGroup for Young Adults in their 20s and 30s \n\n\n\n7 – 8:30 PM \n\n\n\nDinner provided!
URL:https://livinghopect.org/event/thursdays-group-for-young-adults/2030-01-10/
LOCATION:Living Hope Community Church\, 38 West End Ave\, Old Greenwich\, CT\, 10118\, United States
CATEGORIES:Young Adults Group
ATTACH;FMTTYPE=image/jpeg:https://livinghopect.org/wp-content/uploads/2025/08/IMG_8860-1-3-scaled.jpg
END:VEVENT
BEGIN:VEVENT
DTSTART;TZID=America/New_York:20300117T190000
DTEND;TZID=America/New_York:20300117T203000
DTSTAMP:20260419T150145
CREATED:20250331T142130Z
LAST-MODIFIED:20250806T152001Z
UID:10000822-1894906800-1894912200@livinghopect.org
SUMMARY:Thursdays: Group for Young Adults
DESCRIPTION:  \n\n\n\nGroup for Young Adults in their 20s and 30s \n\n\n\n7 – 8:30 PM \n\n\n\nDinner provided!
URL:https://livinghopect.org/event/thursdays-group-for-young-adults/2030-01-17/
LOCATION:Living Hope Community Church\, 38 West End Ave\, Old Greenwich\, CT\, 10118\, United States
CATEGORIES:Young Adults Group
ATTACH;FMTTYPE=image/jpeg:https://livinghopect.org/wp-content/uploads/2025/08/IMG_8860-1-3-scaled.jpg
END:VEVENT
BEGIN:VEVENT
DTSTART;TZID=America/New_York:20300124T190000
DTEND;TZID=America/New_York:20300124T203000
DTSTAMP:20260419T150145
CREATED:20250331T142130Z
LAST-MODIFIED:20250806T152001Z
UID:10000823-1895511600-1895517000@livinghopect.org
SUMMARY:Thursdays: Group for Young Adults
DESCRIPTION:  \n\n\n\nGroup for Young Adults in their 20s and 30s \n\n\n\n7 – 8:30 PM \n\n\n\nDinner provided!
URL:https://livinghopect.org/event/thursdays-group-for-young-adults/2030-01-24/
LOCATION:Living Hope Community Church\, 38 West End Ave\, Old Greenwich\, CT\, 10118\, United States
CATEGORIES:Young Adults Group
ATTACH;FMTTYPE=image/jpeg:https://livinghopect.org/wp-content/uploads/2025/08/IMG_8860-1-3-scaled.jpg
END:VEVENT
BEGIN:VEVENT
DTSTART;TZID=America/New_York:20300131T190000
DTEND;TZID=America/New_York:20300131T203000
DTSTAMP:20260419T150145
CREATED:20250331T142130Z
LAST-MODIFIED:20250806T152001Z
UID:10000824-1896116400-1896121800@livinghopect.org
SUMMARY:Thursdays: Group for Young Adults
DESCRIPTION:  \n\n\n\nGroup for Young Adults in their 20s and 30s \n\n\n\n7 – 8:30 PM \n\n\n\nDinner provided!
URL:https://livinghopect.org/event/thursdays-group-for-young-adults/2030-01-31/
LOCATION:Living Hope Community Church\, 38 West End Ave\, Old Greenwich\, CT\, 10118\, United States
CATEGORIES:Young Adults Group
ATTACH;FMTTYPE=image/jpeg:https://livinghopect.org/wp-content/uploads/2025/08/IMG_8860-1-3-scaled.jpg
END:VEVENT
END:VCALENDAR