BEGIN:VCALENDAR
VERSION:2.0
PRODID:-//Living Hope Church Community CT - ECPv6.15.19//NONSGML v1.0//EN
CALSCALE:GREGORIAN
METHOD:PUBLISH
X-WR-CALNAME:Living Hope Church Community CT
X-ORIGINAL-URL:https://livinghopect.org
X-WR-CALDESC:Events for Living Hope Church Community CT
REFRESH-INTERVAL;VALUE=DURATION:PT1H
X-Robots-Tag:noindex
X-PUBLISHED-TTL:PT1H
BEGIN:VTIMEZONE
TZID:America/New_York
BEGIN:DAYLIGHT
TZOFFSETFROM:-0500
TZOFFSETTO:-0400
TZNAME:EDT
DTSTART:20260308T070000
END:DAYLIGHT
BEGIN:STANDARD
TZOFFSETFROM:-0400
TZOFFSETTO:-0500
TZNAME:EST
DTSTART:20261101T060000
END:STANDARD
BEGIN:DAYLIGHT
TZOFFSETFROM:-0500
TZOFFSETTO:-0400
TZNAME:EDT
DTSTART:20270314T070000
END:DAYLIGHT
BEGIN:STANDARD
TZOFFSETFROM:-0400
TZOFFSETTO:-0500
TZNAME:EST
DTSTART:20271107T060000
END:STANDARD
BEGIN:DAYLIGHT
TZOFFSETFROM:-0500
TZOFFSETTO:-0400
TZNAME:EDT
DTSTART:20280312T070000
END:DAYLIGHT
BEGIN:STANDARD
TZOFFSETFROM:-0400
TZOFFSETTO:-0500
TZNAME:EST
DTSTART:20281105T060000
END:STANDARD
END:VTIMEZONE
BEGIN:VEVENT
DTSTART;TZID=America/New_York:20270412T113000
DTEND;TZID=America/New_York:20270412T113000
DTSTAMP:20260422T125607
CREATED:20250809T182821Z
LAST-MODIFIED:20250828T191333Z
UID:10003938-1807529400-1807529400@livinghopect.org
SUMMARY:Women's Book/Prayer Group
DESCRIPTION:The Women’s Book/Prayer Group meets Mondays 11:30-12:45 on Zoom beginning September 15\, 2025. If you’d like to join\, please contact Nancy Henkes at nancyhenkes4@gmail.com.
URL:https://livinghopect.org/event/womens-book-prayer-group/2027-04-12/
CATEGORIES:Women's Ministry
ATTACH;FMTTYPE=image/jpeg:https://livinghopect.org/wp-content/uploads/2025/08/Daniel-Prayer.jpg
END:VEVENT
BEGIN:VEVENT
DTSTART;TZID=America/New_York:20270419T113000
DTEND;TZID=America/New_York:20270419T113000
DTSTAMP:20260422T125607
CREATED:20250809T182821Z
LAST-MODIFIED:20250828T191333Z
UID:10003939-1808134200-1808134200@livinghopect.org
SUMMARY:Women's Book/Prayer Group
DESCRIPTION:The Women’s Book/Prayer Group meets Mondays 11:30-12:45 on Zoom beginning September 15\, 2025. If you’d like to join\, please contact Nancy Henkes at nancyhenkes4@gmail.com.
URL:https://livinghopect.org/event/womens-book-prayer-group/2027-04-19/
CATEGORIES:Women's Ministry
ATTACH;FMTTYPE=image/jpeg:https://livinghopect.org/wp-content/uploads/2025/08/Daniel-Prayer.jpg
END:VEVENT
BEGIN:VEVENT
DTSTART;TZID=America/New_York:20270426T113000
DTEND;TZID=America/New_York:20270426T113000
DTSTAMP:20260422T125607
CREATED:20250809T182821Z
LAST-MODIFIED:20250828T191333Z
UID:10003940-1808739000-1808739000@livinghopect.org
SUMMARY:Women's Book/Prayer Group
DESCRIPTION:The Women’s Book/Prayer Group meets Mondays 11:30-12:45 on Zoom beginning September 15\, 2025. If you’d like to join\, please contact Nancy Henkes at nancyhenkes4@gmail.com.
URL:https://livinghopect.org/event/womens-book-prayer-group/2027-04-26/
CATEGORIES:Women's Ministry
ATTACH;FMTTYPE=image/jpeg:https://livinghopect.org/wp-content/uploads/2025/08/Daniel-Prayer.jpg
END:VEVENT
BEGIN:VEVENT
DTSTART;TZID=America/New_York:20270503T113000
DTEND;TZID=America/New_York:20270503T113000
DTSTAMP:20260422T125607
CREATED:20250809T182821Z
LAST-MODIFIED:20250828T191333Z
UID:10003941-1809343800-1809343800@livinghopect.org
SUMMARY:Women's Book/Prayer Group
DESCRIPTION:The Women’s Book/Prayer Group meets Mondays 11:30-12:45 on Zoom beginning September 15\, 2025. If you’d like to join\, please contact Nancy Henkes at nancyhenkes4@gmail.com.
URL:https://livinghopect.org/event/womens-book-prayer-group/2027-05-03/
CATEGORIES:Women's Ministry
ATTACH;FMTTYPE=image/jpeg:https://livinghopect.org/wp-content/uploads/2025/08/Daniel-Prayer.jpg
END:VEVENT
BEGIN:VEVENT
DTSTART;TZID=America/New_York:20270510T113000
DTEND;TZID=America/New_York:20270510T113000
DTSTAMP:20260422T125607
CREATED:20250809T182821Z
LAST-MODIFIED:20250828T191333Z
UID:10003942-1809948600-1809948600@livinghopect.org
SUMMARY:Women's Book/Prayer Group
DESCRIPTION:The Women’s Book/Prayer Group meets Mondays 11:30-12:45 on Zoom beginning September 15\, 2025. If you’d like to join\, please contact Nancy Henkes at nancyhenkes4@gmail.com.
URL:https://livinghopect.org/event/womens-book-prayer-group/2027-05-10/
CATEGORIES:Women's Ministry
ATTACH;FMTTYPE=image/jpeg:https://livinghopect.org/wp-content/uploads/2025/08/Daniel-Prayer.jpg
END:VEVENT
BEGIN:VEVENT
DTSTART;TZID=America/New_York:20270517T113000
DTEND;TZID=America/New_York:20270517T113000
DTSTAMP:20260422T125607
CREATED:20250809T182821Z
LAST-MODIFIED:20250828T191333Z
UID:10003943-1810553400-1810553400@livinghopect.org
SUMMARY:Women's Book/Prayer Group
DESCRIPTION:The Women’s Book/Prayer Group meets Mondays 11:30-12:45 on Zoom beginning September 15\, 2025. If you’d like to join\, please contact Nancy Henkes at nancyhenkes4@gmail.com.
URL:https://livinghopect.org/event/womens-book-prayer-group/2027-05-17/
CATEGORIES:Women's Ministry
ATTACH;FMTTYPE=image/jpeg:https://livinghopect.org/wp-content/uploads/2025/08/Daniel-Prayer.jpg
END:VEVENT
BEGIN:VEVENT
DTSTART;TZID=America/New_York:20270524T113000
DTEND;TZID=America/New_York:20270524T113000
DTSTAMP:20260422T125607
CREATED:20250809T182821Z
LAST-MODIFIED:20250828T191333Z
UID:10003944-1811158200-1811158200@livinghopect.org
SUMMARY:Women's Book/Prayer Group
DESCRIPTION:The Women’s Book/Prayer Group meets Mondays 11:30-12:45 on Zoom beginning September 15\, 2025. If you’d like to join\, please contact Nancy Henkes at nancyhenkes4@gmail.com.
URL:https://livinghopect.org/event/womens-book-prayer-group/2027-05-24/
CATEGORIES:Women's Ministry
ATTACH;FMTTYPE=image/jpeg:https://livinghopect.org/wp-content/uploads/2025/08/Daniel-Prayer.jpg
END:VEVENT
BEGIN:VEVENT
DTSTART;TZID=America/New_York:20270531T113000
DTEND;TZID=America/New_York:20270531T113000
DTSTAMP:20260422T125607
CREATED:20250809T182821Z
LAST-MODIFIED:20250828T191333Z
UID:10003945-1811763000-1811763000@livinghopect.org
SUMMARY:Women's Book/Prayer Group
DESCRIPTION:The Women’s Book/Prayer Group meets Mondays 11:30-12:45 on Zoom beginning September 15\, 2025. If you’d like to join\, please contact Nancy Henkes at nancyhenkes4@gmail.com.
URL:https://livinghopect.org/event/womens-book-prayer-group/2027-05-31/
CATEGORIES:Women's Ministry
ATTACH;FMTTYPE=image/jpeg:https://livinghopect.org/wp-content/uploads/2025/08/Daniel-Prayer.jpg
END:VEVENT
BEGIN:VEVENT
DTSTART;TZID=America/New_York:20270607T113000
DTEND;TZID=America/New_York:20270607T113000
DTSTAMP:20260422T125607
CREATED:20250809T182821Z
LAST-MODIFIED:20250828T191333Z
UID:10003946-1812367800-1812367800@livinghopect.org
SUMMARY:Women's Book/Prayer Group
DESCRIPTION:The Women’s Book/Prayer Group meets Mondays 11:30-12:45 on Zoom beginning September 15\, 2025. If you’d like to join\, please contact Nancy Henkes at nancyhenkes4@gmail.com.
URL:https://livinghopect.org/event/womens-book-prayer-group/2027-06-07/
CATEGORIES:Women's Ministry
ATTACH;FMTTYPE=image/jpeg:https://livinghopect.org/wp-content/uploads/2025/08/Daniel-Prayer.jpg
END:VEVENT
BEGIN:VEVENT
DTSTART;TZID=America/New_York:20270614T113000
DTEND;TZID=America/New_York:20270614T113000
DTSTAMP:20260422T125607
CREATED:20250809T182821Z
LAST-MODIFIED:20250828T191333Z
UID:10003947-1812972600-1812972600@livinghopect.org
SUMMARY:Women's Book/Prayer Group
DESCRIPTION:The Women’s Book/Prayer Group meets Mondays 11:30-12:45 on Zoom beginning September 15\, 2025. If you’d like to join\, please contact Nancy Henkes at nancyhenkes4@gmail.com.
URL:https://livinghopect.org/event/womens-book-prayer-group/2027-06-14/
CATEGORIES:Women's Ministry
ATTACH;FMTTYPE=image/jpeg:https://livinghopect.org/wp-content/uploads/2025/08/Daniel-Prayer.jpg
END:VEVENT
BEGIN:VEVENT
DTSTART;TZID=America/New_York:20270621T113000
DTEND;TZID=America/New_York:20270621T113000
DTSTAMP:20260422T125607
CREATED:20250809T182821Z
LAST-MODIFIED:20250828T191333Z
UID:10003948-1813577400-1813577400@livinghopect.org
SUMMARY:Women's Book/Prayer Group
DESCRIPTION:The Women’s Book/Prayer Group meets Mondays 11:30-12:45 on Zoom beginning September 15\, 2025. If you’d like to join\, please contact Nancy Henkes at nancyhenkes4@gmail.com.
URL:https://livinghopect.org/event/womens-book-prayer-group/2027-06-21/
CATEGORIES:Women's Ministry
ATTACH;FMTTYPE=image/jpeg:https://livinghopect.org/wp-content/uploads/2025/08/Daniel-Prayer.jpg
END:VEVENT
BEGIN:VEVENT
DTSTART;TZID=America/New_York:20270628T113000
DTEND;TZID=America/New_York:20270628T113000
DTSTAMP:20260422T125607
CREATED:20250809T182821Z
LAST-MODIFIED:20250828T191333Z
UID:10003949-1814182200-1814182200@livinghopect.org
SUMMARY:Women's Book/Prayer Group
DESCRIPTION:The Women’s Book/Prayer Group meets Mondays 11:30-12:45 on Zoom beginning September 15\, 2025. If you’d like to join\, please contact Nancy Henkes at nancyhenkes4@gmail.com.
URL:https://livinghopect.org/event/womens-book-prayer-group/2027-06-28/
CATEGORIES:Women's Ministry
ATTACH;FMTTYPE=image/jpeg:https://livinghopect.org/wp-content/uploads/2025/08/Daniel-Prayer.jpg
END:VEVENT
BEGIN:VEVENT
DTSTART;TZID=America/New_York:20270705T113000
DTEND;TZID=America/New_York:20270705T113000
DTSTAMP:20260422T125607
CREATED:20250809T182821Z
LAST-MODIFIED:20250828T191333Z
UID:10003950-1814787000-1814787000@livinghopect.org
SUMMARY:Women's Book/Prayer Group
DESCRIPTION:The Women’s Book/Prayer Group meets Mondays 11:30-12:45 on Zoom beginning September 15\, 2025. If you’d like to join\, please contact Nancy Henkes at nancyhenkes4@gmail.com.
URL:https://livinghopect.org/event/womens-book-prayer-group/2027-07-05/
CATEGORIES:Women's Ministry
ATTACH;FMTTYPE=image/jpeg:https://livinghopect.org/wp-content/uploads/2025/08/Daniel-Prayer.jpg
END:VEVENT
BEGIN:VEVENT
DTSTART;TZID=America/New_York:20270712T113000
DTEND;TZID=America/New_York:20270712T113000
DTSTAMP:20260422T125607
CREATED:20250809T182821Z
LAST-MODIFIED:20250828T191333Z
UID:10003951-1815391800-1815391800@livinghopect.org
SUMMARY:Women's Book/Prayer Group
DESCRIPTION:The Women’s Book/Prayer Group meets Mondays 11:30-12:45 on Zoom beginning September 15\, 2025. If you’d like to join\, please contact Nancy Henkes at nancyhenkes4@gmail.com.
URL:https://livinghopect.org/event/womens-book-prayer-group/2027-07-12/
CATEGORIES:Women's Ministry
ATTACH;FMTTYPE=image/jpeg:https://livinghopect.org/wp-content/uploads/2025/08/Daniel-Prayer.jpg
END:VEVENT
BEGIN:VEVENT
DTSTART;TZID=America/New_York:20270719T113000
DTEND;TZID=America/New_York:20270719T113000
DTSTAMP:20260422T125607
CREATED:20250809T182821Z
LAST-MODIFIED:20250828T191333Z
UID:10003952-1815996600-1815996600@livinghopect.org
SUMMARY:Women's Book/Prayer Group
DESCRIPTION:The Women’s Book/Prayer Group meets Mondays 11:30-12:45 on Zoom beginning September 15\, 2025. If you’d like to join\, please contact Nancy Henkes at nancyhenkes4@gmail.com.
URL:https://livinghopect.org/event/womens-book-prayer-group/2027-07-19/
CATEGORIES:Women's Ministry
ATTACH;FMTTYPE=image/jpeg:https://livinghopect.org/wp-content/uploads/2025/08/Daniel-Prayer.jpg
END:VEVENT
BEGIN:VEVENT
DTSTART;TZID=America/New_York:20270726T113000
DTEND;TZID=America/New_York:20270726T113000
DTSTAMP:20260422T125607
CREATED:20250809T182821Z
LAST-MODIFIED:20250828T191333Z
UID:10003953-1816601400-1816601400@livinghopect.org
SUMMARY:Women's Book/Prayer Group
DESCRIPTION:The Women’s Book/Prayer Group meets Mondays 11:30-12:45 on Zoom beginning September 15\, 2025. If you’d like to join\, please contact Nancy Henkes at nancyhenkes4@gmail.com.
URL:https://livinghopect.org/event/womens-book-prayer-group/2027-07-26/
CATEGORIES:Women's Ministry
ATTACH;FMTTYPE=image/jpeg:https://livinghopect.org/wp-content/uploads/2025/08/Daniel-Prayer.jpg
END:VEVENT
BEGIN:VEVENT
DTSTART;TZID=America/New_York:20270802T113000
DTEND;TZID=America/New_York:20270802T113000
DTSTAMP:20260422T125607
CREATED:20250809T182821Z
LAST-MODIFIED:20250828T191333Z
UID:10003954-1817206200-1817206200@livinghopect.org
SUMMARY:Women's Book/Prayer Group
DESCRIPTION:The Women’s Book/Prayer Group meets Mondays 11:30-12:45 on Zoom beginning September 15\, 2025. If you’d like to join\, please contact Nancy Henkes at nancyhenkes4@gmail.com.
URL:https://livinghopect.org/event/womens-book-prayer-group/2027-08-02/
CATEGORIES:Women's Ministry
ATTACH;FMTTYPE=image/jpeg:https://livinghopect.org/wp-content/uploads/2025/08/Daniel-Prayer.jpg
END:VEVENT
BEGIN:VEVENT
DTSTART;TZID=America/New_York:20270809T113000
DTEND;TZID=America/New_York:20270809T113000
DTSTAMP:20260422T125607
CREATED:20250809T182821Z
LAST-MODIFIED:20250828T191333Z
UID:10003955-1817811000-1817811000@livinghopect.org
SUMMARY:Women's Book/Prayer Group
DESCRIPTION:The Women’s Book/Prayer Group meets Mondays 11:30-12:45 on Zoom beginning September 15\, 2025. If you’d like to join\, please contact Nancy Henkes at nancyhenkes4@gmail.com.
URL:https://livinghopect.org/event/womens-book-prayer-group/2027-08-09/
CATEGORIES:Women's Ministry
ATTACH;FMTTYPE=image/jpeg:https://livinghopect.org/wp-content/uploads/2025/08/Daniel-Prayer.jpg
END:VEVENT
BEGIN:VEVENT
DTSTART;TZID=America/New_York:20270816T113000
DTEND;TZID=America/New_York:20270816T113000
DTSTAMP:20260422T125607
CREATED:20250809T182821Z
LAST-MODIFIED:20250828T191333Z
UID:10003956-1818415800-1818415800@livinghopect.org
SUMMARY:Women's Book/Prayer Group
DESCRIPTION:The Women’s Book/Prayer Group meets Mondays 11:30-12:45 on Zoom beginning September 15\, 2025. If you’d like to join\, please contact Nancy Henkes at nancyhenkes4@gmail.com.
URL:https://livinghopect.org/event/womens-book-prayer-group/2027-08-16/
CATEGORIES:Women's Ministry
ATTACH;FMTTYPE=image/jpeg:https://livinghopect.org/wp-content/uploads/2025/08/Daniel-Prayer.jpg
END:VEVENT
BEGIN:VEVENT
DTSTART;TZID=America/New_York:20270823T113000
DTEND;TZID=America/New_York:20270823T113000
DTSTAMP:20260422T125607
CREATED:20250809T182821Z
LAST-MODIFIED:20250828T191333Z
UID:10003957-1819020600-1819020600@livinghopect.org
SUMMARY:Women's Book/Prayer Group
DESCRIPTION:The Women’s Book/Prayer Group meets Mondays 11:30-12:45 on Zoom beginning September 15\, 2025. If you’d like to join\, please contact Nancy Henkes at nancyhenkes4@gmail.com.
URL:https://livinghopect.org/event/womens-book-prayer-group/2027-08-23/
CATEGORIES:Women's Ministry
ATTACH;FMTTYPE=image/jpeg:https://livinghopect.org/wp-content/uploads/2025/08/Daniel-Prayer.jpg
END:VEVENT
BEGIN:VEVENT
DTSTART;TZID=America/New_York:20270830T113000
DTEND;TZID=America/New_York:20270830T113000
DTSTAMP:20260422T125607
CREATED:20250809T182821Z
LAST-MODIFIED:20250828T191333Z
UID:10003958-1819625400-1819625400@livinghopect.org
SUMMARY:Women's Book/Prayer Group
DESCRIPTION:The Women’s Book/Prayer Group meets Mondays 11:30-12:45 on Zoom beginning September 15\, 2025. If you’d like to join\, please contact Nancy Henkes at nancyhenkes4@gmail.com.
URL:https://livinghopect.org/event/womens-book-prayer-group/2027-08-30/
CATEGORIES:Women's Ministry
ATTACH;FMTTYPE=image/jpeg:https://livinghopect.org/wp-content/uploads/2025/08/Daniel-Prayer.jpg
END:VEVENT
BEGIN:VEVENT
DTSTART;TZID=America/New_York:20270906T113000
DTEND;TZID=America/New_York:20270906T113000
DTSTAMP:20260422T125607
CREATED:20250809T182821Z
LAST-MODIFIED:20250828T191333Z
UID:10003959-1820230200-1820230200@livinghopect.org
SUMMARY:Women's Book/Prayer Group
DESCRIPTION:The Women’s Book/Prayer Group meets Mondays 11:30-12:45 on Zoom beginning September 15\, 2025. If you’d like to join\, please contact Nancy Henkes at nancyhenkes4@gmail.com.
URL:https://livinghopect.org/event/womens-book-prayer-group/2027-09-06/
CATEGORIES:Women's Ministry
ATTACH;FMTTYPE=image/jpeg:https://livinghopect.org/wp-content/uploads/2025/08/Daniel-Prayer.jpg
END:VEVENT
BEGIN:VEVENT
DTSTART;TZID=America/New_York:20270913T113000
DTEND;TZID=America/New_York:20270913T113000
DTSTAMP:20260422T125607
CREATED:20250809T182821Z
LAST-MODIFIED:20250828T191333Z
UID:10003960-1820835000-1820835000@livinghopect.org
SUMMARY:Women's Book/Prayer Group
DESCRIPTION:The Women’s Book/Prayer Group meets Mondays 11:30-12:45 on Zoom beginning September 15\, 2025. If you’d like to join\, please contact Nancy Henkes at nancyhenkes4@gmail.com.
URL:https://livinghopect.org/event/womens-book-prayer-group/2027-09-13/
CATEGORIES:Women's Ministry
ATTACH;FMTTYPE=image/jpeg:https://livinghopect.org/wp-content/uploads/2025/08/Daniel-Prayer.jpg
END:VEVENT
BEGIN:VEVENT
DTSTART;TZID=America/New_York:20270920T113000
DTEND;TZID=America/New_York:20270920T113000
DTSTAMP:20260422T125607
CREATED:20250809T182821Z
LAST-MODIFIED:20250828T191333Z
UID:10003961-1821439800-1821439800@livinghopect.org
SUMMARY:Women's Book/Prayer Group
DESCRIPTION:The Women’s Book/Prayer Group meets Mondays 11:30-12:45 on Zoom beginning September 15\, 2025. If you’d like to join\, please contact Nancy Henkes at nancyhenkes4@gmail.com.
URL:https://livinghopect.org/event/womens-book-prayer-group/2027-09-20/
CATEGORIES:Women's Ministry
ATTACH;FMTTYPE=image/jpeg:https://livinghopect.org/wp-content/uploads/2025/08/Daniel-Prayer.jpg
END:VEVENT
BEGIN:VEVENT
DTSTART;TZID=America/New_York:20270927T113000
DTEND;TZID=America/New_York:20270927T113000
DTSTAMP:20260422T125607
CREATED:20250809T182821Z
LAST-MODIFIED:20250828T191333Z
UID:10003962-1822044600-1822044600@livinghopect.org
SUMMARY:Women's Book/Prayer Group
DESCRIPTION:The Women’s Book/Prayer Group meets Mondays 11:30-12:45 on Zoom beginning September 15\, 2025. If you’d like to join\, please contact Nancy Henkes at nancyhenkes4@gmail.com.
URL:https://livinghopect.org/event/womens-book-prayer-group/2027-09-27/
CATEGORIES:Women's Ministry
ATTACH;FMTTYPE=image/jpeg:https://livinghopect.org/wp-content/uploads/2025/08/Daniel-Prayer.jpg
END:VEVENT
BEGIN:VEVENT
DTSTART;TZID=America/New_York:20271004T113000
DTEND;TZID=America/New_York:20271004T113000
DTSTAMP:20260422T125607
CREATED:20250809T182821Z
LAST-MODIFIED:20250828T191333Z
UID:10003963-1822649400-1822649400@livinghopect.org
SUMMARY:Women's Book/Prayer Group
DESCRIPTION:The Women’s Book/Prayer Group meets Mondays 11:30-12:45 on Zoom beginning September 15\, 2025. If you’d like to join\, please contact Nancy Henkes at nancyhenkes4@gmail.com.
URL:https://livinghopect.org/event/womens-book-prayer-group/2027-10-04/
CATEGORIES:Women's Ministry
ATTACH;FMTTYPE=image/jpeg:https://livinghopect.org/wp-content/uploads/2025/08/Daniel-Prayer.jpg
END:VEVENT
BEGIN:VEVENT
DTSTART;TZID=America/New_York:20271011T113000
DTEND;TZID=America/New_York:20271011T113000
DTSTAMP:20260422T125607
CREATED:20250809T182821Z
LAST-MODIFIED:20250828T191333Z
UID:10003964-1823254200-1823254200@livinghopect.org
SUMMARY:Women's Book/Prayer Group
DESCRIPTION:The Women’s Book/Prayer Group meets Mondays 11:30-12:45 on Zoom beginning September 15\, 2025. If you’d like to join\, please contact Nancy Henkes at nancyhenkes4@gmail.com.
URL:https://livinghopect.org/event/womens-book-prayer-group/2027-10-11/
CATEGORIES:Women's Ministry
ATTACH;FMTTYPE=image/jpeg:https://livinghopect.org/wp-content/uploads/2025/08/Daniel-Prayer.jpg
END:VEVENT
BEGIN:VEVENT
DTSTART;TZID=America/New_York:20271018T113000
DTEND;TZID=America/New_York:20271018T113000
DTSTAMP:20260422T125607
CREATED:20250809T182821Z
LAST-MODIFIED:20250828T191333Z
UID:10003965-1823859000-1823859000@livinghopect.org
SUMMARY:Women's Book/Prayer Group
DESCRIPTION:The Women’s Book/Prayer Group meets Mondays 11:30-12:45 on Zoom beginning September 15\, 2025. If you’d like to join\, please contact Nancy Henkes at nancyhenkes4@gmail.com.
URL:https://livinghopect.org/event/womens-book-prayer-group/2027-10-18/
CATEGORIES:Women's Ministry
ATTACH;FMTTYPE=image/jpeg:https://livinghopect.org/wp-content/uploads/2025/08/Daniel-Prayer.jpg
END:VEVENT
BEGIN:VEVENT
DTSTART;TZID=America/New_York:20271025T113000
DTEND;TZID=America/New_York:20271025T113000
DTSTAMP:20260422T125607
CREATED:20250809T182821Z
LAST-MODIFIED:20250828T191333Z
UID:10003966-1824463800-1824463800@livinghopect.org
SUMMARY:Women's Book/Prayer Group
DESCRIPTION:The Women’s Book/Prayer Group meets Mondays 11:30-12:45 on Zoom beginning September 15\, 2025. If you’d like to join\, please contact Nancy Henkes at nancyhenkes4@gmail.com.
URL:https://livinghopect.org/event/womens-book-prayer-group/2027-10-25/
CATEGORIES:Women's Ministry
ATTACH;FMTTYPE=image/jpeg:https://livinghopect.org/wp-content/uploads/2025/08/Daniel-Prayer.jpg
END:VEVENT
BEGIN:VEVENT
DTSTART;TZID=America/New_York:20271101T113000
DTEND;TZID=America/New_York:20271101T113000
DTSTAMP:20260422T125607
CREATED:20250809T182821Z
LAST-MODIFIED:20250828T191333Z
UID:10003967-1825068600-1825068600@livinghopect.org
SUMMARY:Women's Book/Prayer Group
DESCRIPTION:The Women’s Book/Prayer Group meets Mondays 11:30-12:45 on Zoom beginning September 15\, 2025. If you’d like to join\, please contact Nancy Henkes at nancyhenkes4@gmail.com.
URL:https://livinghopect.org/event/womens-book-prayer-group/2027-11-01/
CATEGORIES:Women's Ministry
ATTACH;FMTTYPE=image/jpeg:https://livinghopect.org/wp-content/uploads/2025/08/Daniel-Prayer.jpg
END:VEVENT
END:VCALENDAR