BEGIN:VCALENDAR
VERSION:2.0
PRODID:-//Living Hope Church Community CT - ECPv6.15.19//NONSGML v1.0//EN
CALSCALE:GREGORIAN
METHOD:PUBLISH
X-ORIGINAL-URL:https://livinghopect.org
X-WR-CALDESC:Events for Living Hope Church Community CT
REFRESH-INTERVAL;VALUE=DURATION:PT1H
X-Robots-Tag:noindex
X-PUBLISHED-TTL:PT1H
BEGIN:VTIMEZONE
TZID:America/New_York
BEGIN:DAYLIGHT
TZOFFSETFROM:-0500
TZOFFSETTO:-0400
TZNAME:EDT
DTSTART:20270314T070000
END:DAYLIGHT
BEGIN:STANDARD
TZOFFSETFROM:-0400
TZOFFSETTO:-0500
TZNAME:EST
DTSTART:20271107T060000
END:STANDARD
BEGIN:DAYLIGHT
TZOFFSETFROM:-0500
TZOFFSETTO:-0400
TZNAME:EDT
DTSTART:20280312T070000
END:DAYLIGHT
BEGIN:STANDARD
TZOFFSETFROM:-0400
TZOFFSETTO:-0500
TZNAME:EST
DTSTART:20281105T060000
END:STANDARD
BEGIN:DAYLIGHT
TZOFFSETFROM:-0500
TZOFFSETTO:-0400
TZNAME:EDT
DTSTART:20290311T070000
END:DAYLIGHT
BEGIN:STANDARD
TZOFFSETFROM:-0400
TZOFFSETTO:-0500
TZNAME:EST
DTSTART:20291104T060000
END:STANDARD
BEGIN:DAYLIGHT
TZOFFSETFROM:-0500
TZOFFSETTO:-0400
TZNAME:EDT
DTSTART:20300310T070000
END:DAYLIGHT
BEGIN:STANDARD
TZOFFSETFROM:-0400
TZOFFSETTO:-0500
TZNAME:EST
DTSTART:20301103T060000
END:STANDARD
END:VTIMEZONE
BEGIN:VEVENT
DTSTART;TZID=America/New_York:20280807T113000
DTEND;TZID=America/New_York:20280807T113000
DTSTAMP:20260419T133734
CREATED:20250809T182821Z
LAST-MODIFIED:20250828T191333Z
UID:10004007-1849260600-1849260600@livinghopect.org
SUMMARY:Women's Book/Prayer Group
DESCRIPTION:The Women’s Book/Prayer Group meets Mondays 11:30-12:45 on Zoom beginning September 15\, 2025. If you’d like to join\, please contact Nancy Henkes at nancyhenkes4@gmail.com.
URL:https://livinghopect.org/event/womens-book-prayer-group/2028-08-07/
CATEGORIES:Women's Ministry
ATTACH;FMTTYPE=image/jpeg:https://livinghopect.org/wp-content/uploads/2025/08/Daniel-Prayer.jpg
END:VEVENT
BEGIN:VEVENT
DTSTART;TZID=America/New_York:20280814T113000
DTEND;TZID=America/New_York:20280814T113000
DTSTAMP:20260419T133734
CREATED:20250809T182821Z
LAST-MODIFIED:20250828T191333Z
UID:10004008-1849865400-1849865400@livinghopect.org
SUMMARY:Women's Book/Prayer Group
DESCRIPTION:The Women’s Book/Prayer Group meets Mondays 11:30-12:45 on Zoom beginning September 15\, 2025. If you’d like to join\, please contact Nancy Henkes at nancyhenkes4@gmail.com.
URL:https://livinghopect.org/event/womens-book-prayer-group/2028-08-14/
CATEGORIES:Women's Ministry
ATTACH;FMTTYPE=image/jpeg:https://livinghopect.org/wp-content/uploads/2025/08/Daniel-Prayer.jpg
END:VEVENT
BEGIN:VEVENT
DTSTART;TZID=America/New_York:20280821T113000
DTEND;TZID=America/New_York:20280821T113000
DTSTAMP:20260419T133734
CREATED:20250809T182821Z
LAST-MODIFIED:20250828T191333Z
UID:10004009-1850470200-1850470200@livinghopect.org
SUMMARY:Women's Book/Prayer Group
DESCRIPTION:The Women’s Book/Prayer Group meets Mondays 11:30-12:45 on Zoom beginning September 15\, 2025. If you’d like to join\, please contact Nancy Henkes at nancyhenkes4@gmail.com.
URL:https://livinghopect.org/event/womens-book-prayer-group/2028-08-21/
CATEGORIES:Women's Ministry
ATTACH;FMTTYPE=image/jpeg:https://livinghopect.org/wp-content/uploads/2025/08/Daniel-Prayer.jpg
END:VEVENT
BEGIN:VEVENT
DTSTART;TZID=America/New_York:20280828T113000
DTEND;TZID=America/New_York:20280828T113000
DTSTAMP:20260419T133734
CREATED:20250809T182821Z
LAST-MODIFIED:20250828T191333Z
UID:10004010-1851075000-1851075000@livinghopect.org
SUMMARY:Women's Book/Prayer Group
DESCRIPTION:The Women’s Book/Prayer Group meets Mondays 11:30-12:45 on Zoom beginning September 15\, 2025. If you’d like to join\, please contact Nancy Henkes at nancyhenkes4@gmail.com.
URL:https://livinghopect.org/event/womens-book-prayer-group/2028-08-28/
CATEGORIES:Women's Ministry
ATTACH;FMTTYPE=image/jpeg:https://livinghopect.org/wp-content/uploads/2025/08/Daniel-Prayer.jpg
END:VEVENT
BEGIN:VEVENT
DTSTART;TZID=America/New_York:20280904T113000
DTEND;TZID=America/New_York:20280904T113000
DTSTAMP:20260419T133734
CREATED:20250809T182821Z
LAST-MODIFIED:20250828T191333Z
UID:10004011-1851679800-1851679800@livinghopect.org
SUMMARY:Women's Book/Prayer Group
DESCRIPTION:The Women’s Book/Prayer Group meets Mondays 11:30-12:45 on Zoom beginning September 15\, 2025. If you’d like to join\, please contact Nancy Henkes at nancyhenkes4@gmail.com.
URL:https://livinghopect.org/event/womens-book-prayer-group/2028-09-04/
CATEGORIES:Women's Ministry
ATTACH;FMTTYPE=image/jpeg:https://livinghopect.org/wp-content/uploads/2025/08/Daniel-Prayer.jpg
END:VEVENT
BEGIN:VEVENT
DTSTART;TZID=America/New_York:20280911T113000
DTEND;TZID=America/New_York:20280911T113000
DTSTAMP:20260419T133734
CREATED:20250809T182821Z
LAST-MODIFIED:20250828T191333Z
UID:10004012-1852284600-1852284600@livinghopect.org
SUMMARY:Women's Book/Prayer Group
DESCRIPTION:The Women’s Book/Prayer Group meets Mondays 11:30-12:45 on Zoom beginning September 15\, 2025. If you’d like to join\, please contact Nancy Henkes at nancyhenkes4@gmail.com.
URL:https://livinghopect.org/event/womens-book-prayer-group/2028-09-11/
CATEGORIES:Women's Ministry
ATTACH;FMTTYPE=image/jpeg:https://livinghopect.org/wp-content/uploads/2025/08/Daniel-Prayer.jpg
END:VEVENT
BEGIN:VEVENT
DTSTART;TZID=America/New_York:20280918T113000
DTEND;TZID=America/New_York:20280918T113000
DTSTAMP:20260419T133734
CREATED:20250809T182821Z
LAST-MODIFIED:20250828T191333Z
UID:10004013-1852889400-1852889400@livinghopect.org
SUMMARY:Women's Book/Prayer Group
DESCRIPTION:The Women’s Book/Prayer Group meets Mondays 11:30-12:45 on Zoom beginning September 15\, 2025. If you’d like to join\, please contact Nancy Henkes at nancyhenkes4@gmail.com.
URL:https://livinghopect.org/event/womens-book-prayer-group/2028-09-18/
CATEGORIES:Women's Ministry
ATTACH;FMTTYPE=image/jpeg:https://livinghopect.org/wp-content/uploads/2025/08/Daniel-Prayer.jpg
END:VEVENT
BEGIN:VEVENT
DTSTART;TZID=America/New_York:20280925T113000
DTEND;TZID=America/New_York:20280925T113000
DTSTAMP:20260419T133734
CREATED:20250809T182821Z
LAST-MODIFIED:20250828T191333Z
UID:10004014-1853494200-1853494200@livinghopect.org
SUMMARY:Women's Book/Prayer Group
DESCRIPTION:The Women’s Book/Prayer Group meets Mondays 11:30-12:45 on Zoom beginning September 15\, 2025. If you’d like to join\, please contact Nancy Henkes at nancyhenkes4@gmail.com.
URL:https://livinghopect.org/event/womens-book-prayer-group/2028-09-25/
CATEGORIES:Women's Ministry
ATTACH;FMTTYPE=image/jpeg:https://livinghopect.org/wp-content/uploads/2025/08/Daniel-Prayer.jpg
END:VEVENT
BEGIN:VEVENT
DTSTART;TZID=America/New_York:20281002T113000
DTEND;TZID=America/New_York:20281002T113000
DTSTAMP:20260419T133734
CREATED:20250809T182821Z
LAST-MODIFIED:20250828T191333Z
UID:10004015-1854099000-1854099000@livinghopect.org
SUMMARY:Women's Book/Prayer Group
DESCRIPTION:The Women’s Book/Prayer Group meets Mondays 11:30-12:45 on Zoom beginning September 15\, 2025. If you’d like to join\, please contact Nancy Henkes at nancyhenkes4@gmail.com.
URL:https://livinghopect.org/event/womens-book-prayer-group/2028-10-02/
CATEGORIES:Women's Ministry
ATTACH;FMTTYPE=image/jpeg:https://livinghopect.org/wp-content/uploads/2025/08/Daniel-Prayer.jpg
END:VEVENT
BEGIN:VEVENT
DTSTART;TZID=America/New_York:20281009T113000
DTEND;TZID=America/New_York:20281009T113000
DTSTAMP:20260419T133734
CREATED:20250809T182821Z
LAST-MODIFIED:20250828T191333Z
UID:10004016-1854703800-1854703800@livinghopect.org
SUMMARY:Women's Book/Prayer Group
DESCRIPTION:The Women’s Book/Prayer Group meets Mondays 11:30-12:45 on Zoom beginning September 15\, 2025. If you’d like to join\, please contact Nancy Henkes at nancyhenkes4@gmail.com.
URL:https://livinghopect.org/event/womens-book-prayer-group/2028-10-09/
CATEGORIES:Women's Ministry
ATTACH;FMTTYPE=image/jpeg:https://livinghopect.org/wp-content/uploads/2025/08/Daniel-Prayer.jpg
END:VEVENT
BEGIN:VEVENT
DTSTART;TZID=America/New_York:20281016T113000
DTEND;TZID=America/New_York:20281016T113000
DTSTAMP:20260419T133734
CREATED:20250809T182821Z
LAST-MODIFIED:20250828T191333Z
UID:10004017-1855308600-1855308600@livinghopect.org
SUMMARY:Women's Book/Prayer Group
DESCRIPTION:The Women’s Book/Prayer Group meets Mondays 11:30-12:45 on Zoom beginning September 15\, 2025. If you’d like to join\, please contact Nancy Henkes at nancyhenkes4@gmail.com.
URL:https://livinghopect.org/event/womens-book-prayer-group/2028-10-16/
CATEGORIES:Women's Ministry
ATTACH;FMTTYPE=image/jpeg:https://livinghopect.org/wp-content/uploads/2025/08/Daniel-Prayer.jpg
END:VEVENT
BEGIN:VEVENT
DTSTART;TZID=America/New_York:20281023T113000
DTEND;TZID=America/New_York:20281023T113000
DTSTAMP:20260419T133734
CREATED:20250809T182821Z
LAST-MODIFIED:20250828T191333Z
UID:10004018-1855913400-1855913400@livinghopect.org
SUMMARY:Women's Book/Prayer Group
DESCRIPTION:The Women’s Book/Prayer Group meets Mondays 11:30-12:45 on Zoom beginning September 15\, 2025. If you’d like to join\, please contact Nancy Henkes at nancyhenkes4@gmail.com.
URL:https://livinghopect.org/event/womens-book-prayer-group/2028-10-23/
CATEGORIES:Women's Ministry
ATTACH;FMTTYPE=image/jpeg:https://livinghopect.org/wp-content/uploads/2025/08/Daniel-Prayer.jpg
END:VEVENT
BEGIN:VEVENT
DTSTART;TZID=America/New_York:20281030T113000
DTEND;TZID=America/New_York:20281030T113000
DTSTAMP:20260419T133734
CREATED:20250809T182821Z
LAST-MODIFIED:20250828T191333Z
UID:10004019-1856518200-1856518200@livinghopect.org
SUMMARY:Women's Book/Prayer Group
DESCRIPTION:The Women’s Book/Prayer Group meets Mondays 11:30-12:45 on Zoom beginning September 15\, 2025. If you’d like to join\, please contact Nancy Henkes at nancyhenkes4@gmail.com.
URL:https://livinghopect.org/event/womens-book-prayer-group/2028-10-30/
CATEGORIES:Women's Ministry
ATTACH;FMTTYPE=image/jpeg:https://livinghopect.org/wp-content/uploads/2025/08/Daniel-Prayer.jpg
END:VEVENT
BEGIN:VEVENT
DTSTART;TZID=America/New_York:20281106T113000
DTEND;TZID=America/New_York:20281106T113000
DTSTAMP:20260419T133734
CREATED:20250809T182821Z
LAST-MODIFIED:20250828T191333Z
UID:10004020-1857123000-1857123000@livinghopect.org
SUMMARY:Women's Book/Prayer Group
DESCRIPTION:The Women’s Book/Prayer Group meets Mondays 11:30-12:45 on Zoom beginning September 15\, 2025. If you’d like to join\, please contact Nancy Henkes at nancyhenkes4@gmail.com.
URL:https://livinghopect.org/event/womens-book-prayer-group/2028-11-06/
CATEGORIES:Women's Ministry
ATTACH;FMTTYPE=image/jpeg:https://livinghopect.org/wp-content/uploads/2025/08/Daniel-Prayer.jpg
END:VEVENT
BEGIN:VEVENT
DTSTART;TZID=America/New_York:20281113T113000
DTEND;TZID=America/New_York:20281113T113000
DTSTAMP:20260419T133734
CREATED:20250809T182821Z
LAST-MODIFIED:20250828T191333Z
UID:10004021-1857727800-1857727800@livinghopect.org
SUMMARY:Women's Book/Prayer Group
DESCRIPTION:The Women’s Book/Prayer Group meets Mondays 11:30-12:45 on Zoom beginning September 15\, 2025. If you’d like to join\, please contact Nancy Henkes at nancyhenkes4@gmail.com.
URL:https://livinghopect.org/event/womens-book-prayer-group/2028-11-13/
CATEGORIES:Women's Ministry
ATTACH;FMTTYPE=image/jpeg:https://livinghopect.org/wp-content/uploads/2025/08/Daniel-Prayer.jpg
END:VEVENT
BEGIN:VEVENT
DTSTART;TZID=America/New_York:20281120T113000
DTEND;TZID=America/New_York:20281120T113000
DTSTAMP:20260419T133734
CREATED:20250809T182821Z
LAST-MODIFIED:20250828T191333Z
UID:10004022-1858332600-1858332600@livinghopect.org
SUMMARY:Women's Book/Prayer Group
DESCRIPTION:The Women’s Book/Prayer Group meets Mondays 11:30-12:45 on Zoom beginning September 15\, 2025. If you’d like to join\, please contact Nancy Henkes at nancyhenkes4@gmail.com.
URL:https://livinghopect.org/event/womens-book-prayer-group/2028-11-20/
CATEGORIES:Women's Ministry
ATTACH;FMTTYPE=image/jpeg:https://livinghopect.org/wp-content/uploads/2025/08/Daniel-Prayer.jpg
END:VEVENT
BEGIN:VEVENT
DTSTART;TZID=America/New_York:20281127T113000
DTEND;TZID=America/New_York:20281127T113000
DTSTAMP:20260419T133734
CREATED:20250809T182821Z
LAST-MODIFIED:20250828T191333Z
UID:10004023-1858937400-1858937400@livinghopect.org
SUMMARY:Women's Book/Prayer Group
DESCRIPTION:The Women’s Book/Prayer Group meets Mondays 11:30-12:45 on Zoom beginning September 15\, 2025. If you’d like to join\, please contact Nancy Henkes at nancyhenkes4@gmail.com.
URL:https://livinghopect.org/event/womens-book-prayer-group/2028-11-27/
CATEGORIES:Women's Ministry
ATTACH;FMTTYPE=image/jpeg:https://livinghopect.org/wp-content/uploads/2025/08/Daniel-Prayer.jpg
END:VEVENT
BEGIN:VEVENT
DTSTART;TZID=America/New_York:20281204T113000
DTEND;TZID=America/New_York:20281204T113000
DTSTAMP:20260419T133734
CREATED:20250809T182821Z
LAST-MODIFIED:20250828T191333Z
UID:10004024-1859542200-1859542200@livinghopect.org
SUMMARY:Women's Book/Prayer Group
DESCRIPTION:The Women’s Book/Prayer Group meets Mondays 11:30-12:45 on Zoom beginning September 15\, 2025. If you’d like to join\, please contact Nancy Henkes at nancyhenkes4@gmail.com.
URL:https://livinghopect.org/event/womens-book-prayer-group/2028-12-04/
CATEGORIES:Women's Ministry
ATTACH;FMTTYPE=image/jpeg:https://livinghopect.org/wp-content/uploads/2025/08/Daniel-Prayer.jpg
END:VEVENT
BEGIN:VEVENT
DTSTART;TZID=America/New_York:20281211T113000
DTEND;TZID=America/New_York:20281211T113000
DTSTAMP:20260419T133734
CREATED:20250809T182821Z
LAST-MODIFIED:20250828T191333Z
UID:10004025-1860147000-1860147000@livinghopect.org
SUMMARY:Women's Book/Prayer Group
DESCRIPTION:The Women’s Book/Prayer Group meets Mondays 11:30-12:45 on Zoom beginning September 15\, 2025. If you’d like to join\, please contact Nancy Henkes at nancyhenkes4@gmail.com.
URL:https://livinghopect.org/event/womens-book-prayer-group/2028-12-11/
CATEGORIES:Women's Ministry
ATTACH;FMTTYPE=image/jpeg:https://livinghopect.org/wp-content/uploads/2025/08/Daniel-Prayer.jpg
END:VEVENT
BEGIN:VEVENT
DTSTART;TZID=America/New_York:20281218T113000
DTEND;TZID=America/New_York:20281218T113000
DTSTAMP:20260419T133734
CREATED:20250809T182821Z
LAST-MODIFIED:20250828T191333Z
UID:10004026-1860751800-1860751800@livinghopect.org
SUMMARY:Women's Book/Prayer Group
DESCRIPTION:The Women’s Book/Prayer Group meets Mondays 11:30-12:45 on Zoom beginning September 15\, 2025. If you’d like to join\, please contact Nancy Henkes at nancyhenkes4@gmail.com.
URL:https://livinghopect.org/event/womens-book-prayer-group/2028-12-18/
CATEGORIES:Women's Ministry
ATTACH;FMTTYPE=image/jpeg:https://livinghopect.org/wp-content/uploads/2025/08/Daniel-Prayer.jpg
END:VEVENT
BEGIN:VEVENT
DTSTART;TZID=America/New_York:20281225T113000
DTEND;TZID=America/New_York:20281225T113000
DTSTAMP:20260419T133734
CREATED:20250809T182821Z
LAST-MODIFIED:20250828T191333Z
UID:10004027-1861356600-1861356600@livinghopect.org
SUMMARY:Women's Book/Prayer Group
DESCRIPTION:The Women’s Book/Prayer Group meets Mondays 11:30-12:45 on Zoom beginning September 15\, 2025. If you’d like to join\, please contact Nancy Henkes at nancyhenkes4@gmail.com.
URL:https://livinghopect.org/event/womens-book-prayer-group/2028-12-25/
CATEGORIES:Women's Ministry
ATTACH;FMTTYPE=image/jpeg:https://livinghopect.org/wp-content/uploads/2025/08/Daniel-Prayer.jpg
END:VEVENT
BEGIN:VEVENT
DTSTART;TZID=America/New_York:20290101T113000
DTEND;TZID=America/New_York:20290101T113000
DTSTAMP:20260419T133734
CREATED:20250809T182821Z
LAST-MODIFIED:20250828T191333Z
UID:10004028-1861961400-1861961400@livinghopect.org
SUMMARY:Women's Book/Prayer Group
DESCRIPTION:The Women’s Book/Prayer Group meets Mondays 11:30-12:45 on Zoom beginning September 15\, 2025. If you’d like to join\, please contact Nancy Henkes at nancyhenkes4@gmail.com.
URL:https://livinghopect.org/event/womens-book-prayer-group/2029-01-01/
CATEGORIES:Women's Ministry
ATTACH;FMTTYPE=image/jpeg:https://livinghopect.org/wp-content/uploads/2025/08/Daniel-Prayer.jpg
END:VEVENT
BEGIN:VEVENT
DTSTART;TZID=America/New_York:20290108T113000
DTEND;TZID=America/New_York:20290108T113000
DTSTAMP:20260419T133734
CREATED:20250809T182821Z
LAST-MODIFIED:20250828T191333Z
UID:10004029-1862566200-1862566200@livinghopect.org
SUMMARY:Women's Book/Prayer Group
DESCRIPTION:The Women’s Book/Prayer Group meets Mondays 11:30-12:45 on Zoom beginning September 15\, 2025. If you’d like to join\, please contact Nancy Henkes at nancyhenkes4@gmail.com.
URL:https://livinghopect.org/event/womens-book-prayer-group/2029-01-08/
CATEGORIES:Women's Ministry
ATTACH;FMTTYPE=image/jpeg:https://livinghopect.org/wp-content/uploads/2025/08/Daniel-Prayer.jpg
END:VEVENT
BEGIN:VEVENT
DTSTART;TZID=America/New_York:20290115T113000
DTEND;TZID=America/New_York:20290115T113000
DTSTAMP:20260419T133734
CREATED:20250809T182821Z
LAST-MODIFIED:20250828T191333Z
UID:10004030-1863171000-1863171000@livinghopect.org
SUMMARY:Women's Book/Prayer Group
DESCRIPTION:The Women’s Book/Prayer Group meets Mondays 11:30-12:45 on Zoom beginning September 15\, 2025. If you’d like to join\, please contact Nancy Henkes at nancyhenkes4@gmail.com.
URL:https://livinghopect.org/event/womens-book-prayer-group/2029-01-15/
CATEGORIES:Women's Ministry
ATTACH;FMTTYPE=image/jpeg:https://livinghopect.org/wp-content/uploads/2025/08/Daniel-Prayer.jpg
END:VEVENT
BEGIN:VEVENT
DTSTART;TZID=America/New_York:20290122T113000
DTEND;TZID=America/New_York:20290122T113000
DTSTAMP:20260419T133734
CREATED:20250809T182821Z
LAST-MODIFIED:20250828T191333Z
UID:10004031-1863775800-1863775800@livinghopect.org
SUMMARY:Women's Book/Prayer Group
DESCRIPTION:The Women’s Book/Prayer Group meets Mondays 11:30-12:45 on Zoom beginning September 15\, 2025. If you’d like to join\, please contact Nancy Henkes at nancyhenkes4@gmail.com.
URL:https://livinghopect.org/event/womens-book-prayer-group/2029-01-22/
CATEGORIES:Women's Ministry
ATTACH;FMTTYPE=image/jpeg:https://livinghopect.org/wp-content/uploads/2025/08/Daniel-Prayer.jpg
END:VEVENT
BEGIN:VEVENT
DTSTART;TZID=America/New_York:20290129T113000
DTEND;TZID=America/New_York:20290129T113000
DTSTAMP:20260419T133734
CREATED:20250809T182821Z
LAST-MODIFIED:20250828T191333Z
UID:10004032-1864380600-1864380600@livinghopect.org
SUMMARY:Women's Book/Prayer Group
DESCRIPTION:The Women’s Book/Prayer Group meets Mondays 11:30-12:45 on Zoom beginning September 15\, 2025. If you’d like to join\, please contact Nancy Henkes at nancyhenkes4@gmail.com.
URL:https://livinghopect.org/event/womens-book-prayer-group/2029-01-29/
CATEGORIES:Women's Ministry
ATTACH;FMTTYPE=image/jpeg:https://livinghopect.org/wp-content/uploads/2025/08/Daniel-Prayer.jpg
END:VEVENT
BEGIN:VEVENT
DTSTART;TZID=America/New_York:20290205T113000
DTEND;TZID=America/New_York:20290205T113000
DTSTAMP:20260419T133734
CREATED:20250809T182821Z
LAST-MODIFIED:20250828T191333Z
UID:10004033-1864985400-1864985400@livinghopect.org
SUMMARY:Women's Book/Prayer Group
DESCRIPTION:The Women’s Book/Prayer Group meets Mondays 11:30-12:45 on Zoom beginning September 15\, 2025. If you’d like to join\, please contact Nancy Henkes at nancyhenkes4@gmail.com.
URL:https://livinghopect.org/event/womens-book-prayer-group/2029-02-05/
CATEGORIES:Women's Ministry
ATTACH;FMTTYPE=image/jpeg:https://livinghopect.org/wp-content/uploads/2025/08/Daniel-Prayer.jpg
END:VEVENT
BEGIN:VEVENT
DTSTART;TZID=America/New_York:20290212T113000
DTEND;TZID=America/New_York:20290212T113000
DTSTAMP:20260419T133734
CREATED:20250809T182821Z
LAST-MODIFIED:20250828T191333Z
UID:10004034-1865590200-1865590200@livinghopect.org
SUMMARY:Women's Book/Prayer Group
DESCRIPTION:The Women’s Book/Prayer Group meets Mondays 11:30-12:45 on Zoom beginning September 15\, 2025. If you’d like to join\, please contact Nancy Henkes at nancyhenkes4@gmail.com.
URL:https://livinghopect.org/event/womens-book-prayer-group/2029-02-12/
CATEGORIES:Women's Ministry
ATTACH;FMTTYPE=image/jpeg:https://livinghopect.org/wp-content/uploads/2025/08/Daniel-Prayer.jpg
END:VEVENT
BEGIN:VEVENT
DTSTART;TZID=America/New_York:20290219T113000
DTEND;TZID=America/New_York:20290219T113000
DTSTAMP:20260419T133734
CREATED:20250809T182821Z
LAST-MODIFIED:20250828T191333Z
UID:10004035-1866195000-1866195000@livinghopect.org
SUMMARY:Women's Book/Prayer Group
DESCRIPTION:The Women’s Book/Prayer Group meets Mondays 11:30-12:45 on Zoom beginning September 15\, 2025. If you’d like to join\, please contact Nancy Henkes at nancyhenkes4@gmail.com.
URL:https://livinghopect.org/event/womens-book-prayer-group/2029-02-19/
CATEGORIES:Women's Ministry
ATTACH;FMTTYPE=image/jpeg:https://livinghopect.org/wp-content/uploads/2025/08/Daniel-Prayer.jpg
END:VEVENT
BEGIN:VEVENT
DTSTART;TZID=America/New_York:20290226T113000
DTEND;TZID=America/New_York:20290226T113000
DTSTAMP:20260419T133734
CREATED:20250809T182821Z
LAST-MODIFIED:20250828T191333Z
UID:10004036-1866799800-1866799800@livinghopect.org
SUMMARY:Women's Book/Prayer Group
DESCRIPTION:The Women’s Book/Prayer Group meets Mondays 11:30-12:45 on Zoom beginning September 15\, 2025. If you’d like to join\, please contact Nancy Henkes at nancyhenkes4@gmail.com.
URL:https://livinghopect.org/event/womens-book-prayer-group/2029-02-26/
CATEGORIES:Women's Ministry
ATTACH;FMTTYPE=image/jpeg:https://livinghopect.org/wp-content/uploads/2025/08/Daniel-Prayer.jpg
END:VEVENT
END:VCALENDAR