BEGIN:VCALENDAR
VERSION:2.0
PRODID:-//Living Hope Church Community CT - ECPv6.15.19//NONSGML v1.0//EN
CALSCALE:GREGORIAN
METHOD:PUBLISH
X-WR-CALNAME:Living Hope Church Community CT
X-ORIGINAL-URL:https://livinghopect.org
X-WR-CALDESC:Events for Living Hope Church Community CT
REFRESH-INTERVAL;VALUE=DURATION:PT1H
X-Robots-Tag:noindex
X-PUBLISHED-TTL:PT1H
BEGIN:VTIMEZONE
TZID:America/New_York
BEGIN:DAYLIGHT
TZOFFSETFROM:-0500
TZOFFSETTO:-0400
TZNAME:EDT
DTSTART:20280312T070000
END:DAYLIGHT
BEGIN:STANDARD
TZOFFSETFROM:-0400
TZOFFSETTO:-0500
TZNAME:EST
DTSTART:20281105T060000
END:STANDARD
BEGIN:DAYLIGHT
TZOFFSETFROM:-0500
TZOFFSETTO:-0400
TZNAME:EDT
DTSTART:20290311T070000
END:DAYLIGHT
BEGIN:STANDARD
TZOFFSETFROM:-0400
TZOFFSETTO:-0500
TZNAME:EST
DTSTART:20291104T060000
END:STANDARD
BEGIN:DAYLIGHT
TZOFFSETFROM:-0500
TZOFFSETTO:-0400
TZNAME:EDT
DTSTART:20300310T070000
END:DAYLIGHT
BEGIN:STANDARD
TZOFFSETFROM:-0400
TZOFFSETTO:-0500
TZNAME:EST
DTSTART:20301103T060000
END:STANDARD
BEGIN:DAYLIGHT
TZOFFSETFROM:-0500
TZOFFSETTO:-0400
TZNAME:EDT
DTSTART:20310309T070000
END:DAYLIGHT
BEGIN:STANDARD
TZOFFSETFROM:-0400
TZOFFSETTO:-0500
TZNAME:EST
DTSTART:20311102T060000
END:STANDARD
END:VTIMEZONE
BEGIN:VEVENT
DTSTART;TZID=America/New_York:20290716T113000
DTEND;TZID=America/New_York:20290716T113000
DTSTAMP:20260425T002935
CREATED:20250809T182821Z
LAST-MODIFIED:20250828T191333Z
UID:10004056-1878895800-1878895800@livinghopect.org
SUMMARY:Women's Book/Prayer Group
DESCRIPTION:The Women’s Book/Prayer Group meets Mondays 11:30-12:45 on Zoom beginning September 15\, 2025. If you’d like to join\, please contact Nancy Henkes at nancyhenkes4@gmail.com.
URL:https://livinghopect.org/event/womens-book-prayer-group/2029-07-16/
CATEGORIES:Women's Ministry
ATTACH;FMTTYPE=image/jpeg:https://livinghopect.org/wp-content/uploads/2025/08/Daniel-Prayer.jpg
END:VEVENT
BEGIN:VEVENT
DTSTART;TZID=America/New_York:20290723T113000
DTEND;TZID=America/New_York:20290723T113000
DTSTAMP:20260425T002935
CREATED:20250809T182821Z
LAST-MODIFIED:20250828T191333Z
UID:10004057-1879500600-1879500600@livinghopect.org
SUMMARY:Women's Book/Prayer Group
DESCRIPTION:The Women’s Book/Prayer Group meets Mondays 11:30-12:45 on Zoom beginning September 15\, 2025. If you’d like to join\, please contact Nancy Henkes at nancyhenkes4@gmail.com.
URL:https://livinghopect.org/event/womens-book-prayer-group/2029-07-23/
CATEGORIES:Women's Ministry
ATTACH;FMTTYPE=image/jpeg:https://livinghopect.org/wp-content/uploads/2025/08/Daniel-Prayer.jpg
END:VEVENT
BEGIN:VEVENT
DTSTART;TZID=America/New_York:20290730T113000
DTEND;TZID=America/New_York:20290730T113000
DTSTAMP:20260425T002935
CREATED:20250809T182821Z
LAST-MODIFIED:20250828T191333Z
UID:10004058-1880105400-1880105400@livinghopect.org
SUMMARY:Women's Book/Prayer Group
DESCRIPTION:The Women’s Book/Prayer Group meets Mondays 11:30-12:45 on Zoom beginning September 15\, 2025. If you’d like to join\, please contact Nancy Henkes at nancyhenkes4@gmail.com.
URL:https://livinghopect.org/event/womens-book-prayer-group/2029-07-30/
CATEGORIES:Women's Ministry
ATTACH;FMTTYPE=image/jpeg:https://livinghopect.org/wp-content/uploads/2025/08/Daniel-Prayer.jpg
END:VEVENT
BEGIN:VEVENT
DTSTART;TZID=America/New_York:20290806T113000
DTEND;TZID=America/New_York:20290806T113000
DTSTAMP:20260425T002935
CREATED:20250809T182821Z
LAST-MODIFIED:20250828T191333Z
UID:10004059-1880710200-1880710200@livinghopect.org
SUMMARY:Women's Book/Prayer Group
DESCRIPTION:The Women’s Book/Prayer Group meets Mondays 11:30-12:45 on Zoom beginning September 15\, 2025. If you’d like to join\, please contact Nancy Henkes at nancyhenkes4@gmail.com.
URL:https://livinghopect.org/event/womens-book-prayer-group/2029-08-06/
CATEGORIES:Women's Ministry
ATTACH;FMTTYPE=image/jpeg:https://livinghopect.org/wp-content/uploads/2025/08/Daniel-Prayer.jpg
END:VEVENT
BEGIN:VEVENT
DTSTART;TZID=America/New_York:20290813T113000
DTEND;TZID=America/New_York:20290813T113000
DTSTAMP:20260425T002935
CREATED:20250809T182821Z
LAST-MODIFIED:20250828T191333Z
UID:10004060-1881315000-1881315000@livinghopect.org
SUMMARY:Women's Book/Prayer Group
DESCRIPTION:The Women’s Book/Prayer Group meets Mondays 11:30-12:45 on Zoom beginning September 15\, 2025. If you’d like to join\, please contact Nancy Henkes at nancyhenkes4@gmail.com.
URL:https://livinghopect.org/event/womens-book-prayer-group/2029-08-13/
CATEGORIES:Women's Ministry
ATTACH;FMTTYPE=image/jpeg:https://livinghopect.org/wp-content/uploads/2025/08/Daniel-Prayer.jpg
END:VEVENT
BEGIN:VEVENT
DTSTART;TZID=America/New_York:20290820T113000
DTEND;TZID=America/New_York:20290820T113000
DTSTAMP:20260425T002935
CREATED:20250809T182821Z
LAST-MODIFIED:20250828T191333Z
UID:10004061-1881919800-1881919800@livinghopect.org
SUMMARY:Women's Book/Prayer Group
DESCRIPTION:The Women’s Book/Prayer Group meets Mondays 11:30-12:45 on Zoom beginning September 15\, 2025. If you’d like to join\, please contact Nancy Henkes at nancyhenkes4@gmail.com.
URL:https://livinghopect.org/event/womens-book-prayer-group/2029-08-20/
CATEGORIES:Women's Ministry
ATTACH;FMTTYPE=image/jpeg:https://livinghopect.org/wp-content/uploads/2025/08/Daniel-Prayer.jpg
END:VEVENT
BEGIN:VEVENT
DTSTART;TZID=America/New_York:20290827T113000
DTEND;TZID=America/New_York:20290827T113000
DTSTAMP:20260425T002935
CREATED:20250809T182821Z
LAST-MODIFIED:20250828T191333Z
UID:10004062-1882524600-1882524600@livinghopect.org
SUMMARY:Women's Book/Prayer Group
DESCRIPTION:The Women’s Book/Prayer Group meets Mondays 11:30-12:45 on Zoom beginning September 15\, 2025. If you’d like to join\, please contact Nancy Henkes at nancyhenkes4@gmail.com.
URL:https://livinghopect.org/event/womens-book-prayer-group/2029-08-27/
CATEGORIES:Women's Ministry
ATTACH;FMTTYPE=image/jpeg:https://livinghopect.org/wp-content/uploads/2025/08/Daniel-Prayer.jpg
END:VEVENT
BEGIN:VEVENT
DTSTART;TZID=America/New_York:20290903T113000
DTEND;TZID=America/New_York:20290903T113000
DTSTAMP:20260425T002935
CREATED:20250809T182821Z
LAST-MODIFIED:20250828T191333Z
UID:10004063-1883129400-1883129400@livinghopect.org
SUMMARY:Women's Book/Prayer Group
DESCRIPTION:The Women’s Book/Prayer Group meets Mondays 11:30-12:45 on Zoom beginning September 15\, 2025. If you’d like to join\, please contact Nancy Henkes at nancyhenkes4@gmail.com.
URL:https://livinghopect.org/event/womens-book-prayer-group/2029-09-03/
CATEGORIES:Women's Ministry
ATTACH;FMTTYPE=image/jpeg:https://livinghopect.org/wp-content/uploads/2025/08/Daniel-Prayer.jpg
END:VEVENT
BEGIN:VEVENT
DTSTART;TZID=America/New_York:20290910T113000
DTEND;TZID=America/New_York:20290910T113000
DTSTAMP:20260425T002935
CREATED:20250809T182821Z
LAST-MODIFIED:20250828T191333Z
UID:10004064-1883734200-1883734200@livinghopect.org
SUMMARY:Women's Book/Prayer Group
DESCRIPTION:The Women’s Book/Prayer Group meets Mondays 11:30-12:45 on Zoom beginning September 15\, 2025. If you’d like to join\, please contact Nancy Henkes at nancyhenkes4@gmail.com.
URL:https://livinghopect.org/event/womens-book-prayer-group/2029-09-10/
CATEGORIES:Women's Ministry
ATTACH;FMTTYPE=image/jpeg:https://livinghopect.org/wp-content/uploads/2025/08/Daniel-Prayer.jpg
END:VEVENT
BEGIN:VEVENT
DTSTART;TZID=America/New_York:20290917T113000
DTEND;TZID=America/New_York:20290917T113000
DTSTAMP:20260425T002935
CREATED:20250809T182821Z
LAST-MODIFIED:20250828T191333Z
UID:10004065-1884339000-1884339000@livinghopect.org
SUMMARY:Women's Book/Prayer Group
DESCRIPTION:The Women’s Book/Prayer Group meets Mondays 11:30-12:45 on Zoom beginning September 15\, 2025. If you’d like to join\, please contact Nancy Henkes at nancyhenkes4@gmail.com.
URL:https://livinghopect.org/event/womens-book-prayer-group/2029-09-17/
CATEGORIES:Women's Ministry
ATTACH;FMTTYPE=image/jpeg:https://livinghopect.org/wp-content/uploads/2025/08/Daniel-Prayer.jpg
END:VEVENT
BEGIN:VEVENT
DTSTART;TZID=America/New_York:20290924T113000
DTEND;TZID=America/New_York:20290924T113000
DTSTAMP:20260425T002935
CREATED:20250809T182821Z
LAST-MODIFIED:20250828T191333Z
UID:10004066-1884943800-1884943800@livinghopect.org
SUMMARY:Women's Book/Prayer Group
DESCRIPTION:The Women’s Book/Prayer Group meets Mondays 11:30-12:45 on Zoom beginning September 15\, 2025. If you’d like to join\, please contact Nancy Henkes at nancyhenkes4@gmail.com.
URL:https://livinghopect.org/event/womens-book-prayer-group/2029-09-24/
CATEGORIES:Women's Ministry
ATTACH;FMTTYPE=image/jpeg:https://livinghopect.org/wp-content/uploads/2025/08/Daniel-Prayer.jpg
END:VEVENT
BEGIN:VEVENT
DTSTART;TZID=America/New_York:20291001T113000
DTEND;TZID=America/New_York:20291001T113000
DTSTAMP:20260425T002935
CREATED:20250809T182821Z
LAST-MODIFIED:20250828T191333Z
UID:10004067-1885548600-1885548600@livinghopect.org
SUMMARY:Women's Book/Prayer Group
DESCRIPTION:The Women’s Book/Prayer Group meets Mondays 11:30-12:45 on Zoom beginning September 15\, 2025. If you’d like to join\, please contact Nancy Henkes at nancyhenkes4@gmail.com.
URL:https://livinghopect.org/event/womens-book-prayer-group/2029-10-01/
CATEGORIES:Women's Ministry
ATTACH;FMTTYPE=image/jpeg:https://livinghopect.org/wp-content/uploads/2025/08/Daniel-Prayer.jpg
END:VEVENT
BEGIN:VEVENT
DTSTART;TZID=America/New_York:20291008T113000
DTEND;TZID=America/New_York:20291008T113000
DTSTAMP:20260425T002935
CREATED:20250809T182821Z
LAST-MODIFIED:20250828T191333Z
UID:10004068-1886153400-1886153400@livinghopect.org
SUMMARY:Women's Book/Prayer Group
DESCRIPTION:The Women’s Book/Prayer Group meets Mondays 11:30-12:45 on Zoom beginning September 15\, 2025. If you’d like to join\, please contact Nancy Henkes at nancyhenkes4@gmail.com.
URL:https://livinghopect.org/event/womens-book-prayer-group/2029-10-08/
CATEGORIES:Women's Ministry
ATTACH;FMTTYPE=image/jpeg:https://livinghopect.org/wp-content/uploads/2025/08/Daniel-Prayer.jpg
END:VEVENT
BEGIN:VEVENT
DTSTART;TZID=America/New_York:20291015T113000
DTEND;TZID=America/New_York:20291015T113000
DTSTAMP:20260425T002935
CREATED:20250809T182821Z
LAST-MODIFIED:20250828T191333Z
UID:10004069-1886758200-1886758200@livinghopect.org
SUMMARY:Women's Book/Prayer Group
DESCRIPTION:The Women’s Book/Prayer Group meets Mondays 11:30-12:45 on Zoom beginning September 15\, 2025. If you’d like to join\, please contact Nancy Henkes at nancyhenkes4@gmail.com.
URL:https://livinghopect.org/event/womens-book-prayer-group/2029-10-15/
CATEGORIES:Women's Ministry
ATTACH;FMTTYPE=image/jpeg:https://livinghopect.org/wp-content/uploads/2025/08/Daniel-Prayer.jpg
END:VEVENT
BEGIN:VEVENT
DTSTART;TZID=America/New_York:20291022T113000
DTEND;TZID=America/New_York:20291022T113000
DTSTAMP:20260425T002935
CREATED:20250809T182821Z
LAST-MODIFIED:20250828T191333Z
UID:10004070-1887363000-1887363000@livinghopect.org
SUMMARY:Women's Book/Prayer Group
DESCRIPTION:The Women’s Book/Prayer Group meets Mondays 11:30-12:45 on Zoom beginning September 15\, 2025. If you’d like to join\, please contact Nancy Henkes at nancyhenkes4@gmail.com.
URL:https://livinghopect.org/event/womens-book-prayer-group/2029-10-22/
CATEGORIES:Women's Ministry
ATTACH;FMTTYPE=image/jpeg:https://livinghopect.org/wp-content/uploads/2025/08/Daniel-Prayer.jpg
END:VEVENT
BEGIN:VEVENT
DTSTART;TZID=America/New_York:20291029T113000
DTEND;TZID=America/New_York:20291029T113000
DTSTAMP:20260425T002935
CREATED:20250809T182821Z
LAST-MODIFIED:20250828T191333Z
UID:10004071-1887967800-1887967800@livinghopect.org
SUMMARY:Women's Book/Prayer Group
DESCRIPTION:The Women’s Book/Prayer Group meets Mondays 11:30-12:45 on Zoom beginning September 15\, 2025. If you’d like to join\, please contact Nancy Henkes at nancyhenkes4@gmail.com.
URL:https://livinghopect.org/event/womens-book-prayer-group/2029-10-29/
CATEGORIES:Women's Ministry
ATTACH;FMTTYPE=image/jpeg:https://livinghopect.org/wp-content/uploads/2025/08/Daniel-Prayer.jpg
END:VEVENT
BEGIN:VEVENT
DTSTART;TZID=America/New_York:20291105T113000
DTEND;TZID=America/New_York:20291105T113000
DTSTAMP:20260425T002935
CREATED:20250809T182821Z
LAST-MODIFIED:20250828T191333Z
UID:10004072-1888572600-1888572600@livinghopect.org
SUMMARY:Women's Book/Prayer Group
DESCRIPTION:The Women’s Book/Prayer Group meets Mondays 11:30-12:45 on Zoom beginning September 15\, 2025. If you’d like to join\, please contact Nancy Henkes at nancyhenkes4@gmail.com.
URL:https://livinghopect.org/event/womens-book-prayer-group/2029-11-05/
CATEGORIES:Women's Ministry
ATTACH;FMTTYPE=image/jpeg:https://livinghopect.org/wp-content/uploads/2025/08/Daniel-Prayer.jpg
END:VEVENT
BEGIN:VEVENT
DTSTART;TZID=America/New_York:20291112T113000
DTEND;TZID=America/New_York:20291112T113000
DTSTAMP:20260425T002935
CREATED:20250809T182821Z
LAST-MODIFIED:20250828T191333Z
UID:10004073-1889177400-1889177400@livinghopect.org
SUMMARY:Women's Book/Prayer Group
DESCRIPTION:The Women’s Book/Prayer Group meets Mondays 11:30-12:45 on Zoom beginning September 15\, 2025. If you’d like to join\, please contact Nancy Henkes at nancyhenkes4@gmail.com.
URL:https://livinghopect.org/event/womens-book-prayer-group/2029-11-12/
CATEGORIES:Women's Ministry
ATTACH;FMTTYPE=image/jpeg:https://livinghopect.org/wp-content/uploads/2025/08/Daniel-Prayer.jpg
END:VEVENT
BEGIN:VEVENT
DTSTART;TZID=America/New_York:20291119T113000
DTEND;TZID=America/New_York:20291119T113000
DTSTAMP:20260425T002935
CREATED:20250809T182821Z
LAST-MODIFIED:20250828T191333Z
UID:10004074-1889782200-1889782200@livinghopect.org
SUMMARY:Women's Book/Prayer Group
DESCRIPTION:The Women’s Book/Prayer Group meets Mondays 11:30-12:45 on Zoom beginning September 15\, 2025. If you’d like to join\, please contact Nancy Henkes at nancyhenkes4@gmail.com.
URL:https://livinghopect.org/event/womens-book-prayer-group/2029-11-19/
CATEGORIES:Women's Ministry
ATTACH;FMTTYPE=image/jpeg:https://livinghopect.org/wp-content/uploads/2025/08/Daniel-Prayer.jpg
END:VEVENT
BEGIN:VEVENT
DTSTART;TZID=America/New_York:20291126T113000
DTEND;TZID=America/New_York:20291126T113000
DTSTAMP:20260425T002935
CREATED:20250809T182821Z
LAST-MODIFIED:20250828T191333Z
UID:10004075-1890387000-1890387000@livinghopect.org
SUMMARY:Women's Book/Prayer Group
DESCRIPTION:The Women’s Book/Prayer Group meets Mondays 11:30-12:45 on Zoom beginning September 15\, 2025. If you’d like to join\, please contact Nancy Henkes at nancyhenkes4@gmail.com.
URL:https://livinghopect.org/event/womens-book-prayer-group/2029-11-26/
CATEGORIES:Women's Ministry
ATTACH;FMTTYPE=image/jpeg:https://livinghopect.org/wp-content/uploads/2025/08/Daniel-Prayer.jpg
END:VEVENT
BEGIN:VEVENT
DTSTART;TZID=America/New_York:20291203T113000
DTEND;TZID=America/New_York:20291203T113000
DTSTAMP:20260425T002935
CREATED:20250809T182821Z
LAST-MODIFIED:20250828T191333Z
UID:10004076-1890991800-1890991800@livinghopect.org
SUMMARY:Women's Book/Prayer Group
DESCRIPTION:The Women’s Book/Prayer Group meets Mondays 11:30-12:45 on Zoom beginning September 15\, 2025. If you’d like to join\, please contact Nancy Henkes at nancyhenkes4@gmail.com.
URL:https://livinghopect.org/event/womens-book-prayer-group/2029-12-03/
CATEGORIES:Women's Ministry
ATTACH;FMTTYPE=image/jpeg:https://livinghopect.org/wp-content/uploads/2025/08/Daniel-Prayer.jpg
END:VEVENT
BEGIN:VEVENT
DTSTART;TZID=America/New_York:20291210T113000
DTEND;TZID=America/New_York:20291210T113000
DTSTAMP:20260425T002935
CREATED:20250809T182821Z
LAST-MODIFIED:20250828T191333Z
UID:10004077-1891596600-1891596600@livinghopect.org
SUMMARY:Women's Book/Prayer Group
DESCRIPTION:The Women’s Book/Prayer Group meets Mondays 11:30-12:45 on Zoom beginning September 15\, 2025. If you’d like to join\, please contact Nancy Henkes at nancyhenkes4@gmail.com.
URL:https://livinghopect.org/event/womens-book-prayer-group/2029-12-10/
CATEGORIES:Women's Ministry
ATTACH;FMTTYPE=image/jpeg:https://livinghopect.org/wp-content/uploads/2025/08/Daniel-Prayer.jpg
END:VEVENT
BEGIN:VEVENT
DTSTART;TZID=America/New_York:20291217T113000
DTEND;TZID=America/New_York:20291217T113000
DTSTAMP:20260425T002935
CREATED:20250809T182821Z
LAST-MODIFIED:20250828T191333Z
UID:10004078-1892201400-1892201400@livinghopect.org
SUMMARY:Women's Book/Prayer Group
DESCRIPTION:The Women’s Book/Prayer Group meets Mondays 11:30-12:45 on Zoom beginning September 15\, 2025. If you’d like to join\, please contact Nancy Henkes at nancyhenkes4@gmail.com.
URL:https://livinghopect.org/event/womens-book-prayer-group/2029-12-17/
CATEGORIES:Women's Ministry
ATTACH;FMTTYPE=image/jpeg:https://livinghopect.org/wp-content/uploads/2025/08/Daniel-Prayer.jpg
END:VEVENT
BEGIN:VEVENT
DTSTART;TZID=America/New_York:20291224T113000
DTEND;TZID=America/New_York:20291224T113000
DTSTAMP:20260425T002935
CREATED:20250809T182821Z
LAST-MODIFIED:20250828T191333Z
UID:10004079-1892806200-1892806200@livinghopect.org
SUMMARY:Women's Book/Prayer Group
DESCRIPTION:The Women’s Book/Prayer Group meets Mondays 11:30-12:45 on Zoom beginning September 15\, 2025. If you’d like to join\, please contact Nancy Henkes at nancyhenkes4@gmail.com.
URL:https://livinghopect.org/event/womens-book-prayer-group/2029-12-24/
CATEGORIES:Women's Ministry
ATTACH;FMTTYPE=image/jpeg:https://livinghopect.org/wp-content/uploads/2025/08/Daniel-Prayer.jpg
END:VEVENT
BEGIN:VEVENT
DTSTART;TZID=America/New_York:20291231T113000
DTEND;TZID=America/New_York:20291231T113000
DTSTAMP:20260425T002935
CREATED:20250809T182821Z
LAST-MODIFIED:20250828T191333Z
UID:10004080-1893411000-1893411000@livinghopect.org
SUMMARY:Women's Book/Prayer Group
DESCRIPTION:The Women’s Book/Prayer Group meets Mondays 11:30-12:45 on Zoom beginning September 15\, 2025. If you’d like to join\, please contact Nancy Henkes at nancyhenkes4@gmail.com.
URL:https://livinghopect.org/event/womens-book-prayer-group/2029-12-31/
CATEGORIES:Women's Ministry
ATTACH;FMTTYPE=image/jpeg:https://livinghopect.org/wp-content/uploads/2025/08/Daniel-Prayer.jpg
END:VEVENT
BEGIN:VEVENT
DTSTART;TZID=America/New_York:20300107T113000
DTEND;TZID=America/New_York:20300107T113000
DTSTAMP:20260425T002935
CREATED:20250809T182821Z
LAST-MODIFIED:20250828T191333Z
UID:10004081-1894015800-1894015800@livinghopect.org
SUMMARY:Women's Book/Prayer Group
DESCRIPTION:The Women’s Book/Prayer Group meets Mondays 11:30-12:45 on Zoom beginning September 15\, 2025. If you’d like to join\, please contact Nancy Henkes at nancyhenkes4@gmail.com.
URL:https://livinghopect.org/event/womens-book-prayer-group/2030-01-07/
CATEGORIES:Women's Ministry
ATTACH;FMTTYPE=image/jpeg:https://livinghopect.org/wp-content/uploads/2025/08/Daniel-Prayer.jpg
END:VEVENT
BEGIN:VEVENT
DTSTART;TZID=America/New_York:20300114T113000
DTEND;TZID=America/New_York:20300114T113000
DTSTAMP:20260425T002935
CREATED:20250809T182821Z
LAST-MODIFIED:20250828T191333Z
UID:10004082-1894620600-1894620600@livinghopect.org
SUMMARY:Women's Book/Prayer Group
DESCRIPTION:The Women’s Book/Prayer Group meets Mondays 11:30-12:45 on Zoom beginning September 15\, 2025. If you’d like to join\, please contact Nancy Henkes at nancyhenkes4@gmail.com.
URL:https://livinghopect.org/event/womens-book-prayer-group/2030-01-14/
CATEGORIES:Women's Ministry
ATTACH;FMTTYPE=image/jpeg:https://livinghopect.org/wp-content/uploads/2025/08/Daniel-Prayer.jpg
END:VEVENT
BEGIN:VEVENT
DTSTART;TZID=America/New_York:20300121T113000
DTEND;TZID=America/New_York:20300121T113000
DTSTAMP:20260425T002935
CREATED:20250809T182821Z
LAST-MODIFIED:20250828T191333Z
UID:10004083-1895225400-1895225400@livinghopect.org
SUMMARY:Women's Book/Prayer Group
DESCRIPTION:The Women’s Book/Prayer Group meets Mondays 11:30-12:45 on Zoom beginning September 15\, 2025. If you’d like to join\, please contact Nancy Henkes at nancyhenkes4@gmail.com.
URL:https://livinghopect.org/event/womens-book-prayer-group/2030-01-21/
CATEGORIES:Women's Ministry
ATTACH;FMTTYPE=image/jpeg:https://livinghopect.org/wp-content/uploads/2025/08/Daniel-Prayer.jpg
END:VEVENT
BEGIN:VEVENT
DTSTART;TZID=America/New_York:20300128T113000
DTEND;TZID=America/New_York:20300128T113000
DTSTAMP:20260425T002935
CREATED:20250809T182821Z
LAST-MODIFIED:20250828T191333Z
UID:10004084-1895830200-1895830200@livinghopect.org
SUMMARY:Women's Book/Prayer Group
DESCRIPTION:The Women’s Book/Prayer Group meets Mondays 11:30-12:45 on Zoom beginning September 15\, 2025. If you’d like to join\, please contact Nancy Henkes at nancyhenkes4@gmail.com.
URL:https://livinghopect.org/event/womens-book-prayer-group/2030-01-28/
CATEGORIES:Women's Ministry
ATTACH;FMTTYPE=image/jpeg:https://livinghopect.org/wp-content/uploads/2025/08/Daniel-Prayer.jpg
END:VEVENT
BEGIN:VEVENT
DTSTART;TZID=America/New_York:20300204T113000
DTEND;TZID=America/New_York:20300204T113000
DTSTAMP:20260425T002935
CREATED:20250809T182821Z
LAST-MODIFIED:20250828T191333Z
UID:10004085-1896435000-1896435000@livinghopect.org
SUMMARY:Women's Book/Prayer Group
DESCRIPTION:The Women’s Book/Prayer Group meets Mondays 11:30-12:45 on Zoom beginning September 15\, 2025. If you’d like to join\, please contact Nancy Henkes at nancyhenkes4@gmail.com.
URL:https://livinghopect.org/event/womens-book-prayer-group/2030-02-04/
CATEGORIES:Women's Ministry
ATTACH;FMTTYPE=image/jpeg:https://livinghopect.org/wp-content/uploads/2025/08/Daniel-Prayer.jpg
END:VEVENT
END:VCALENDAR