BEGIN:VCALENDAR
VERSION:2.0
PRODID:-//Living Hope Church Community CT - ECPv6.15.19//NONSGML v1.0//EN
CALSCALE:GREGORIAN
METHOD:PUBLISH
X-WR-CALNAME:Living Hope Church Community CT
X-ORIGINAL-URL:https://livinghopect.org
X-WR-CALDESC:Events for Living Hope Church Community CT
REFRESH-INTERVAL;VALUE=DURATION:PT1H
X-Robots-Tag:noindex
X-PUBLISHED-TTL:PT1H
BEGIN:VTIMEZONE
TZID:America/New_York
BEGIN:DAYLIGHT
TZOFFSETFROM:-0500
TZOFFSETTO:-0400
TZNAME:EDT
DTSTART:20250309T070000
END:DAYLIGHT
BEGIN:STANDARD
TZOFFSETFROM:-0400
TZOFFSETTO:-0500
TZNAME:EST
DTSTART:20251102T060000
END:STANDARD
BEGIN:DAYLIGHT
TZOFFSETFROM:-0500
TZOFFSETTO:-0400
TZNAME:EDT
DTSTART:20260308T070000
END:DAYLIGHT
BEGIN:STANDARD
TZOFFSETFROM:-0400
TZOFFSETTO:-0500
TZNAME:EST
DTSTART:20261101T060000
END:STANDARD
BEGIN:DAYLIGHT
TZOFFSETFROM:-0500
TZOFFSETTO:-0400
TZNAME:EDT
DTSTART:20270314T070000
END:DAYLIGHT
BEGIN:STANDARD
TZOFFSETFROM:-0400
TZOFFSETTO:-0500
TZNAME:EST
DTSTART:20271107T060000
END:STANDARD
END:VTIMEZONE
BEGIN:VEVENT
DTSTART;TZID=America/New_York:20260313T190000
DTEND;TZID=America/New_York:20260313T203000
DTSTAMP:20260419T081810
CREATED:20260129T213907Z
LAST-MODIFIED:20260129T214008Z
UID:10005810-1773428400-1773433800@livinghopect.org
SUMMARY:Shake Your Shamrocks Ladies Bunco Night
DESCRIPTION:Join us for dice rolling\, laughter\, and great company! \nHosted by the Women’s Fellowship of Living Hope \nDoors open at 7 PM; Game begins at 7:30 PM \nRegister at: \nhttps://onrealm.org/livinghopect/PublicRegistrations/Event?linkString=MjBhYWFmOTEtNDNhOS00NzNjLWFlYzYtYjNkZTAxMTFmNjFm
URL:https://livinghopect.org/event/shake-your-shamrocks-ladies-bunco-night/
LOCATION:Living Hope Community Church\, 38 West End Ave\, Old Greenwich\, CT\, 10118\, United States
CATEGORIES:Women's Ministry
ATTACH;FMTTYPE=image/png:https://livinghopect.org/wp-content/uploads/2026/01/IMG_6408.png
ORGANIZER;CN="office":MAILTO:office@livinghopect.org
END:VEVENT
END:VCALENDAR