BEGIN:VCALENDAR
VERSION:2.0
PRODID:-//Living Hope Church Community CT - ECPv6.15.19//NONSGML v1.0//EN
CALSCALE:GREGORIAN
METHOD:PUBLISH
X-ORIGINAL-URL:https://livinghopect.org
X-WR-CALDESC:Events for Living Hope Church Community CT
REFRESH-INTERVAL;VALUE=DURATION:PT1H
X-Robots-Tag:noindex
X-PUBLISHED-TTL:PT1H
BEGIN:VTIMEZONE
TZID:America/New_York
BEGIN:DAYLIGHT
TZOFFSETFROM:-0500
TZOFFSETTO:-0400
TZNAME:EDT
DTSTART:20280312T070000
END:DAYLIGHT
BEGIN:STANDARD
TZOFFSETFROM:-0400
TZOFFSETTO:-0500
TZNAME:EST
DTSTART:20281105T060000
END:STANDARD
BEGIN:DAYLIGHT
TZOFFSETFROM:-0500
TZOFFSETTO:-0400
TZNAME:EDT
DTSTART:20290311T070000
END:DAYLIGHT
BEGIN:STANDARD
TZOFFSETFROM:-0400
TZOFFSETTO:-0500
TZNAME:EST
DTSTART:20291104T060000
END:STANDARD
BEGIN:DAYLIGHT
TZOFFSETFROM:-0500
TZOFFSETTO:-0400
TZNAME:EDT
DTSTART:20300310T070000
END:DAYLIGHT
BEGIN:STANDARD
TZOFFSETFROM:-0400
TZOFFSETTO:-0500
TZNAME:EST
DTSTART:20301103T060000
END:STANDARD
BEGIN:DAYLIGHT
TZOFFSETFROM:-0500
TZOFFSETTO:-0400
TZNAME:EDT
DTSTART:20310309T070000
END:DAYLIGHT
BEGIN:STANDARD
TZOFFSETFROM:-0400
TZOFFSETTO:-0500
TZNAME:EST
DTSTART:20311102T060000
END:STANDARD
END:VTIMEZONE
BEGIN:VEVENT
DTSTART;TZID=America/New_York:20290819T100000
DTEND;TZID=America/New_York:20290819T111500
DTSTAMP:20260419T133826
CREATED:20250331T143248Z
LAST-MODIFIED:20250610T142532Z
UID:10002106-1881828000-1881832500@livinghopect.org
SUMMARY:Sundays: Worship Service
DESCRIPTION: 
URL:https://livinghopect.org/event/sundays-morning-services/2029-08-19/
LOCATION:Living Hope Community Church\, 38 West End Ave\, Old Greenwich\, CT\, 10118\, United States
CATEGORIES:Sunday Services
ATTACH;FMTTYPE=image/jpeg:https://livinghopect.org/wp-content/uploads/2025/03/sunday-service-e1741750136601.jpeg
END:VEVENT
BEGIN:VEVENT
DTSTART;TZID=America/New_York:20290826T100000
DTEND;TZID=America/New_York:20290826T111500
DTSTAMP:20260419T133826
CREATED:20250331T143248Z
LAST-MODIFIED:20250610T142532Z
UID:10002107-1882432800-1882437300@livinghopect.org
SUMMARY:Sundays: Worship Service
DESCRIPTION: 
URL:https://livinghopect.org/event/sundays-morning-services/2029-08-26/
LOCATION:Living Hope Community Church\, 38 West End Ave\, Old Greenwich\, CT\, 10118\, United States
CATEGORIES:Sunday Services
ATTACH;FMTTYPE=image/jpeg:https://livinghopect.org/wp-content/uploads/2025/03/sunday-service-e1741750136601.jpeg
END:VEVENT
BEGIN:VEVENT
DTSTART;TZID=America/New_York:20290902T100000
DTEND;TZID=America/New_York:20290902T111500
DTSTAMP:20260419T133826
CREATED:20250331T143248Z
LAST-MODIFIED:20250610T142532Z
UID:10002108-1883037600-1883042100@livinghopect.org
SUMMARY:Sundays: Worship Service
DESCRIPTION: 
URL:https://livinghopect.org/event/sundays-morning-services/2029-09-02/
LOCATION:Living Hope Community Church\, 38 West End Ave\, Old Greenwich\, CT\, 10118\, United States
CATEGORIES:Sunday Services
ATTACH;FMTTYPE=image/jpeg:https://livinghopect.org/wp-content/uploads/2025/03/sunday-service-e1741750136601.jpeg
END:VEVENT
BEGIN:VEVENT
DTSTART;TZID=America/New_York:20290909T100000
DTEND;TZID=America/New_York:20290909T111500
DTSTAMP:20260419T133826
CREATED:20250331T143248Z
LAST-MODIFIED:20250610T142532Z
UID:10002109-1883642400-1883646900@livinghopect.org
SUMMARY:Sundays: Worship Service
DESCRIPTION: 
URL:https://livinghopect.org/event/sundays-morning-services/2029-09-09/
LOCATION:Living Hope Community Church\, 38 West End Ave\, Old Greenwich\, CT\, 10118\, United States
CATEGORIES:Sunday Services
ATTACH;FMTTYPE=image/jpeg:https://livinghopect.org/wp-content/uploads/2025/03/sunday-service-e1741750136601.jpeg
END:VEVENT
BEGIN:VEVENT
DTSTART;TZID=America/New_York:20290916T100000
DTEND;TZID=America/New_York:20290916T111500
DTSTAMP:20260419T133826
CREATED:20250331T143248Z
LAST-MODIFIED:20250610T142532Z
UID:10002110-1884247200-1884251700@livinghopect.org
SUMMARY:Sundays: Worship Service
DESCRIPTION: 
URL:https://livinghopect.org/event/sundays-morning-services/2029-09-16/
LOCATION:Living Hope Community Church\, 38 West End Ave\, Old Greenwich\, CT\, 10118\, United States
CATEGORIES:Sunday Services
ATTACH;FMTTYPE=image/jpeg:https://livinghopect.org/wp-content/uploads/2025/03/sunday-service-e1741750136601.jpeg
END:VEVENT
BEGIN:VEVENT
DTSTART;TZID=America/New_York:20290923T100000
DTEND;TZID=America/New_York:20290923T111500
DTSTAMP:20260419T133826
CREATED:20250331T143248Z
LAST-MODIFIED:20250610T142532Z
UID:10002111-1884852000-1884856500@livinghopect.org
SUMMARY:Sundays: Worship Service
DESCRIPTION: 
URL:https://livinghopect.org/event/sundays-morning-services/2029-09-23/
LOCATION:Living Hope Community Church\, 38 West End Ave\, Old Greenwich\, CT\, 10118\, United States
CATEGORIES:Sunday Services
ATTACH;FMTTYPE=image/jpeg:https://livinghopect.org/wp-content/uploads/2025/03/sunday-service-e1741750136601.jpeg
END:VEVENT
BEGIN:VEVENT
DTSTART;TZID=America/New_York:20290930T100000
DTEND;TZID=America/New_York:20290930T111500
DTSTAMP:20260419T133826
CREATED:20250331T143248Z
LAST-MODIFIED:20250610T142532Z
UID:10002112-1885456800-1885461300@livinghopect.org
SUMMARY:Sundays: Worship Service
DESCRIPTION: 
URL:https://livinghopect.org/event/sundays-morning-services/2029-09-30/
LOCATION:Living Hope Community Church\, 38 West End Ave\, Old Greenwich\, CT\, 10118\, United States
CATEGORIES:Sunday Services
ATTACH;FMTTYPE=image/jpeg:https://livinghopect.org/wp-content/uploads/2025/03/sunday-service-e1741750136601.jpeg
END:VEVENT
BEGIN:VEVENT
DTSTART;TZID=America/New_York:20291007T100000
DTEND;TZID=America/New_York:20291007T111500
DTSTAMP:20260419T133826
CREATED:20250331T143248Z
LAST-MODIFIED:20250610T142532Z
UID:10002113-1886061600-1886066100@livinghopect.org
SUMMARY:Sundays: Worship Service
DESCRIPTION: 
URL:https://livinghopect.org/event/sundays-morning-services/2029-10-07/
LOCATION:Living Hope Community Church\, 38 West End Ave\, Old Greenwich\, CT\, 10118\, United States
CATEGORIES:Sunday Services
ATTACH;FMTTYPE=image/jpeg:https://livinghopect.org/wp-content/uploads/2025/03/sunday-service-e1741750136601.jpeg
END:VEVENT
BEGIN:VEVENT
DTSTART;TZID=America/New_York:20291014T100000
DTEND;TZID=America/New_York:20291014T111500
DTSTAMP:20260419T133826
CREATED:20250331T143248Z
LAST-MODIFIED:20250610T142532Z
UID:10002114-1886666400-1886670900@livinghopect.org
SUMMARY:Sundays: Worship Service
DESCRIPTION: 
URL:https://livinghopect.org/event/sundays-morning-services/2029-10-14/
LOCATION:Living Hope Community Church\, 38 West End Ave\, Old Greenwich\, CT\, 10118\, United States
CATEGORIES:Sunday Services
ATTACH;FMTTYPE=image/jpeg:https://livinghopect.org/wp-content/uploads/2025/03/sunday-service-e1741750136601.jpeg
END:VEVENT
BEGIN:VEVENT
DTSTART;TZID=America/New_York:20291021T100000
DTEND;TZID=America/New_York:20291021T111500
DTSTAMP:20260419T133826
CREATED:20250331T143248Z
LAST-MODIFIED:20250610T142532Z
UID:10002115-1887271200-1887275700@livinghopect.org
SUMMARY:Sundays: Worship Service
DESCRIPTION: 
URL:https://livinghopect.org/event/sundays-morning-services/2029-10-21/
LOCATION:Living Hope Community Church\, 38 West End Ave\, Old Greenwich\, CT\, 10118\, United States
CATEGORIES:Sunday Services
ATTACH;FMTTYPE=image/jpeg:https://livinghopect.org/wp-content/uploads/2025/03/sunday-service-e1741750136601.jpeg
END:VEVENT
BEGIN:VEVENT
DTSTART;TZID=America/New_York:20291028T100000
DTEND;TZID=America/New_York:20291028T111500
DTSTAMP:20260419T133826
CREATED:20250331T143248Z
LAST-MODIFIED:20250610T142532Z
UID:10002116-1887876000-1887880500@livinghopect.org
SUMMARY:Sundays: Worship Service
DESCRIPTION: 
URL:https://livinghopect.org/event/sundays-morning-services/2029-10-28/
LOCATION:Living Hope Community Church\, 38 West End Ave\, Old Greenwich\, CT\, 10118\, United States
CATEGORIES:Sunday Services
ATTACH;FMTTYPE=image/jpeg:https://livinghopect.org/wp-content/uploads/2025/03/sunday-service-e1741750136601.jpeg
END:VEVENT
BEGIN:VEVENT
DTSTART;TZID=America/New_York:20291104T100000
DTEND;TZID=America/New_York:20291104T111500
DTSTAMP:20260419T133826
CREATED:20250331T143248Z
LAST-MODIFIED:20250610T142532Z
UID:10002117-1888480800-1888485300@livinghopect.org
SUMMARY:Sundays: Worship Service
DESCRIPTION: 
URL:https://livinghopect.org/event/sundays-morning-services/2029-11-04/
LOCATION:Living Hope Community Church\, 38 West End Ave\, Old Greenwich\, CT\, 10118\, United States
CATEGORIES:Sunday Services
ATTACH;FMTTYPE=image/jpeg:https://livinghopect.org/wp-content/uploads/2025/03/sunday-service-e1741750136601.jpeg
END:VEVENT
BEGIN:VEVENT
DTSTART;TZID=America/New_York:20291111T100000
DTEND;TZID=America/New_York:20291111T111500
DTSTAMP:20260419T133826
CREATED:20250331T143248Z
LAST-MODIFIED:20250610T142532Z
UID:10002118-1889085600-1889090100@livinghopect.org
SUMMARY:Sundays: Worship Service
DESCRIPTION: 
URL:https://livinghopect.org/event/sundays-morning-services/2029-11-11/
LOCATION:Living Hope Community Church\, 38 West End Ave\, Old Greenwich\, CT\, 10118\, United States
CATEGORIES:Sunday Services
ATTACH;FMTTYPE=image/jpeg:https://livinghopect.org/wp-content/uploads/2025/03/sunday-service-e1741750136601.jpeg
END:VEVENT
BEGIN:VEVENT
DTSTART;TZID=America/New_York:20291118T100000
DTEND;TZID=America/New_York:20291118T111500
DTSTAMP:20260419T133826
CREATED:20250331T143248Z
LAST-MODIFIED:20250610T142532Z
UID:10002119-1889690400-1889694900@livinghopect.org
SUMMARY:Sundays: Worship Service
DESCRIPTION: 
URL:https://livinghopect.org/event/sundays-morning-services/2029-11-18/
LOCATION:Living Hope Community Church\, 38 West End Ave\, Old Greenwich\, CT\, 10118\, United States
CATEGORIES:Sunday Services
ATTACH;FMTTYPE=image/jpeg:https://livinghopect.org/wp-content/uploads/2025/03/sunday-service-e1741750136601.jpeg
END:VEVENT
BEGIN:VEVENT
DTSTART;TZID=America/New_York:20291125T100000
DTEND;TZID=America/New_York:20291125T111500
DTSTAMP:20260419T133826
CREATED:20250331T143248Z
LAST-MODIFIED:20250610T142532Z
UID:10002120-1890295200-1890299700@livinghopect.org
SUMMARY:Sundays: Worship Service
DESCRIPTION: 
URL:https://livinghopect.org/event/sundays-morning-services/2029-11-25/
LOCATION:Living Hope Community Church\, 38 West End Ave\, Old Greenwich\, CT\, 10118\, United States
CATEGORIES:Sunday Services
ATTACH;FMTTYPE=image/jpeg:https://livinghopect.org/wp-content/uploads/2025/03/sunday-service-e1741750136601.jpeg
END:VEVENT
BEGIN:VEVENT
DTSTART;TZID=America/New_York:20291202T100000
DTEND;TZID=America/New_York:20291202T111500
DTSTAMP:20260419T133826
CREATED:20250331T143248Z
LAST-MODIFIED:20250610T142532Z
UID:10002121-1890900000-1890904500@livinghopect.org
SUMMARY:Sundays: Worship Service
DESCRIPTION: 
URL:https://livinghopect.org/event/sundays-morning-services/2029-12-02/
LOCATION:Living Hope Community Church\, 38 West End Ave\, Old Greenwich\, CT\, 10118\, United States
CATEGORIES:Sunday Services
ATTACH;FMTTYPE=image/jpeg:https://livinghopect.org/wp-content/uploads/2025/03/sunday-service-e1741750136601.jpeg
END:VEVENT
BEGIN:VEVENT
DTSTART;TZID=America/New_York:20291209T100000
DTEND;TZID=America/New_York:20291209T111500
DTSTAMP:20260419T133826
CREATED:20250331T143248Z
LAST-MODIFIED:20250610T142532Z
UID:10002122-1891504800-1891509300@livinghopect.org
SUMMARY:Sundays: Worship Service
DESCRIPTION: 
URL:https://livinghopect.org/event/sundays-morning-services/2029-12-09/
LOCATION:Living Hope Community Church\, 38 West End Ave\, Old Greenwich\, CT\, 10118\, United States
CATEGORIES:Sunday Services
ATTACH;FMTTYPE=image/jpeg:https://livinghopect.org/wp-content/uploads/2025/03/sunday-service-e1741750136601.jpeg
END:VEVENT
BEGIN:VEVENT
DTSTART;TZID=America/New_York:20291216T100000
DTEND;TZID=America/New_York:20291216T111500
DTSTAMP:20260419T133826
CREATED:20250331T143248Z
LAST-MODIFIED:20250610T142532Z
UID:10002123-1892109600-1892114100@livinghopect.org
SUMMARY:Sundays: Worship Service
DESCRIPTION: 
URL:https://livinghopect.org/event/sundays-morning-services/2029-12-16/
LOCATION:Living Hope Community Church\, 38 West End Ave\, Old Greenwich\, CT\, 10118\, United States
CATEGORIES:Sunday Services
ATTACH;FMTTYPE=image/jpeg:https://livinghopect.org/wp-content/uploads/2025/03/sunday-service-e1741750136601.jpeg
END:VEVENT
BEGIN:VEVENT
DTSTART;TZID=America/New_York:20291223T100000
DTEND;TZID=America/New_York:20291223T111500
DTSTAMP:20260419T133826
CREATED:20250331T143248Z
LAST-MODIFIED:20250610T142532Z
UID:10002124-1892714400-1892718900@livinghopect.org
SUMMARY:Sundays: Worship Service
DESCRIPTION: 
URL:https://livinghopect.org/event/sundays-morning-services/2029-12-23/
LOCATION:Living Hope Community Church\, 38 West End Ave\, Old Greenwich\, CT\, 10118\, United States
CATEGORIES:Sunday Services
ATTACH;FMTTYPE=image/jpeg:https://livinghopect.org/wp-content/uploads/2025/03/sunday-service-e1741750136601.jpeg
END:VEVENT
BEGIN:VEVENT
DTSTART;TZID=America/New_York:20291230T100000
DTEND;TZID=America/New_York:20291230T111500
DTSTAMP:20260419T133826
CREATED:20250331T143248Z
LAST-MODIFIED:20250610T142532Z
UID:10002125-1893319200-1893323700@livinghopect.org
SUMMARY:Sundays: Worship Service
DESCRIPTION: 
URL:https://livinghopect.org/event/sundays-morning-services/2029-12-30/
LOCATION:Living Hope Community Church\, 38 West End Ave\, Old Greenwich\, CT\, 10118\, United States
CATEGORIES:Sunday Services
ATTACH;FMTTYPE=image/jpeg:https://livinghopect.org/wp-content/uploads/2025/03/sunday-service-e1741750136601.jpeg
END:VEVENT
BEGIN:VEVENT
DTSTART;TZID=America/New_York:20300106T100000
DTEND;TZID=America/New_York:20300106T111500
DTSTAMP:20260419T133826
CREATED:20250331T143248Z
LAST-MODIFIED:20250610T142532Z
UID:10002126-1893924000-1893928500@livinghopect.org
SUMMARY:Sundays: Worship Service
DESCRIPTION: 
URL:https://livinghopect.org/event/sundays-morning-services/2030-01-06/
LOCATION:Living Hope Community Church\, 38 West End Ave\, Old Greenwich\, CT\, 10118\, United States
CATEGORIES:Sunday Services
ATTACH;FMTTYPE=image/jpeg:https://livinghopect.org/wp-content/uploads/2025/03/sunday-service-e1741750136601.jpeg
END:VEVENT
BEGIN:VEVENT
DTSTART;TZID=America/New_York:20300113T100000
DTEND;TZID=America/New_York:20300113T111500
DTSTAMP:20260419T133826
CREATED:20250331T143248Z
LAST-MODIFIED:20250610T142532Z
UID:10002127-1894528800-1894533300@livinghopect.org
SUMMARY:Sundays: Worship Service
DESCRIPTION: 
URL:https://livinghopect.org/event/sundays-morning-services/2030-01-13/
LOCATION:Living Hope Community Church\, 38 West End Ave\, Old Greenwich\, CT\, 10118\, United States
CATEGORIES:Sunday Services
ATTACH;FMTTYPE=image/jpeg:https://livinghopect.org/wp-content/uploads/2025/03/sunday-service-e1741750136601.jpeg
END:VEVENT
BEGIN:VEVENT
DTSTART;TZID=America/New_York:20300120T100000
DTEND;TZID=America/New_York:20300120T111500
DTSTAMP:20260419T133826
CREATED:20250331T143248Z
LAST-MODIFIED:20250610T142532Z
UID:10002128-1895133600-1895138100@livinghopect.org
SUMMARY:Sundays: Worship Service
DESCRIPTION: 
URL:https://livinghopect.org/event/sundays-morning-services/2030-01-20/
LOCATION:Living Hope Community Church\, 38 West End Ave\, Old Greenwich\, CT\, 10118\, United States
CATEGORIES:Sunday Services
ATTACH;FMTTYPE=image/jpeg:https://livinghopect.org/wp-content/uploads/2025/03/sunday-service-e1741750136601.jpeg
END:VEVENT
BEGIN:VEVENT
DTSTART;TZID=America/New_York:20300127T100000
DTEND;TZID=America/New_York:20300127T111500
DTSTAMP:20260419T133826
CREATED:20250331T143248Z
LAST-MODIFIED:20250610T142532Z
UID:10002129-1895738400-1895742900@livinghopect.org
SUMMARY:Sundays: Worship Service
DESCRIPTION: 
URL:https://livinghopect.org/event/sundays-morning-services/2030-01-27/
LOCATION:Living Hope Community Church\, 38 West End Ave\, Old Greenwich\, CT\, 10118\, United States
CATEGORIES:Sunday Services
ATTACH;FMTTYPE=image/jpeg:https://livinghopect.org/wp-content/uploads/2025/03/sunday-service-e1741750136601.jpeg
END:VEVENT
BEGIN:VEVENT
DTSTART;TZID=America/New_York:20300203T100000
DTEND;TZID=America/New_York:20300203T111500
DTSTAMP:20260419T133826
CREATED:20250331T143248Z
LAST-MODIFIED:20250610T142532Z
UID:10002130-1896343200-1896347700@livinghopect.org
SUMMARY:Sundays: Worship Service
DESCRIPTION: 
URL:https://livinghopect.org/event/sundays-morning-services/2030-02-03/
LOCATION:Living Hope Community Church\, 38 West End Ave\, Old Greenwich\, CT\, 10118\, United States
CATEGORIES:Sunday Services
ATTACH;FMTTYPE=image/jpeg:https://livinghopect.org/wp-content/uploads/2025/03/sunday-service-e1741750136601.jpeg
END:VEVENT
BEGIN:VEVENT
DTSTART;TZID=America/New_York:20300210T100000
DTEND;TZID=America/New_York:20300210T111500
DTSTAMP:20260419T133826
CREATED:20250331T143248Z
LAST-MODIFIED:20250610T142532Z
UID:10002131-1896948000-1896952500@livinghopect.org
SUMMARY:Sundays: Worship Service
DESCRIPTION: 
URL:https://livinghopect.org/event/sundays-morning-services/2030-02-10/
LOCATION:Living Hope Community Church\, 38 West End Ave\, Old Greenwich\, CT\, 10118\, United States
CATEGORIES:Sunday Services
ATTACH;FMTTYPE=image/jpeg:https://livinghopect.org/wp-content/uploads/2025/03/sunday-service-e1741750136601.jpeg
END:VEVENT
BEGIN:VEVENT
DTSTART;TZID=America/New_York:20300217T100000
DTEND;TZID=America/New_York:20300217T111500
DTSTAMP:20260419T133826
CREATED:20250331T143248Z
LAST-MODIFIED:20250610T142532Z
UID:10002132-1897552800-1897557300@livinghopect.org
SUMMARY:Sundays: Worship Service
DESCRIPTION: 
URL:https://livinghopect.org/event/sundays-morning-services/2030-02-17/
LOCATION:Living Hope Community Church\, 38 West End Ave\, Old Greenwich\, CT\, 10118\, United States
CATEGORIES:Sunday Services
ATTACH;FMTTYPE=image/jpeg:https://livinghopect.org/wp-content/uploads/2025/03/sunday-service-e1741750136601.jpeg
END:VEVENT
BEGIN:VEVENT
DTSTART;TZID=America/New_York:20300224T100000
DTEND;TZID=America/New_York:20300224T111500
DTSTAMP:20260419T133826
CREATED:20250331T143248Z
LAST-MODIFIED:20250610T142532Z
UID:10002133-1898157600-1898162100@livinghopect.org
SUMMARY:Sundays: Worship Service
DESCRIPTION: 
URL:https://livinghopect.org/event/sundays-morning-services/2030-02-24/
LOCATION:Living Hope Community Church\, 38 West End Ave\, Old Greenwich\, CT\, 10118\, United States
CATEGORIES:Sunday Services
ATTACH;FMTTYPE=image/jpeg:https://livinghopect.org/wp-content/uploads/2025/03/sunday-service-e1741750136601.jpeg
END:VEVENT
BEGIN:VEVENT
DTSTART;TZID=America/New_York:20300303T100000
DTEND;TZID=America/New_York:20300303T111500
DTSTAMP:20260419T133826
CREATED:20250331T143248Z
LAST-MODIFIED:20250610T142532Z
UID:10002134-1898762400-1898766900@livinghopect.org
SUMMARY:Sundays: Worship Service
DESCRIPTION: 
URL:https://livinghopect.org/event/sundays-morning-services/2030-03-03/
LOCATION:Living Hope Community Church\, 38 West End Ave\, Old Greenwich\, CT\, 10118\, United States
CATEGORIES:Sunday Services
ATTACH;FMTTYPE=image/jpeg:https://livinghopect.org/wp-content/uploads/2025/03/sunday-service-e1741750136601.jpeg
END:VEVENT
BEGIN:VEVENT
DTSTART;TZID=America/New_York:20300310T100000
DTEND;TZID=America/New_York:20300310T111500
DTSTAMP:20260419T133826
CREATED:20250331T143248Z
LAST-MODIFIED:20250610T142532Z
UID:10002135-1899367200-1899371700@livinghopect.org
SUMMARY:Sundays: Worship Service
DESCRIPTION: 
URL:https://livinghopect.org/event/sundays-morning-services/2030-03-10/
LOCATION:Living Hope Community Church\, 38 West End Ave\, Old Greenwich\, CT\, 10118\, United States
CATEGORIES:Sunday Services
ATTACH;FMTTYPE=image/jpeg:https://livinghopect.org/wp-content/uploads/2025/03/sunday-service-e1741750136601.jpeg
END:VEVENT
END:VCALENDAR