BEGIN:VCALENDAR
VERSION:2.0
PRODID:-//Living Hope Church Community CT - ECPv6.15.19//NONSGML v1.0//EN
CALSCALE:GREGORIAN
METHOD:PUBLISH
X-ORIGINAL-URL:https://livinghopect.org
X-WR-CALDESC:Events for Living Hope Church Community CT
REFRESH-INTERVAL;VALUE=DURATION:PT1H
X-Robots-Tag:noindex
X-PUBLISHED-TTL:PT1H
BEGIN:VTIMEZONE
TZID:America/New_York
BEGIN:DAYLIGHT
TZOFFSETFROM:-0500
TZOFFSETTO:-0400
TZNAME:EDT
DTSTART:20250309T070000
END:DAYLIGHT
BEGIN:STANDARD
TZOFFSETFROM:-0400
TZOFFSETTO:-0500
TZNAME:EST
DTSTART:20251102T060000
END:STANDARD
BEGIN:DAYLIGHT
TZOFFSETFROM:-0500
TZOFFSETTO:-0400
TZNAME:EDT
DTSTART:20260308T070000
END:DAYLIGHT
BEGIN:STANDARD
TZOFFSETFROM:-0400
TZOFFSETTO:-0500
TZNAME:EST
DTSTART:20261101T060000
END:STANDARD
BEGIN:DAYLIGHT
TZOFFSETFROM:-0500
TZOFFSETTO:-0400
TZNAME:EDT
DTSTART:20270314T070000
END:DAYLIGHT
BEGIN:STANDARD
TZOFFSETFROM:-0400
TZOFFSETTO:-0500
TZNAME:EST
DTSTART:20271107T060000
END:STANDARD
BEGIN:DAYLIGHT
TZOFFSETFROM:-0500
TZOFFSETTO:-0400
TZNAME:EDT
DTSTART:20280312T070000
END:DAYLIGHT
BEGIN:STANDARD
TZOFFSETFROM:-0400
TZOFFSETTO:-0500
TZNAME:EST
DTSTART:20281105T060000
END:STANDARD
END:VTIMEZONE
BEGIN:VEVENT
DTSTART;TZID=America/New_York:20261128T080000
DTEND;TZID=America/New_York:20261128T093000
DTSTAMP:20260425T084327
CREATED:20250331T142734Z
LAST-MODIFIED:20251230T162414Z
UID:10000566-1795852800-1795858200@livinghopect.org
SUMMARY:Saturdays: Men's Fellowship
DESCRIPTION:Men are invited to a meaningful journey through The Measure of a Man by Gene A. Getz\, as we explore God’s call to faith\, character\, and leadership in everyday life. \nBooks are available for purchase at church\, $20 each. \nSign up on Realm \nhttps://onrealm.org/livinghopect/PublicRegistrations/Event?linkString=NjlhOGViN2MtZmZiZS00ZTMxLWE4NjItYjNiNTAxMjdkZmQz \n\n\n\n\n\n 
URL:https://livinghopect.org/event/saturdays-mens-fellowship8am/2026-11-28/
LOCATION:Living Hope Community Church\, 38 West End Ave\, Old Greenwich\, CT\, 10118\, United States
CATEGORIES:Men's Ministry
ATTACH;FMTTYPE=image/jpeg:https://livinghopect.org/wp-content/uploads/2025/03/measure-of-a-man.jpeg
END:VEVENT
BEGIN:VEVENT
DTSTART;TZID=America/New_York:20261129T090000
DTEND;TZID=America/New_York:20261129T100000
DTSTAMP:20260425T084327
CREATED:20250623T215707Z
LAST-MODIFIED:20250623T215914Z
UID:10003429-1795942800-1795946400@livinghopect.org
SUMMARY:Forum for Fathers
DESCRIPTION:Are you a man with or who has kids or family members with ADHD? We meet Sundays at 9AM at the church to pray\, seek God\, and encourage each other. Contact Todd.klair@gmail.com for more info.
URL:https://livinghopect.org/event/forum-for-fathers/2026-11-29/
LOCATION:Living Hope Community Church\, 38 West End Avenue\, Old Greenwich\, CT\, 06870\, United States
CATEGORIES:Men's Ministry
ATTACH;FMTTYPE=image/jpeg:https://livinghopect.org/wp-content/uploads/2025/06/ADHD-image-scaled.jpg
END:VEVENT
BEGIN:VEVENT
DTSTART;TZID=America/New_York:20261205T080000
DTEND;TZID=America/New_York:20261205T093000
DTSTAMP:20260425T084327
CREATED:20250331T142734Z
LAST-MODIFIED:20251230T162414Z
UID:10000567-1796457600-1796463000@livinghopect.org
SUMMARY:Saturdays: Men's Fellowship
DESCRIPTION:Men are invited to a meaningful journey through The Measure of a Man by Gene A. Getz\, as we explore God’s call to faith\, character\, and leadership in everyday life. \nBooks are available for purchase at church\, $20 each. \nSign up on Realm \nhttps://onrealm.org/livinghopect/PublicRegistrations/Event?linkString=NjlhOGViN2MtZmZiZS00ZTMxLWE4NjItYjNiNTAxMjdkZmQz \n\n\n\n\n\n 
URL:https://livinghopect.org/event/saturdays-mens-fellowship8am/2026-12-05/
LOCATION:Living Hope Community Church\, 38 West End Ave\, Old Greenwich\, CT\, 10118\, United States
CATEGORIES:Men's Ministry
ATTACH;FMTTYPE=image/jpeg:https://livinghopect.org/wp-content/uploads/2025/03/measure-of-a-man.jpeg
END:VEVENT
BEGIN:VEVENT
DTSTART;TZID=America/New_York:20261206T090000
DTEND;TZID=America/New_York:20261206T100000
DTSTAMP:20260425T084327
CREATED:20250623T215707Z
LAST-MODIFIED:20250623T215914Z
UID:10003430-1796547600-1796551200@livinghopect.org
SUMMARY:Forum for Fathers
DESCRIPTION:Are you a man with or who has kids or family members with ADHD? We meet Sundays at 9AM at the church to pray\, seek God\, and encourage each other. Contact Todd.klair@gmail.com for more info.
URL:https://livinghopect.org/event/forum-for-fathers/2026-12-06/
LOCATION:Living Hope Community Church\, 38 West End Avenue\, Old Greenwich\, CT\, 06870\, United States
CATEGORIES:Men's Ministry
ATTACH;FMTTYPE=image/jpeg:https://livinghopect.org/wp-content/uploads/2025/06/ADHD-image-scaled.jpg
END:VEVENT
BEGIN:VEVENT
DTSTART;TZID=America/New_York:20261212T080000
DTEND;TZID=America/New_York:20261212T093000
DTSTAMP:20260425T084327
CREATED:20250331T142734Z
LAST-MODIFIED:20251230T162414Z
UID:10000568-1797062400-1797067800@livinghopect.org
SUMMARY:Saturdays: Men's Fellowship
DESCRIPTION:Men are invited to a meaningful journey through The Measure of a Man by Gene A. Getz\, as we explore God’s call to faith\, character\, and leadership in everyday life. \nBooks are available for purchase at church\, $20 each. \nSign up on Realm \nhttps://onrealm.org/livinghopect/PublicRegistrations/Event?linkString=NjlhOGViN2MtZmZiZS00ZTMxLWE4NjItYjNiNTAxMjdkZmQz \n\n\n\n\n\n 
URL:https://livinghopect.org/event/saturdays-mens-fellowship8am/2026-12-12/
LOCATION:Living Hope Community Church\, 38 West End Ave\, Old Greenwich\, CT\, 10118\, United States
CATEGORIES:Men's Ministry
ATTACH;FMTTYPE=image/jpeg:https://livinghopect.org/wp-content/uploads/2025/03/measure-of-a-man.jpeg
END:VEVENT
BEGIN:VEVENT
DTSTART;TZID=America/New_York:20261213T090000
DTEND;TZID=America/New_York:20261213T100000
DTSTAMP:20260425T084327
CREATED:20250623T215707Z
LAST-MODIFIED:20250623T215914Z
UID:10003431-1797152400-1797156000@livinghopect.org
SUMMARY:Forum for Fathers
DESCRIPTION:Are you a man with or who has kids or family members with ADHD? We meet Sundays at 9AM at the church to pray\, seek God\, and encourage each other. Contact Todd.klair@gmail.com for more info.
URL:https://livinghopect.org/event/forum-for-fathers/2026-12-13/
LOCATION:Living Hope Community Church\, 38 West End Avenue\, Old Greenwich\, CT\, 06870\, United States
CATEGORIES:Men's Ministry
ATTACH;FMTTYPE=image/jpeg:https://livinghopect.org/wp-content/uploads/2025/06/ADHD-image-scaled.jpg
END:VEVENT
BEGIN:VEVENT
DTSTART;TZID=America/New_York:20261219T080000
DTEND;TZID=America/New_York:20261219T093000
DTSTAMP:20260425T084327
CREATED:20250331T142734Z
LAST-MODIFIED:20251230T162414Z
UID:10000569-1797667200-1797672600@livinghopect.org
SUMMARY:Saturdays: Men's Fellowship
DESCRIPTION:Men are invited to a meaningful journey through The Measure of a Man by Gene A. Getz\, as we explore God’s call to faith\, character\, and leadership in everyday life. \nBooks are available for purchase at church\, $20 each. \nSign up on Realm \nhttps://onrealm.org/livinghopect/PublicRegistrations/Event?linkString=NjlhOGViN2MtZmZiZS00ZTMxLWE4NjItYjNiNTAxMjdkZmQz \n\n\n\n\n\n 
URL:https://livinghopect.org/event/saturdays-mens-fellowship8am/2026-12-19/
LOCATION:Living Hope Community Church\, 38 West End Ave\, Old Greenwich\, CT\, 10118\, United States
CATEGORIES:Men's Ministry
ATTACH;FMTTYPE=image/jpeg:https://livinghopect.org/wp-content/uploads/2025/03/measure-of-a-man.jpeg
END:VEVENT
BEGIN:VEVENT
DTSTART;TZID=America/New_York:20261220T090000
DTEND;TZID=America/New_York:20261220T100000
DTSTAMP:20260425T084327
CREATED:20250623T215707Z
LAST-MODIFIED:20250623T215914Z
UID:10003432-1797757200-1797760800@livinghopect.org
SUMMARY:Forum for Fathers
DESCRIPTION:Are you a man with or who has kids or family members with ADHD? We meet Sundays at 9AM at the church to pray\, seek God\, and encourage each other. Contact Todd.klair@gmail.com for more info.
URL:https://livinghopect.org/event/forum-for-fathers/2026-12-20/
LOCATION:Living Hope Community Church\, 38 West End Avenue\, Old Greenwich\, CT\, 06870\, United States
CATEGORIES:Men's Ministry
ATTACH;FMTTYPE=image/jpeg:https://livinghopect.org/wp-content/uploads/2025/06/ADHD-image-scaled.jpg
END:VEVENT
BEGIN:VEVENT
DTSTART;TZID=America/New_York:20261226T080000
DTEND;TZID=America/New_York:20261226T093000
DTSTAMP:20260425T084327
CREATED:20250331T142734Z
LAST-MODIFIED:20251230T162414Z
UID:10000570-1798272000-1798277400@livinghopect.org
SUMMARY:Saturdays: Men's Fellowship
DESCRIPTION:Men are invited to a meaningful journey through The Measure of a Man by Gene A. Getz\, as we explore God’s call to faith\, character\, and leadership in everyday life. \nBooks are available for purchase at church\, $20 each. \nSign up on Realm \nhttps://onrealm.org/livinghopect/PublicRegistrations/Event?linkString=NjlhOGViN2MtZmZiZS00ZTMxLWE4NjItYjNiNTAxMjdkZmQz \n\n\n\n\n\n 
URL:https://livinghopect.org/event/saturdays-mens-fellowship8am/2026-12-26/
LOCATION:Living Hope Community Church\, 38 West End Ave\, Old Greenwich\, CT\, 10118\, United States
CATEGORIES:Men's Ministry
ATTACH;FMTTYPE=image/jpeg:https://livinghopect.org/wp-content/uploads/2025/03/measure-of-a-man.jpeg
END:VEVENT
BEGIN:VEVENT
DTSTART;TZID=America/New_York:20261227T090000
DTEND;TZID=America/New_York:20261227T100000
DTSTAMP:20260425T084327
CREATED:20250623T215707Z
LAST-MODIFIED:20250623T215914Z
UID:10003433-1798362000-1798365600@livinghopect.org
SUMMARY:Forum for Fathers
DESCRIPTION:Are you a man with or who has kids or family members with ADHD? We meet Sundays at 9AM at the church to pray\, seek God\, and encourage each other. Contact Todd.klair@gmail.com for more info.
URL:https://livinghopect.org/event/forum-for-fathers/2026-12-27/
LOCATION:Living Hope Community Church\, 38 West End Avenue\, Old Greenwich\, CT\, 06870\, United States
CATEGORIES:Men's Ministry
ATTACH;FMTTYPE=image/jpeg:https://livinghopect.org/wp-content/uploads/2025/06/ADHD-image-scaled.jpg
END:VEVENT
BEGIN:VEVENT
DTSTART;TZID=America/New_York:20270102T080000
DTEND;TZID=America/New_York:20270102T093000
DTSTAMP:20260425T084327
CREATED:20250331T142734Z
LAST-MODIFIED:20251230T162414Z
UID:10000571-1798876800-1798882200@livinghopect.org
SUMMARY:Saturdays: Men's Fellowship
DESCRIPTION:Men are invited to a meaningful journey through The Measure of a Man by Gene A. Getz\, as we explore God’s call to faith\, character\, and leadership in everyday life. \nBooks are available for purchase at church\, $20 each. \nSign up on Realm \nhttps://onrealm.org/livinghopect/PublicRegistrations/Event?linkString=NjlhOGViN2MtZmZiZS00ZTMxLWE4NjItYjNiNTAxMjdkZmQz \n\n\n\n\n\n 
URL:https://livinghopect.org/event/saturdays-mens-fellowship8am/2027-01-02/
LOCATION:Living Hope Community Church\, 38 West End Ave\, Old Greenwich\, CT\, 10118\, United States
CATEGORIES:Men's Ministry
ATTACH;FMTTYPE=image/jpeg:https://livinghopect.org/wp-content/uploads/2025/03/measure-of-a-man.jpeg
END:VEVENT
BEGIN:VEVENT
DTSTART;TZID=America/New_York:20270103T090000
DTEND;TZID=America/New_York:20270103T100000
DTSTAMP:20260425T084327
CREATED:20250623T215707Z
LAST-MODIFIED:20250623T215914Z
UID:10003434-1798966800-1798970400@livinghopect.org
SUMMARY:Forum for Fathers
DESCRIPTION:Are you a man with or who has kids or family members with ADHD? We meet Sundays at 9AM at the church to pray\, seek God\, and encourage each other. Contact Todd.klair@gmail.com for more info.
URL:https://livinghopect.org/event/forum-for-fathers/2027-01-03/
LOCATION:Living Hope Community Church\, 38 West End Avenue\, Old Greenwich\, CT\, 06870\, United States
CATEGORIES:Men's Ministry
ATTACH;FMTTYPE=image/jpeg:https://livinghopect.org/wp-content/uploads/2025/06/ADHD-image-scaled.jpg
END:VEVENT
BEGIN:VEVENT
DTSTART;TZID=America/New_York:20270109T080000
DTEND;TZID=America/New_York:20270109T093000
DTSTAMP:20260425T084327
CREATED:20250331T142734Z
LAST-MODIFIED:20251230T162414Z
UID:10000572-1799481600-1799487000@livinghopect.org
SUMMARY:Saturdays: Men's Fellowship
DESCRIPTION:Men are invited to a meaningful journey through The Measure of a Man by Gene A. Getz\, as we explore God’s call to faith\, character\, and leadership in everyday life. \nBooks are available for purchase at church\, $20 each. \nSign up on Realm \nhttps://onrealm.org/livinghopect/PublicRegistrations/Event?linkString=NjlhOGViN2MtZmZiZS00ZTMxLWE4NjItYjNiNTAxMjdkZmQz \n\n\n\n\n\n 
URL:https://livinghopect.org/event/saturdays-mens-fellowship8am/2027-01-09/
LOCATION:Living Hope Community Church\, 38 West End Ave\, Old Greenwich\, CT\, 10118\, United States
CATEGORIES:Men's Ministry
ATTACH;FMTTYPE=image/jpeg:https://livinghopect.org/wp-content/uploads/2025/03/measure-of-a-man.jpeg
END:VEVENT
BEGIN:VEVENT
DTSTART;TZID=America/New_York:20270110T090000
DTEND;TZID=America/New_York:20270110T100000
DTSTAMP:20260425T084327
CREATED:20250623T215707Z
LAST-MODIFIED:20250623T215914Z
UID:10003435-1799571600-1799575200@livinghopect.org
SUMMARY:Forum for Fathers
DESCRIPTION:Are you a man with or who has kids or family members with ADHD? We meet Sundays at 9AM at the church to pray\, seek God\, and encourage each other. Contact Todd.klair@gmail.com for more info.
URL:https://livinghopect.org/event/forum-for-fathers/2027-01-10/
LOCATION:Living Hope Community Church\, 38 West End Avenue\, Old Greenwich\, CT\, 06870\, United States
CATEGORIES:Men's Ministry
ATTACH;FMTTYPE=image/jpeg:https://livinghopect.org/wp-content/uploads/2025/06/ADHD-image-scaled.jpg
END:VEVENT
BEGIN:VEVENT
DTSTART;TZID=America/New_York:20270116T080000
DTEND;TZID=America/New_York:20270116T093000
DTSTAMP:20260425T084327
CREATED:20250331T142734Z
LAST-MODIFIED:20251230T162414Z
UID:10000573-1800086400-1800091800@livinghopect.org
SUMMARY:Saturdays: Men's Fellowship
DESCRIPTION:Men are invited to a meaningful journey through The Measure of a Man by Gene A. Getz\, as we explore God’s call to faith\, character\, and leadership in everyday life. \nBooks are available for purchase at church\, $20 each. \nSign up on Realm \nhttps://onrealm.org/livinghopect/PublicRegistrations/Event?linkString=NjlhOGViN2MtZmZiZS00ZTMxLWE4NjItYjNiNTAxMjdkZmQz \n\n\n\n\n\n 
URL:https://livinghopect.org/event/saturdays-mens-fellowship8am/2027-01-16/
LOCATION:Living Hope Community Church\, 38 West End Ave\, Old Greenwich\, CT\, 10118\, United States
CATEGORIES:Men's Ministry
ATTACH;FMTTYPE=image/jpeg:https://livinghopect.org/wp-content/uploads/2025/03/measure-of-a-man.jpeg
END:VEVENT
BEGIN:VEVENT
DTSTART;TZID=America/New_York:20270117T090000
DTEND;TZID=America/New_York:20270117T100000
DTSTAMP:20260425T084327
CREATED:20250623T215707Z
LAST-MODIFIED:20250623T215914Z
UID:10003436-1800176400-1800180000@livinghopect.org
SUMMARY:Forum for Fathers
DESCRIPTION:Are you a man with or who has kids or family members with ADHD? We meet Sundays at 9AM at the church to pray\, seek God\, and encourage each other. Contact Todd.klair@gmail.com for more info.
URL:https://livinghopect.org/event/forum-for-fathers/2027-01-17/
LOCATION:Living Hope Community Church\, 38 West End Avenue\, Old Greenwich\, CT\, 06870\, United States
CATEGORIES:Men's Ministry
ATTACH;FMTTYPE=image/jpeg:https://livinghopect.org/wp-content/uploads/2025/06/ADHD-image-scaled.jpg
END:VEVENT
BEGIN:VEVENT
DTSTART;TZID=America/New_York:20270123T080000
DTEND;TZID=America/New_York:20270123T093000
DTSTAMP:20260425T084327
CREATED:20250331T142734Z
LAST-MODIFIED:20251230T162414Z
UID:10000574-1800691200-1800696600@livinghopect.org
SUMMARY:Saturdays: Men's Fellowship
DESCRIPTION:Men are invited to a meaningful journey through The Measure of a Man by Gene A. Getz\, as we explore God’s call to faith\, character\, and leadership in everyday life. \nBooks are available for purchase at church\, $20 each. \nSign up on Realm \nhttps://onrealm.org/livinghopect/PublicRegistrations/Event?linkString=NjlhOGViN2MtZmZiZS00ZTMxLWE4NjItYjNiNTAxMjdkZmQz \n\n\n\n\n\n 
URL:https://livinghopect.org/event/saturdays-mens-fellowship8am/2027-01-23/
LOCATION:Living Hope Community Church\, 38 West End Ave\, Old Greenwich\, CT\, 10118\, United States
CATEGORIES:Men's Ministry
ATTACH;FMTTYPE=image/jpeg:https://livinghopect.org/wp-content/uploads/2025/03/measure-of-a-man.jpeg
END:VEVENT
BEGIN:VEVENT
DTSTART;TZID=America/New_York:20270124T090000
DTEND;TZID=America/New_York:20270124T100000
DTSTAMP:20260425T084327
CREATED:20250623T215707Z
LAST-MODIFIED:20250623T215914Z
UID:10003437-1800781200-1800784800@livinghopect.org
SUMMARY:Forum for Fathers
DESCRIPTION:Are you a man with or who has kids or family members with ADHD? We meet Sundays at 9AM at the church to pray\, seek God\, and encourage each other. Contact Todd.klair@gmail.com for more info.
URL:https://livinghopect.org/event/forum-for-fathers/2027-01-24/
LOCATION:Living Hope Community Church\, 38 West End Avenue\, Old Greenwich\, CT\, 06870\, United States
CATEGORIES:Men's Ministry
ATTACH;FMTTYPE=image/jpeg:https://livinghopect.org/wp-content/uploads/2025/06/ADHD-image-scaled.jpg
END:VEVENT
BEGIN:VEVENT
DTSTART;TZID=America/New_York:20270130T080000
DTEND;TZID=America/New_York:20270130T093000
DTSTAMP:20260425T084327
CREATED:20250331T142734Z
LAST-MODIFIED:20251230T162414Z
UID:10000575-1801296000-1801301400@livinghopect.org
SUMMARY:Saturdays: Men's Fellowship
DESCRIPTION:Men are invited to a meaningful journey through The Measure of a Man by Gene A. Getz\, as we explore God’s call to faith\, character\, and leadership in everyday life. \nBooks are available for purchase at church\, $20 each. \nSign up on Realm \nhttps://onrealm.org/livinghopect/PublicRegistrations/Event?linkString=NjlhOGViN2MtZmZiZS00ZTMxLWE4NjItYjNiNTAxMjdkZmQz \n\n\n\n\n\n 
URL:https://livinghopect.org/event/saturdays-mens-fellowship8am/2027-01-30/
LOCATION:Living Hope Community Church\, 38 West End Ave\, Old Greenwich\, CT\, 10118\, United States
CATEGORIES:Men's Ministry
ATTACH;FMTTYPE=image/jpeg:https://livinghopect.org/wp-content/uploads/2025/03/measure-of-a-man.jpeg
END:VEVENT
BEGIN:VEVENT
DTSTART;TZID=America/New_York:20270131T090000
DTEND;TZID=America/New_York:20270131T100000
DTSTAMP:20260425T084327
CREATED:20250623T215707Z
LAST-MODIFIED:20250623T215914Z
UID:10003438-1801386000-1801389600@livinghopect.org
SUMMARY:Forum for Fathers
DESCRIPTION:Are you a man with or who has kids or family members with ADHD? We meet Sundays at 9AM at the church to pray\, seek God\, and encourage each other. Contact Todd.klair@gmail.com for more info.
URL:https://livinghopect.org/event/forum-for-fathers/2027-01-31/
LOCATION:Living Hope Community Church\, 38 West End Avenue\, Old Greenwich\, CT\, 06870\, United States
CATEGORIES:Men's Ministry
ATTACH;FMTTYPE=image/jpeg:https://livinghopect.org/wp-content/uploads/2025/06/ADHD-image-scaled.jpg
END:VEVENT
BEGIN:VEVENT
DTSTART;TZID=America/New_York:20270206T080000
DTEND;TZID=America/New_York:20270206T093000
DTSTAMP:20260425T084327
CREATED:20250331T142734Z
LAST-MODIFIED:20251230T162414Z
UID:10001931-1801900800-1801906200@livinghopect.org
SUMMARY:Saturdays: Men's Fellowship
DESCRIPTION:Men are invited to a meaningful journey through The Measure of a Man by Gene A. Getz\, as we explore God’s call to faith\, character\, and leadership in everyday life. \nBooks are available for purchase at church\, $20 each. \nSign up on Realm \nhttps://onrealm.org/livinghopect/PublicRegistrations/Event?linkString=NjlhOGViN2MtZmZiZS00ZTMxLWE4NjItYjNiNTAxMjdkZmQz \n\n\n\n\n\n 
URL:https://livinghopect.org/event/saturdays-mens-fellowship8am/2027-02-06/
LOCATION:Living Hope Community Church\, 38 West End Ave\, Old Greenwich\, CT\, 10118\, United States
CATEGORIES:Men's Ministry
ATTACH;FMTTYPE=image/jpeg:https://livinghopect.org/wp-content/uploads/2025/03/measure-of-a-man.jpeg
END:VEVENT
BEGIN:VEVENT
DTSTART;TZID=America/New_York:20270207T090000
DTEND;TZID=America/New_York:20270207T100000
DTSTAMP:20260425T084327
CREATED:20250623T215707Z
LAST-MODIFIED:20250623T215914Z
UID:10003439-1801990800-1801994400@livinghopect.org
SUMMARY:Forum for Fathers
DESCRIPTION:Are you a man with or who has kids or family members with ADHD? We meet Sundays at 9AM at the church to pray\, seek God\, and encourage each other. Contact Todd.klair@gmail.com for more info.
URL:https://livinghopect.org/event/forum-for-fathers/2027-02-07/
LOCATION:Living Hope Community Church\, 38 West End Avenue\, Old Greenwich\, CT\, 06870\, United States
CATEGORIES:Men's Ministry
ATTACH;FMTTYPE=image/jpeg:https://livinghopect.org/wp-content/uploads/2025/06/ADHD-image-scaled.jpg
END:VEVENT
BEGIN:VEVENT
DTSTART;TZID=America/New_York:20270213T080000
DTEND;TZID=America/New_York:20270213T093000
DTSTAMP:20260425T084327
CREATED:20250331T142734Z
LAST-MODIFIED:20251230T162414Z
UID:10001932-1802505600-1802511000@livinghopect.org
SUMMARY:Saturdays: Men's Fellowship
DESCRIPTION:Men are invited to a meaningful journey through The Measure of a Man by Gene A. Getz\, as we explore God’s call to faith\, character\, and leadership in everyday life. \nBooks are available for purchase at church\, $20 each. \nSign up on Realm \nhttps://onrealm.org/livinghopect/PublicRegistrations/Event?linkString=NjlhOGViN2MtZmZiZS00ZTMxLWE4NjItYjNiNTAxMjdkZmQz \n\n\n\n\n\n 
URL:https://livinghopect.org/event/saturdays-mens-fellowship8am/2027-02-13/
LOCATION:Living Hope Community Church\, 38 West End Ave\, Old Greenwich\, CT\, 10118\, United States
CATEGORIES:Men's Ministry
ATTACH;FMTTYPE=image/jpeg:https://livinghopect.org/wp-content/uploads/2025/03/measure-of-a-man.jpeg
END:VEVENT
BEGIN:VEVENT
DTSTART;TZID=America/New_York:20270214T090000
DTEND;TZID=America/New_York:20270214T100000
DTSTAMP:20260425T084327
CREATED:20250623T215707Z
LAST-MODIFIED:20250623T215914Z
UID:10003440-1802595600-1802599200@livinghopect.org
SUMMARY:Forum for Fathers
DESCRIPTION:Are you a man with or who has kids or family members with ADHD? We meet Sundays at 9AM at the church to pray\, seek God\, and encourage each other. Contact Todd.klair@gmail.com for more info.
URL:https://livinghopect.org/event/forum-for-fathers/2027-02-14/
LOCATION:Living Hope Community Church\, 38 West End Avenue\, Old Greenwich\, CT\, 06870\, United States
CATEGORIES:Men's Ministry
ATTACH;FMTTYPE=image/jpeg:https://livinghopect.org/wp-content/uploads/2025/06/ADHD-image-scaled.jpg
END:VEVENT
BEGIN:VEVENT
DTSTART;TZID=America/New_York:20270220T080000
DTEND;TZID=America/New_York:20270220T093000
DTSTAMP:20260425T084327
CREATED:20250331T142734Z
LAST-MODIFIED:20251230T162414Z
UID:10001933-1803110400-1803115800@livinghopect.org
SUMMARY:Saturdays: Men's Fellowship
DESCRIPTION:Men are invited to a meaningful journey through The Measure of a Man by Gene A. Getz\, as we explore God’s call to faith\, character\, and leadership in everyday life. \nBooks are available for purchase at church\, $20 each. \nSign up on Realm \nhttps://onrealm.org/livinghopect/PublicRegistrations/Event?linkString=NjlhOGViN2MtZmZiZS00ZTMxLWE4NjItYjNiNTAxMjdkZmQz \n\n\n\n\n\n 
URL:https://livinghopect.org/event/saturdays-mens-fellowship8am/2027-02-20/
LOCATION:Living Hope Community Church\, 38 West End Ave\, Old Greenwich\, CT\, 10118\, United States
CATEGORIES:Men's Ministry
ATTACH;FMTTYPE=image/jpeg:https://livinghopect.org/wp-content/uploads/2025/03/measure-of-a-man.jpeg
END:VEVENT
BEGIN:VEVENT
DTSTART;TZID=America/New_York:20270221T090000
DTEND;TZID=America/New_York:20270221T100000
DTSTAMP:20260425T084327
CREATED:20250623T215707Z
LAST-MODIFIED:20250623T215914Z
UID:10003441-1803200400-1803204000@livinghopect.org
SUMMARY:Forum for Fathers
DESCRIPTION:Are you a man with or who has kids or family members with ADHD? We meet Sundays at 9AM at the church to pray\, seek God\, and encourage each other. Contact Todd.klair@gmail.com for more info.
URL:https://livinghopect.org/event/forum-for-fathers/2027-02-21/
LOCATION:Living Hope Community Church\, 38 West End Avenue\, Old Greenwich\, CT\, 06870\, United States
CATEGORIES:Men's Ministry
ATTACH;FMTTYPE=image/jpeg:https://livinghopect.org/wp-content/uploads/2025/06/ADHD-image-scaled.jpg
END:VEVENT
BEGIN:VEVENT
DTSTART;TZID=America/New_York:20270227T080000
DTEND;TZID=America/New_York:20270227T093000
DTSTAMP:20260425T084327
CREATED:20250331T142734Z
LAST-MODIFIED:20251230T162414Z
UID:10001934-1803715200-1803720600@livinghopect.org
SUMMARY:Saturdays: Men's Fellowship
DESCRIPTION:Men are invited to a meaningful journey through The Measure of a Man by Gene A. Getz\, as we explore God’s call to faith\, character\, and leadership in everyday life. \nBooks are available for purchase at church\, $20 each. \nSign up on Realm \nhttps://onrealm.org/livinghopect/PublicRegistrations/Event?linkString=NjlhOGViN2MtZmZiZS00ZTMxLWE4NjItYjNiNTAxMjdkZmQz \n\n\n\n\n\n 
URL:https://livinghopect.org/event/saturdays-mens-fellowship8am/2027-02-27/
LOCATION:Living Hope Community Church\, 38 West End Ave\, Old Greenwich\, CT\, 10118\, United States
CATEGORIES:Men's Ministry
ATTACH;FMTTYPE=image/jpeg:https://livinghopect.org/wp-content/uploads/2025/03/measure-of-a-man.jpeg
END:VEVENT
BEGIN:VEVENT
DTSTART;TZID=America/New_York:20270228T090000
DTEND;TZID=America/New_York:20270228T100000
DTSTAMP:20260425T084327
CREATED:20250623T215707Z
LAST-MODIFIED:20250623T215914Z
UID:10003442-1803805200-1803808800@livinghopect.org
SUMMARY:Forum for Fathers
DESCRIPTION:Are you a man with or who has kids or family members with ADHD? We meet Sundays at 9AM at the church to pray\, seek God\, and encourage each other. Contact Todd.klair@gmail.com for more info.
URL:https://livinghopect.org/event/forum-for-fathers/2027-02-28/
LOCATION:Living Hope Community Church\, 38 West End Avenue\, Old Greenwich\, CT\, 06870\, United States
CATEGORIES:Men's Ministry
ATTACH;FMTTYPE=image/jpeg:https://livinghopect.org/wp-content/uploads/2025/06/ADHD-image-scaled.jpg
END:VEVENT
BEGIN:VEVENT
DTSTART;TZID=America/New_York:20270306T080000
DTEND;TZID=America/New_York:20270306T093000
DTSTAMP:20260425T084327
CREATED:20250331T142734Z
LAST-MODIFIED:20251230T162414Z
UID:10001935-1804320000-1804325400@livinghopect.org
SUMMARY:Saturdays: Men's Fellowship
DESCRIPTION:Men are invited to a meaningful journey through The Measure of a Man by Gene A. Getz\, as we explore God’s call to faith\, character\, and leadership in everyday life. \nBooks are available for purchase at church\, $20 each. \nSign up on Realm \nhttps://onrealm.org/livinghopect/PublicRegistrations/Event?linkString=NjlhOGViN2MtZmZiZS00ZTMxLWE4NjItYjNiNTAxMjdkZmQz \n\n\n\n\n\n 
URL:https://livinghopect.org/event/saturdays-mens-fellowship8am/2027-03-06/
LOCATION:Living Hope Community Church\, 38 West End Ave\, Old Greenwich\, CT\, 10118\, United States
CATEGORIES:Men's Ministry
ATTACH;FMTTYPE=image/jpeg:https://livinghopect.org/wp-content/uploads/2025/03/measure-of-a-man.jpeg
END:VEVENT
BEGIN:VEVENT
DTSTART;TZID=America/New_York:20270307T090000
DTEND;TZID=America/New_York:20270307T100000
DTSTAMP:20260425T084327
CREATED:20250623T215707Z
LAST-MODIFIED:20250623T215914Z
UID:10003443-1804410000-1804413600@livinghopect.org
SUMMARY:Forum for Fathers
DESCRIPTION:Are you a man with or who has kids or family members with ADHD? We meet Sundays at 9AM at the church to pray\, seek God\, and encourage each other. Contact Todd.klair@gmail.com for more info.
URL:https://livinghopect.org/event/forum-for-fathers/2027-03-07/
LOCATION:Living Hope Community Church\, 38 West End Avenue\, Old Greenwich\, CT\, 06870\, United States
CATEGORIES:Men's Ministry
ATTACH;FMTTYPE=image/jpeg:https://livinghopect.org/wp-content/uploads/2025/06/ADHD-image-scaled.jpg
END:VEVENT
END:VCALENDAR