BEGIN:VCALENDAR
VERSION:2.0
PRODID:-//Living Hope Church Community CT - ECPv6.15.19//NONSGML v1.0//EN
CALSCALE:GREGORIAN
METHOD:PUBLISH
X-WR-CALNAME:Living Hope Church Community CT
X-ORIGINAL-URL:https://livinghopect.org
X-WR-CALDESC:Events for Living Hope Church Community CT
REFRESH-INTERVAL;VALUE=DURATION:PT1H
X-Robots-Tag:noindex
X-PUBLISHED-TTL:PT1H
BEGIN:VTIMEZONE
TZID:America/New_York
BEGIN:DAYLIGHT
TZOFFSETFROM:-0500
TZOFFSETTO:-0400
TZNAME:EDT
DTSTART:20250309T070000
END:DAYLIGHT
BEGIN:STANDARD
TZOFFSETFROM:-0400
TZOFFSETTO:-0500
TZNAME:EST
DTSTART:20251102T060000
END:STANDARD
BEGIN:DAYLIGHT
TZOFFSETFROM:-0500
TZOFFSETTO:-0400
TZNAME:EDT
DTSTART:20260308T070000
END:DAYLIGHT
BEGIN:STANDARD
TZOFFSETFROM:-0400
TZOFFSETTO:-0500
TZNAME:EST
DTSTART:20261101T060000
END:STANDARD
BEGIN:DAYLIGHT
TZOFFSETFROM:-0500
TZOFFSETTO:-0400
TZNAME:EDT
DTSTART:20270314T070000
END:DAYLIGHT
BEGIN:STANDARD
TZOFFSETFROM:-0400
TZOFFSETTO:-0500
TZNAME:EST
DTSTART:20271107T060000
END:STANDARD
END:VTIMEZONE
BEGIN:VEVENT
DTSTART;TZID=America/New_York:20260725T080000
DTEND;TZID=America/New_York:20260725T093000
DTSTAMP:20260420T231147
CREATED:20250331T142734Z
LAST-MODIFIED:20251230T162414Z
UID:10000548-1784966400-1784971800@livinghopect.org
SUMMARY:Saturdays: Men's Fellowship
DESCRIPTION:Men are invited to a meaningful journey through The Measure of a Man by Gene A. Getz\, as we explore God’s call to faith\, character\, and leadership in everyday life. \nBooks are available for purchase at church\, $20 each. \nSign up on Realm \nhttps://onrealm.org/livinghopect/PublicRegistrations/Event?linkString=NjlhOGViN2MtZmZiZS00ZTMxLWE4NjItYjNiNTAxMjdkZmQz \n\n\n\n\n\n 
URL:https://livinghopect.org/event/saturdays-mens-fellowship8am/2026-07-25/
LOCATION:Living Hope Community Church\, 38 West End Ave\, Old Greenwich\, CT\, 10118\, United States
CATEGORIES:Men's Ministry
ATTACH;FMTTYPE=image/jpeg:https://livinghopect.org/wp-content/uploads/2025/03/measure-of-a-man.jpeg
END:VEVENT
BEGIN:VEVENT
DTSTART;TZID=America/New_York:20260726T090000
DTEND;TZID=America/New_York:20260726T100000
DTSTAMP:20260420T231147
CREATED:20250623T215707Z
LAST-MODIFIED:20250623T215914Z
UID:10003411-1785056400-1785060000@livinghopect.org
SUMMARY:Forum for Fathers
DESCRIPTION:Are you a man with or who has kids or family members with ADHD? We meet Sundays at 9AM at the church to pray\, seek God\, and encourage each other. Contact Todd.klair@gmail.com for more info.
URL:https://livinghopect.org/event/forum-for-fathers/2026-07-26/
LOCATION:Living Hope Community Church\, 38 West End Avenue\, Old Greenwich\, CT\, 06870\, United States
CATEGORIES:Men's Ministry
ATTACH;FMTTYPE=image/jpeg:https://livinghopect.org/wp-content/uploads/2025/06/ADHD-image-scaled.jpg
END:VEVENT
BEGIN:VEVENT
DTSTART;TZID=America/New_York:20260801T080000
DTEND;TZID=America/New_York:20260801T093000
DTSTAMP:20260420T231147
CREATED:20250331T142734Z
LAST-MODIFIED:20251230T162414Z
UID:10000549-1785571200-1785576600@livinghopect.org
SUMMARY:Saturdays: Men's Fellowship
DESCRIPTION:Men are invited to a meaningful journey through The Measure of a Man by Gene A. Getz\, as we explore God’s call to faith\, character\, and leadership in everyday life. \nBooks are available for purchase at church\, $20 each. \nSign up on Realm \nhttps://onrealm.org/livinghopect/PublicRegistrations/Event?linkString=NjlhOGViN2MtZmZiZS00ZTMxLWE4NjItYjNiNTAxMjdkZmQz \n\n\n\n\n\n 
URL:https://livinghopect.org/event/saturdays-mens-fellowship8am/2026-08-01/
LOCATION:Living Hope Community Church\, 38 West End Ave\, Old Greenwich\, CT\, 10118\, United States
CATEGORIES:Men's Ministry
ATTACH;FMTTYPE=image/jpeg:https://livinghopect.org/wp-content/uploads/2025/03/measure-of-a-man.jpeg
END:VEVENT
BEGIN:VEVENT
DTSTART;TZID=America/New_York:20260802T090000
DTEND;TZID=America/New_York:20260802T100000
DTSTAMP:20260420T231147
CREATED:20250623T215707Z
LAST-MODIFIED:20250623T215914Z
UID:10003412-1785661200-1785664800@livinghopect.org
SUMMARY:Forum for Fathers
DESCRIPTION:Are you a man with or who has kids or family members with ADHD? We meet Sundays at 9AM at the church to pray\, seek God\, and encourage each other. Contact Todd.klair@gmail.com for more info.
URL:https://livinghopect.org/event/forum-for-fathers/2026-08-02/
LOCATION:Living Hope Community Church\, 38 West End Avenue\, Old Greenwich\, CT\, 06870\, United States
CATEGORIES:Men's Ministry
ATTACH;FMTTYPE=image/jpeg:https://livinghopect.org/wp-content/uploads/2025/06/ADHD-image-scaled.jpg
END:VEVENT
BEGIN:VEVENT
DTSTART;TZID=America/New_York:20260808T080000
DTEND;TZID=America/New_York:20260808T093000
DTSTAMP:20260420T231147
CREATED:20250331T142734Z
LAST-MODIFIED:20251230T162414Z
UID:10000550-1786176000-1786181400@livinghopect.org
SUMMARY:Saturdays: Men's Fellowship
DESCRIPTION:Men are invited to a meaningful journey through The Measure of a Man by Gene A. Getz\, as we explore God’s call to faith\, character\, and leadership in everyday life. \nBooks are available for purchase at church\, $20 each. \nSign up on Realm \nhttps://onrealm.org/livinghopect/PublicRegistrations/Event?linkString=NjlhOGViN2MtZmZiZS00ZTMxLWE4NjItYjNiNTAxMjdkZmQz \n\n\n\n\n\n 
URL:https://livinghopect.org/event/saturdays-mens-fellowship8am/2026-08-08/
LOCATION:Living Hope Community Church\, 38 West End Ave\, Old Greenwich\, CT\, 10118\, United States
CATEGORIES:Men's Ministry
ATTACH;FMTTYPE=image/jpeg:https://livinghopect.org/wp-content/uploads/2025/03/measure-of-a-man.jpeg
END:VEVENT
BEGIN:VEVENT
DTSTART;TZID=America/New_York:20260809T090000
DTEND;TZID=America/New_York:20260809T100000
DTSTAMP:20260420T231147
CREATED:20250623T215707Z
LAST-MODIFIED:20250623T215914Z
UID:10003413-1786266000-1786269600@livinghopect.org
SUMMARY:Forum for Fathers
DESCRIPTION:Are you a man with or who has kids or family members with ADHD? We meet Sundays at 9AM at the church to pray\, seek God\, and encourage each other. Contact Todd.klair@gmail.com for more info.
URL:https://livinghopect.org/event/forum-for-fathers/2026-08-09/
LOCATION:Living Hope Community Church\, 38 West End Avenue\, Old Greenwich\, CT\, 06870\, United States
CATEGORIES:Men's Ministry
ATTACH;FMTTYPE=image/jpeg:https://livinghopect.org/wp-content/uploads/2025/06/ADHD-image-scaled.jpg
END:VEVENT
BEGIN:VEVENT
DTSTART;TZID=America/New_York:20260815T080000
DTEND;TZID=America/New_York:20260815T093000
DTSTAMP:20260420T231147
CREATED:20250331T142734Z
LAST-MODIFIED:20251230T162414Z
UID:10000551-1786780800-1786786200@livinghopect.org
SUMMARY:Saturdays: Men's Fellowship
DESCRIPTION:Men are invited to a meaningful journey through The Measure of a Man by Gene A. Getz\, as we explore God’s call to faith\, character\, and leadership in everyday life. \nBooks are available for purchase at church\, $20 each. \nSign up on Realm \nhttps://onrealm.org/livinghopect/PublicRegistrations/Event?linkString=NjlhOGViN2MtZmZiZS00ZTMxLWE4NjItYjNiNTAxMjdkZmQz \n\n\n\n\n\n 
URL:https://livinghopect.org/event/saturdays-mens-fellowship8am/2026-08-15/
LOCATION:Living Hope Community Church\, 38 West End Ave\, Old Greenwich\, CT\, 10118\, United States
CATEGORIES:Men's Ministry
ATTACH;FMTTYPE=image/jpeg:https://livinghopect.org/wp-content/uploads/2025/03/measure-of-a-man.jpeg
END:VEVENT
BEGIN:VEVENT
DTSTART;TZID=America/New_York:20260816T090000
DTEND;TZID=America/New_York:20260816T100000
DTSTAMP:20260420T231147
CREATED:20250623T215707Z
LAST-MODIFIED:20250623T215914Z
UID:10003414-1786870800-1786874400@livinghopect.org
SUMMARY:Forum for Fathers
DESCRIPTION:Are you a man with or who has kids or family members with ADHD? We meet Sundays at 9AM at the church to pray\, seek God\, and encourage each other. Contact Todd.klair@gmail.com for more info.
URL:https://livinghopect.org/event/forum-for-fathers/2026-08-16/
LOCATION:Living Hope Community Church\, 38 West End Avenue\, Old Greenwich\, CT\, 06870\, United States
CATEGORIES:Men's Ministry
ATTACH;FMTTYPE=image/jpeg:https://livinghopect.org/wp-content/uploads/2025/06/ADHD-image-scaled.jpg
END:VEVENT
BEGIN:VEVENT
DTSTART;TZID=America/New_York:20260822T080000
DTEND;TZID=America/New_York:20260822T093000
DTSTAMP:20260420T231147
CREATED:20250331T142734Z
LAST-MODIFIED:20251230T162414Z
UID:10000552-1787385600-1787391000@livinghopect.org
SUMMARY:Saturdays: Men's Fellowship
DESCRIPTION:Men are invited to a meaningful journey through The Measure of a Man by Gene A. Getz\, as we explore God’s call to faith\, character\, and leadership in everyday life. \nBooks are available for purchase at church\, $20 each. \nSign up on Realm \nhttps://onrealm.org/livinghopect/PublicRegistrations/Event?linkString=NjlhOGViN2MtZmZiZS00ZTMxLWE4NjItYjNiNTAxMjdkZmQz \n\n\n\n\n\n 
URL:https://livinghopect.org/event/saturdays-mens-fellowship8am/2026-08-22/
LOCATION:Living Hope Community Church\, 38 West End Ave\, Old Greenwich\, CT\, 10118\, United States
CATEGORIES:Men's Ministry
ATTACH;FMTTYPE=image/jpeg:https://livinghopect.org/wp-content/uploads/2025/03/measure-of-a-man.jpeg
END:VEVENT
BEGIN:VEVENT
DTSTART;TZID=America/New_York:20260823T090000
DTEND;TZID=America/New_York:20260823T100000
DTSTAMP:20260420T231147
CREATED:20250623T215707Z
LAST-MODIFIED:20250623T215914Z
UID:10003415-1787475600-1787479200@livinghopect.org
SUMMARY:Forum for Fathers
DESCRIPTION:Are you a man with or who has kids or family members with ADHD? We meet Sundays at 9AM at the church to pray\, seek God\, and encourage each other. Contact Todd.klair@gmail.com for more info.
URL:https://livinghopect.org/event/forum-for-fathers/2026-08-23/
LOCATION:Living Hope Community Church\, 38 West End Avenue\, Old Greenwich\, CT\, 06870\, United States
CATEGORIES:Men's Ministry
ATTACH;FMTTYPE=image/jpeg:https://livinghopect.org/wp-content/uploads/2025/06/ADHD-image-scaled.jpg
END:VEVENT
BEGIN:VEVENT
DTSTART;TZID=America/New_York:20260829T080000
DTEND;TZID=America/New_York:20260829T093000
DTSTAMP:20260420T231147
CREATED:20250331T142734Z
LAST-MODIFIED:20251230T162414Z
UID:10000553-1787990400-1787995800@livinghopect.org
SUMMARY:Saturdays: Men's Fellowship
DESCRIPTION:Men are invited to a meaningful journey through The Measure of a Man by Gene A. Getz\, as we explore God’s call to faith\, character\, and leadership in everyday life. \nBooks are available for purchase at church\, $20 each. \nSign up on Realm \nhttps://onrealm.org/livinghopect/PublicRegistrations/Event?linkString=NjlhOGViN2MtZmZiZS00ZTMxLWE4NjItYjNiNTAxMjdkZmQz \n\n\n\n\n\n 
URL:https://livinghopect.org/event/saturdays-mens-fellowship8am/2026-08-29/
LOCATION:Living Hope Community Church\, 38 West End Ave\, Old Greenwich\, CT\, 10118\, United States
CATEGORIES:Men's Ministry
ATTACH;FMTTYPE=image/jpeg:https://livinghopect.org/wp-content/uploads/2025/03/measure-of-a-man.jpeg
END:VEVENT
BEGIN:VEVENT
DTSTART;TZID=America/New_York:20260830T090000
DTEND;TZID=America/New_York:20260830T100000
DTSTAMP:20260420T231147
CREATED:20250623T215707Z
LAST-MODIFIED:20250623T215914Z
UID:10003416-1788080400-1788084000@livinghopect.org
SUMMARY:Forum for Fathers
DESCRIPTION:Are you a man with or who has kids or family members with ADHD? We meet Sundays at 9AM at the church to pray\, seek God\, and encourage each other. Contact Todd.klair@gmail.com for more info.
URL:https://livinghopect.org/event/forum-for-fathers/2026-08-30/
LOCATION:Living Hope Community Church\, 38 West End Avenue\, Old Greenwich\, CT\, 06870\, United States
CATEGORIES:Men's Ministry
ATTACH;FMTTYPE=image/jpeg:https://livinghopect.org/wp-content/uploads/2025/06/ADHD-image-scaled.jpg
END:VEVENT
BEGIN:VEVENT
DTSTART;TZID=America/New_York:20260905T080000
DTEND;TZID=America/New_York:20260905T093000
DTSTAMP:20260420T231147
CREATED:20250331T142734Z
LAST-MODIFIED:20251230T162414Z
UID:10000554-1788595200-1788600600@livinghopect.org
SUMMARY:Saturdays: Men's Fellowship
DESCRIPTION:Men are invited to a meaningful journey through The Measure of a Man by Gene A. Getz\, as we explore God’s call to faith\, character\, and leadership in everyday life. \nBooks are available for purchase at church\, $20 each. \nSign up on Realm \nhttps://onrealm.org/livinghopect/PublicRegistrations/Event?linkString=NjlhOGViN2MtZmZiZS00ZTMxLWE4NjItYjNiNTAxMjdkZmQz \n\n\n\n\n\n 
URL:https://livinghopect.org/event/saturdays-mens-fellowship8am/2026-09-05/
LOCATION:Living Hope Community Church\, 38 West End Ave\, Old Greenwich\, CT\, 10118\, United States
CATEGORIES:Men's Ministry
ATTACH;FMTTYPE=image/jpeg:https://livinghopect.org/wp-content/uploads/2025/03/measure-of-a-man.jpeg
END:VEVENT
BEGIN:VEVENT
DTSTART;TZID=America/New_York:20260906T090000
DTEND;TZID=America/New_York:20260906T100000
DTSTAMP:20260420T231147
CREATED:20250623T215707Z
LAST-MODIFIED:20250623T215914Z
UID:10003417-1788685200-1788688800@livinghopect.org
SUMMARY:Forum for Fathers
DESCRIPTION:Are you a man with or who has kids or family members with ADHD? We meet Sundays at 9AM at the church to pray\, seek God\, and encourage each other. Contact Todd.klair@gmail.com for more info.
URL:https://livinghopect.org/event/forum-for-fathers/2026-09-06/
LOCATION:Living Hope Community Church\, 38 West End Avenue\, Old Greenwich\, CT\, 06870\, United States
CATEGORIES:Men's Ministry
ATTACH;FMTTYPE=image/jpeg:https://livinghopect.org/wp-content/uploads/2025/06/ADHD-image-scaled.jpg
END:VEVENT
BEGIN:VEVENT
DTSTART;TZID=America/New_York:20260912T080000
DTEND;TZID=America/New_York:20260912T093000
DTSTAMP:20260420T231147
CREATED:20250331T142734Z
LAST-MODIFIED:20251230T162414Z
UID:10000555-1789200000-1789205400@livinghopect.org
SUMMARY:Saturdays: Men's Fellowship
DESCRIPTION:Men are invited to a meaningful journey through The Measure of a Man by Gene A. Getz\, as we explore God’s call to faith\, character\, and leadership in everyday life. \nBooks are available for purchase at church\, $20 each. \nSign up on Realm \nhttps://onrealm.org/livinghopect/PublicRegistrations/Event?linkString=NjlhOGViN2MtZmZiZS00ZTMxLWE4NjItYjNiNTAxMjdkZmQz \n\n\n\n\n\n 
URL:https://livinghopect.org/event/saturdays-mens-fellowship8am/2026-09-12/
LOCATION:Living Hope Community Church\, 38 West End Ave\, Old Greenwich\, CT\, 10118\, United States
CATEGORIES:Men's Ministry
ATTACH;FMTTYPE=image/jpeg:https://livinghopect.org/wp-content/uploads/2025/03/measure-of-a-man.jpeg
END:VEVENT
BEGIN:VEVENT
DTSTART;TZID=America/New_York:20260913T090000
DTEND;TZID=America/New_York:20260913T100000
DTSTAMP:20260420T231147
CREATED:20250623T215707Z
LAST-MODIFIED:20250623T215914Z
UID:10003418-1789290000-1789293600@livinghopect.org
SUMMARY:Forum for Fathers
DESCRIPTION:Are you a man with or who has kids or family members with ADHD? We meet Sundays at 9AM at the church to pray\, seek God\, and encourage each other. Contact Todd.klair@gmail.com for more info.
URL:https://livinghopect.org/event/forum-for-fathers/2026-09-13/
LOCATION:Living Hope Community Church\, 38 West End Avenue\, Old Greenwich\, CT\, 06870\, United States
CATEGORIES:Men's Ministry
ATTACH;FMTTYPE=image/jpeg:https://livinghopect.org/wp-content/uploads/2025/06/ADHD-image-scaled.jpg
END:VEVENT
BEGIN:VEVENT
DTSTART;TZID=America/New_York:20260919T080000
DTEND;TZID=America/New_York:20260919T093000
DTSTAMP:20260420T231147
CREATED:20250331T142734Z
LAST-MODIFIED:20251230T162414Z
UID:10000556-1789804800-1789810200@livinghopect.org
SUMMARY:Saturdays: Men's Fellowship
DESCRIPTION:Men are invited to a meaningful journey through The Measure of a Man by Gene A. Getz\, as we explore God’s call to faith\, character\, and leadership in everyday life. \nBooks are available for purchase at church\, $20 each. \nSign up on Realm \nhttps://onrealm.org/livinghopect/PublicRegistrations/Event?linkString=NjlhOGViN2MtZmZiZS00ZTMxLWE4NjItYjNiNTAxMjdkZmQz \n\n\n\n\n\n 
URL:https://livinghopect.org/event/saturdays-mens-fellowship8am/2026-09-19/
LOCATION:Living Hope Community Church\, 38 West End Ave\, Old Greenwich\, CT\, 10118\, United States
CATEGORIES:Men's Ministry
ATTACH;FMTTYPE=image/jpeg:https://livinghopect.org/wp-content/uploads/2025/03/measure-of-a-man.jpeg
END:VEVENT
BEGIN:VEVENT
DTSTART;TZID=America/New_York:20260920T090000
DTEND;TZID=America/New_York:20260920T100000
DTSTAMP:20260420T231147
CREATED:20250623T215707Z
LAST-MODIFIED:20250623T215914Z
UID:10003419-1789894800-1789898400@livinghopect.org
SUMMARY:Forum for Fathers
DESCRIPTION:Are you a man with or who has kids or family members with ADHD? We meet Sundays at 9AM at the church to pray\, seek God\, and encourage each other. Contact Todd.klair@gmail.com for more info.
URL:https://livinghopect.org/event/forum-for-fathers/2026-09-20/
LOCATION:Living Hope Community Church\, 38 West End Avenue\, Old Greenwich\, CT\, 06870\, United States
CATEGORIES:Men's Ministry
ATTACH;FMTTYPE=image/jpeg:https://livinghopect.org/wp-content/uploads/2025/06/ADHD-image-scaled.jpg
END:VEVENT
BEGIN:VEVENT
DTSTART;TZID=America/New_York:20260926T080000
DTEND;TZID=America/New_York:20260926T093000
DTSTAMP:20260420T231147
CREATED:20250331T142734Z
LAST-MODIFIED:20251230T162414Z
UID:10000557-1790409600-1790415000@livinghopect.org
SUMMARY:Saturdays: Men's Fellowship
DESCRIPTION:Men are invited to a meaningful journey through The Measure of a Man by Gene A. Getz\, as we explore God’s call to faith\, character\, and leadership in everyday life. \nBooks are available for purchase at church\, $20 each. \nSign up on Realm \nhttps://onrealm.org/livinghopect/PublicRegistrations/Event?linkString=NjlhOGViN2MtZmZiZS00ZTMxLWE4NjItYjNiNTAxMjdkZmQz \n\n\n\n\n\n 
URL:https://livinghopect.org/event/saturdays-mens-fellowship8am/2026-09-26/
LOCATION:Living Hope Community Church\, 38 West End Ave\, Old Greenwich\, CT\, 10118\, United States
CATEGORIES:Men's Ministry
ATTACH;FMTTYPE=image/jpeg:https://livinghopect.org/wp-content/uploads/2025/03/measure-of-a-man.jpeg
END:VEVENT
BEGIN:VEVENT
DTSTART;TZID=America/New_York:20260927T090000
DTEND;TZID=America/New_York:20260927T100000
DTSTAMP:20260420T231147
CREATED:20250623T215707Z
LAST-MODIFIED:20250623T215914Z
UID:10003420-1790499600-1790503200@livinghopect.org
SUMMARY:Forum for Fathers
DESCRIPTION:Are you a man with or who has kids or family members with ADHD? We meet Sundays at 9AM at the church to pray\, seek God\, and encourage each other. Contact Todd.klair@gmail.com for more info.
URL:https://livinghopect.org/event/forum-for-fathers/2026-09-27/
LOCATION:Living Hope Community Church\, 38 West End Avenue\, Old Greenwich\, CT\, 06870\, United States
CATEGORIES:Men's Ministry
ATTACH;FMTTYPE=image/jpeg:https://livinghopect.org/wp-content/uploads/2025/06/ADHD-image-scaled.jpg
END:VEVENT
BEGIN:VEVENT
DTSTART;TZID=America/New_York:20261003T080000
DTEND;TZID=America/New_York:20261003T093000
DTSTAMP:20260420T231147
CREATED:20250331T142734Z
LAST-MODIFIED:20251230T162414Z
UID:10000558-1791014400-1791019800@livinghopect.org
SUMMARY:Saturdays: Men's Fellowship
DESCRIPTION:Men are invited to a meaningful journey through The Measure of a Man by Gene A. Getz\, as we explore God’s call to faith\, character\, and leadership in everyday life. \nBooks are available for purchase at church\, $20 each. \nSign up on Realm \nhttps://onrealm.org/livinghopect/PublicRegistrations/Event?linkString=NjlhOGViN2MtZmZiZS00ZTMxLWE4NjItYjNiNTAxMjdkZmQz \n\n\n\n\n\n 
URL:https://livinghopect.org/event/saturdays-mens-fellowship8am/2026-10-03/
LOCATION:Living Hope Community Church\, 38 West End Ave\, Old Greenwich\, CT\, 10118\, United States
CATEGORIES:Men's Ministry
ATTACH;FMTTYPE=image/jpeg:https://livinghopect.org/wp-content/uploads/2025/03/measure-of-a-man.jpeg
END:VEVENT
BEGIN:VEVENT
DTSTART;TZID=America/New_York:20261004T090000
DTEND;TZID=America/New_York:20261004T100000
DTSTAMP:20260420T231147
CREATED:20250623T215707Z
LAST-MODIFIED:20250623T215914Z
UID:10003421-1791104400-1791108000@livinghopect.org
SUMMARY:Forum for Fathers
DESCRIPTION:Are you a man with or who has kids or family members with ADHD? We meet Sundays at 9AM at the church to pray\, seek God\, and encourage each other. Contact Todd.klair@gmail.com for more info.
URL:https://livinghopect.org/event/forum-for-fathers/2026-10-04/
LOCATION:Living Hope Community Church\, 38 West End Avenue\, Old Greenwich\, CT\, 06870\, United States
CATEGORIES:Men's Ministry
ATTACH;FMTTYPE=image/jpeg:https://livinghopect.org/wp-content/uploads/2025/06/ADHD-image-scaled.jpg
END:VEVENT
BEGIN:VEVENT
DTSTART;TZID=America/New_York:20261010T080000
DTEND;TZID=America/New_York:20261010T093000
DTSTAMP:20260420T231147
CREATED:20250331T142734Z
LAST-MODIFIED:20251230T162414Z
UID:10000559-1791619200-1791624600@livinghopect.org
SUMMARY:Saturdays: Men's Fellowship
DESCRIPTION:Men are invited to a meaningful journey through The Measure of a Man by Gene A. Getz\, as we explore God’s call to faith\, character\, and leadership in everyday life. \nBooks are available for purchase at church\, $20 each. \nSign up on Realm \nhttps://onrealm.org/livinghopect/PublicRegistrations/Event?linkString=NjlhOGViN2MtZmZiZS00ZTMxLWE4NjItYjNiNTAxMjdkZmQz \n\n\n\n\n\n 
URL:https://livinghopect.org/event/saturdays-mens-fellowship8am/2026-10-10/
LOCATION:Living Hope Community Church\, 38 West End Ave\, Old Greenwich\, CT\, 10118\, United States
CATEGORIES:Men's Ministry
ATTACH;FMTTYPE=image/jpeg:https://livinghopect.org/wp-content/uploads/2025/03/measure-of-a-man.jpeg
END:VEVENT
BEGIN:VEVENT
DTSTART;TZID=America/New_York:20261011T090000
DTEND;TZID=America/New_York:20261011T100000
DTSTAMP:20260420T231147
CREATED:20250623T215707Z
LAST-MODIFIED:20250623T215914Z
UID:10003422-1791709200-1791712800@livinghopect.org
SUMMARY:Forum for Fathers
DESCRIPTION:Are you a man with or who has kids or family members with ADHD? We meet Sundays at 9AM at the church to pray\, seek God\, and encourage each other. Contact Todd.klair@gmail.com for more info.
URL:https://livinghopect.org/event/forum-for-fathers/2026-10-11/
LOCATION:Living Hope Community Church\, 38 West End Avenue\, Old Greenwich\, CT\, 06870\, United States
CATEGORIES:Men's Ministry
ATTACH;FMTTYPE=image/jpeg:https://livinghopect.org/wp-content/uploads/2025/06/ADHD-image-scaled.jpg
END:VEVENT
BEGIN:VEVENT
DTSTART;TZID=America/New_York:20261017T080000
DTEND;TZID=America/New_York:20261017T093000
DTSTAMP:20260420T231147
CREATED:20250331T142734Z
LAST-MODIFIED:20251230T162414Z
UID:10000560-1792224000-1792229400@livinghopect.org
SUMMARY:Saturdays: Men's Fellowship
DESCRIPTION:Men are invited to a meaningful journey through The Measure of a Man by Gene A. Getz\, as we explore God’s call to faith\, character\, and leadership in everyday life. \nBooks are available for purchase at church\, $20 each. \nSign up on Realm \nhttps://onrealm.org/livinghopect/PublicRegistrations/Event?linkString=NjlhOGViN2MtZmZiZS00ZTMxLWE4NjItYjNiNTAxMjdkZmQz \n\n\n\n\n\n 
URL:https://livinghopect.org/event/saturdays-mens-fellowship8am/2026-10-17/
LOCATION:Living Hope Community Church\, 38 West End Ave\, Old Greenwich\, CT\, 10118\, United States
CATEGORIES:Men's Ministry
ATTACH;FMTTYPE=image/jpeg:https://livinghopect.org/wp-content/uploads/2025/03/measure-of-a-man.jpeg
END:VEVENT
BEGIN:VEVENT
DTSTART;TZID=America/New_York:20261018T090000
DTEND;TZID=America/New_York:20261018T100000
DTSTAMP:20260420T231147
CREATED:20250623T215707Z
LAST-MODIFIED:20250623T215914Z
UID:10003423-1792314000-1792317600@livinghopect.org
SUMMARY:Forum for Fathers
DESCRIPTION:Are you a man with or who has kids or family members with ADHD? We meet Sundays at 9AM at the church to pray\, seek God\, and encourage each other. Contact Todd.klair@gmail.com for more info.
URL:https://livinghopect.org/event/forum-for-fathers/2026-10-18/
LOCATION:Living Hope Community Church\, 38 West End Avenue\, Old Greenwich\, CT\, 06870\, United States
CATEGORIES:Men's Ministry
ATTACH;FMTTYPE=image/jpeg:https://livinghopect.org/wp-content/uploads/2025/06/ADHD-image-scaled.jpg
END:VEVENT
BEGIN:VEVENT
DTSTART;TZID=America/New_York:20261024T080000
DTEND;TZID=America/New_York:20261024T093000
DTSTAMP:20260420T231147
CREATED:20250331T142734Z
LAST-MODIFIED:20251230T162414Z
UID:10000561-1792828800-1792834200@livinghopect.org
SUMMARY:Saturdays: Men's Fellowship
DESCRIPTION:Men are invited to a meaningful journey through The Measure of a Man by Gene A. Getz\, as we explore God’s call to faith\, character\, and leadership in everyday life. \nBooks are available for purchase at church\, $20 each. \nSign up on Realm \nhttps://onrealm.org/livinghopect/PublicRegistrations/Event?linkString=NjlhOGViN2MtZmZiZS00ZTMxLWE4NjItYjNiNTAxMjdkZmQz \n\n\n\n\n\n 
URL:https://livinghopect.org/event/saturdays-mens-fellowship8am/2026-10-24/
LOCATION:Living Hope Community Church\, 38 West End Ave\, Old Greenwich\, CT\, 10118\, United States
CATEGORIES:Men's Ministry
ATTACH;FMTTYPE=image/jpeg:https://livinghopect.org/wp-content/uploads/2025/03/measure-of-a-man.jpeg
END:VEVENT
BEGIN:VEVENT
DTSTART;TZID=America/New_York:20261025T090000
DTEND;TZID=America/New_York:20261025T100000
DTSTAMP:20260420T231147
CREATED:20250623T215707Z
LAST-MODIFIED:20250623T215914Z
UID:10003424-1792918800-1792922400@livinghopect.org
SUMMARY:Forum for Fathers
DESCRIPTION:Are you a man with or who has kids or family members with ADHD? We meet Sundays at 9AM at the church to pray\, seek God\, and encourage each other. Contact Todd.klair@gmail.com for more info.
URL:https://livinghopect.org/event/forum-for-fathers/2026-10-25/
LOCATION:Living Hope Community Church\, 38 West End Avenue\, Old Greenwich\, CT\, 06870\, United States
CATEGORIES:Men's Ministry
ATTACH;FMTTYPE=image/jpeg:https://livinghopect.org/wp-content/uploads/2025/06/ADHD-image-scaled.jpg
END:VEVENT
BEGIN:VEVENT
DTSTART;TZID=America/New_York:20261031T080000
DTEND;TZID=America/New_York:20261031T093000
DTSTAMP:20260420T231147
CREATED:20250331T142734Z
LAST-MODIFIED:20251230T162414Z
UID:10000562-1793433600-1793439000@livinghopect.org
SUMMARY:Saturdays: Men's Fellowship
DESCRIPTION:Men are invited to a meaningful journey through The Measure of a Man by Gene A. Getz\, as we explore God’s call to faith\, character\, and leadership in everyday life. \nBooks are available for purchase at church\, $20 each. \nSign up on Realm \nhttps://onrealm.org/livinghopect/PublicRegistrations/Event?linkString=NjlhOGViN2MtZmZiZS00ZTMxLWE4NjItYjNiNTAxMjdkZmQz \n\n\n\n\n\n 
URL:https://livinghopect.org/event/saturdays-mens-fellowship8am/2026-10-31/
LOCATION:Living Hope Community Church\, 38 West End Ave\, Old Greenwich\, CT\, 10118\, United States
CATEGORIES:Men's Ministry
ATTACH;FMTTYPE=image/jpeg:https://livinghopect.org/wp-content/uploads/2025/03/measure-of-a-man.jpeg
END:VEVENT
BEGIN:VEVENT
DTSTART;TZID=America/New_York:20261101T090000
DTEND;TZID=America/New_York:20261101T100000
DTSTAMP:20260420T231147
CREATED:20250623T215707Z
LAST-MODIFIED:20250623T215914Z
UID:10003425-1793523600-1793527200@livinghopect.org
SUMMARY:Forum for Fathers
DESCRIPTION:Are you a man with or who has kids or family members with ADHD? We meet Sundays at 9AM at the church to pray\, seek God\, and encourage each other. Contact Todd.klair@gmail.com for more info.
URL:https://livinghopect.org/event/forum-for-fathers/2026-11-01/
LOCATION:Living Hope Community Church\, 38 West End Avenue\, Old Greenwich\, CT\, 06870\, United States
CATEGORIES:Men's Ministry
ATTACH;FMTTYPE=image/jpeg:https://livinghopect.org/wp-content/uploads/2025/06/ADHD-image-scaled.jpg
END:VEVENT
END:VCALENDAR