BEGIN:VCALENDAR
VERSION:2.0
PRODID:-//Living Hope Church Community CT - ECPv6.15.19//NONSGML v1.0//EN
CALSCALE:GREGORIAN
METHOD:PUBLISH
X-ORIGINAL-URL:https://livinghopect.org
X-WR-CALDESC:Events for Living Hope Church Community CT
REFRESH-INTERVAL;VALUE=DURATION:PT1H
X-Robots-Tag:noindex
X-PUBLISHED-TTL:PT1H
BEGIN:VTIMEZONE
TZID:America/New_York
BEGIN:DAYLIGHT
TZOFFSETFROM:-0500
TZOFFSETTO:-0400
TZNAME:EDT
DTSTART:20250309T070000
END:DAYLIGHT
BEGIN:STANDARD
TZOFFSETFROM:-0400
TZOFFSETTO:-0500
TZNAME:EST
DTSTART:20251102T060000
END:STANDARD
BEGIN:DAYLIGHT
TZOFFSETFROM:-0500
TZOFFSETTO:-0400
TZNAME:EDT
DTSTART:20260308T070000
END:DAYLIGHT
BEGIN:STANDARD
TZOFFSETFROM:-0400
TZOFFSETTO:-0500
TZNAME:EST
DTSTART:20261101T060000
END:STANDARD
BEGIN:DAYLIGHT
TZOFFSETFROM:-0500
TZOFFSETTO:-0400
TZNAME:EDT
DTSTART:20270314T070000
END:DAYLIGHT
BEGIN:STANDARD
TZOFFSETFROM:-0400
TZOFFSETTO:-0500
TZNAME:EST
DTSTART:20271107T060000
END:STANDARD
END:VTIMEZONE
BEGIN:VEVENT
DTSTART;TZID=America/New_York:20260201T090000
DTEND;TZID=America/New_York:20260201T100000
DTSTAMP:20260421T020008
CREATED:20250623T215707Z
LAST-MODIFIED:20250623T215914Z
UID:10003386-1769936400-1769940000@livinghopect.org
SUMMARY:Forum for Fathers
DESCRIPTION:Are you a man with or who has kids or family members with ADHD? We meet Sundays at 9AM at the church to pray\, seek God\, and encourage each other. Contact Todd.klair@gmail.com for more info.
URL:https://livinghopect.org/event/forum-for-fathers/2026-02-01/
LOCATION:Living Hope Community Church\, 38 West End Avenue\, Old Greenwich\, CT\, 06870\, United States
CATEGORIES:Men's Ministry
ATTACH;FMTTYPE=image/jpeg:https://livinghopect.org/wp-content/uploads/2025/06/ADHD-image-scaled.jpg
END:VEVENT
BEGIN:VEVENT
DTSTART;TZID=America/New_York:20260207T080000
DTEND;TZID=America/New_York:20260207T093000
DTSTAMP:20260421T020008
CREATED:20250331T142734Z
LAST-MODIFIED:20251230T162414Z
UID:10000524-1770451200-1770456600@livinghopect.org
SUMMARY:Saturdays: Men's Fellowship
DESCRIPTION:Men are invited to a meaningful journey through The Measure of a Man by Gene A. Getz\, as we explore God’s call to faith\, character\, and leadership in everyday life. \nBooks are available for purchase at church\, $20 each. \nSign up on Realm \nhttps://onrealm.org/livinghopect/PublicRegistrations/Event?linkString=NjlhOGViN2MtZmZiZS00ZTMxLWE4NjItYjNiNTAxMjdkZmQz \n\n\n\n\n\n 
URL:https://livinghopect.org/event/saturdays-mens-fellowship8am/2026-02-07/
LOCATION:Living Hope Community Church\, 38 West End Ave\, Old Greenwich\, CT\, 10118\, United States
CATEGORIES:Men's Ministry
ATTACH;FMTTYPE=image/jpeg:https://livinghopect.org/wp-content/uploads/2025/03/measure-of-a-man.jpeg
END:VEVENT
BEGIN:VEVENT
DTSTART;TZID=America/New_York:20260208T090000
DTEND;TZID=America/New_York:20260208T100000
DTSTAMP:20260421T020008
CREATED:20250623T215707Z
LAST-MODIFIED:20250623T215914Z
UID:10003387-1770541200-1770544800@livinghopect.org
SUMMARY:Forum for Fathers
DESCRIPTION:Are you a man with or who has kids or family members with ADHD? We meet Sundays at 9AM at the church to pray\, seek God\, and encourage each other. Contact Todd.klair@gmail.com for more info.
URL:https://livinghopect.org/event/forum-for-fathers/2026-02-08/
LOCATION:Living Hope Community Church\, 38 West End Avenue\, Old Greenwich\, CT\, 06870\, United States
CATEGORIES:Men's Ministry
ATTACH;FMTTYPE=image/jpeg:https://livinghopect.org/wp-content/uploads/2025/06/ADHD-image-scaled.jpg
END:VEVENT
BEGIN:VEVENT
DTSTART;TZID=America/New_York:20260208T114500
DTEND;TZID=America/New_York:20260208T123000
DTSTAMP:20260421T020008
CREATED:20251230T153842Z
LAST-MODIFIED:20251230T154443Z
UID:10005474-1770551100-1770553800@livinghopect.org
SUMMARY:Father-Son Pre-Super Bowl Flag Football Game
DESCRIPTION:Fathers\, grab your sons and join us at Binney Park for a fun game of flag football to get in the spirit of the Super Bowl LX! \n  \nRegister at: \nhttps://onrealm.org/livinghopect/PublicRegistrations/Event?linkString=ZGU3NzEzMzItMTQ4OS00MWUzLWJiY2ItYjNjMzAxMDEzZjMz
URL:https://livinghopect.org/event/father-son-pre-super-bowl-flag-football-game/
LOCATION:Living Hope Community Church\, 38 West End Avenue\, Old Greenwich\, CT\, 06870\, United States
CATEGORIES:Family Fellowship,Kids Ministry,Men's Ministry,Outreach,Youth Group,Youth Ministry
ATTACH;FMTTYPE=image/jpeg:https://livinghopect.org/wp-content/uploads/2025/12/Father-Son-Flag-Football-picture.jpeg
END:VEVENT
BEGIN:VEVENT
DTSTART;TZID=America/New_York:20260208T170000
DTEND;TZID=America/New_York:20260208T220000
DTSTAMP:20260421T020008
CREATED:20251230T153104Z
LAST-MODIFIED:20251230T153119Z
UID:10005473-1770570000-1770588000@livinghopect.org
SUMMARY:Super Bowl Chili Cookoff Party
DESCRIPTION:Join us for great chili\, good company\, and the big game\, plus TPUSA’s All-American Halftime Show celebrating Faith\, Family\, and Freedom. Bring a friend and come enjoy the fun!
URL:https://livinghopect.org/event/super-bowl-chili-cookoff-party/
LOCATION:Living Hope Community Church\, 38 West End Avenue\, Old Greenwich\, CT\, 06870\, United States
CATEGORIES:Family Fellowship,Kids Ministry,Men's Ministry,Outreach,Youth Group,Youth Ministry
ATTACH;FMTTYPE=image/jpeg:https://livinghopect.org/wp-content/uploads/2025/12/Super-Bowl-2026.jpeg
ORGANIZER;CN="Jason Pankau":MAILTO:office@livinghopect.org
END:VEVENT
BEGIN:VEVENT
DTSTART;TZID=America/New_York:20260214T080000
DTEND;TZID=America/New_York:20260214T093000
DTSTAMP:20260421T020008
CREATED:20250331T142734Z
LAST-MODIFIED:20251230T162414Z
UID:10000525-1771056000-1771061400@livinghopect.org
SUMMARY:Saturdays: Men's Fellowship
DESCRIPTION:Men are invited to a meaningful journey through The Measure of a Man by Gene A. Getz\, as we explore God’s call to faith\, character\, and leadership in everyday life. \nBooks are available for purchase at church\, $20 each. \nSign up on Realm \nhttps://onrealm.org/livinghopect/PublicRegistrations/Event?linkString=NjlhOGViN2MtZmZiZS00ZTMxLWE4NjItYjNiNTAxMjdkZmQz \n\n\n\n\n\n 
URL:https://livinghopect.org/event/saturdays-mens-fellowship8am/2026-02-14/
LOCATION:Living Hope Community Church\, 38 West End Ave\, Old Greenwich\, CT\, 10118\, United States
CATEGORIES:Men's Ministry
ATTACH;FMTTYPE=image/jpeg:https://livinghopect.org/wp-content/uploads/2025/03/measure-of-a-man.jpeg
END:VEVENT
BEGIN:VEVENT
DTSTART;TZID=America/New_York:20260215T090000
DTEND;TZID=America/New_York:20260215T100000
DTSTAMP:20260421T020008
CREATED:20250623T215707Z
LAST-MODIFIED:20250623T215914Z
UID:10003388-1771146000-1771149600@livinghopect.org
SUMMARY:Forum for Fathers
DESCRIPTION:Are you a man with or who has kids or family members with ADHD? We meet Sundays at 9AM at the church to pray\, seek God\, and encourage each other. Contact Todd.klair@gmail.com for more info.
URL:https://livinghopect.org/event/forum-for-fathers/2026-02-15/
LOCATION:Living Hope Community Church\, 38 West End Avenue\, Old Greenwich\, CT\, 06870\, United States
CATEGORIES:Men's Ministry
ATTACH;FMTTYPE=image/jpeg:https://livinghopect.org/wp-content/uploads/2025/06/ADHD-image-scaled.jpg
END:VEVENT
BEGIN:VEVENT
DTSTART;TZID=America/New_York:20260221T080000
DTEND;TZID=America/New_York:20260221T093000
DTSTAMP:20260421T020008
CREATED:20250331T142734Z
LAST-MODIFIED:20251230T162414Z
UID:10000526-1771660800-1771666200@livinghopect.org
SUMMARY:Saturdays: Men's Fellowship
DESCRIPTION:Men are invited to a meaningful journey through The Measure of a Man by Gene A. Getz\, as we explore God’s call to faith\, character\, and leadership in everyday life. \nBooks are available for purchase at church\, $20 each. \nSign up on Realm \nhttps://onrealm.org/livinghopect/PublicRegistrations/Event?linkString=NjlhOGViN2MtZmZiZS00ZTMxLWE4NjItYjNiNTAxMjdkZmQz \n\n\n\n\n\n 
URL:https://livinghopect.org/event/saturdays-mens-fellowship8am/2026-02-21/
LOCATION:Living Hope Community Church\, 38 West End Ave\, Old Greenwich\, CT\, 10118\, United States
CATEGORIES:Men's Ministry
ATTACH;FMTTYPE=image/jpeg:https://livinghopect.org/wp-content/uploads/2025/03/measure-of-a-man.jpeg
END:VEVENT
BEGIN:VEVENT
DTSTART;TZID=America/New_York:20260222T090000
DTEND;TZID=America/New_York:20260222T100000
DTSTAMP:20260421T020008
CREATED:20250623T215707Z
LAST-MODIFIED:20250623T215914Z
UID:10003389-1771750800-1771754400@livinghopect.org
SUMMARY:Forum for Fathers
DESCRIPTION:Are you a man with or who has kids or family members with ADHD? We meet Sundays at 9AM at the church to pray\, seek God\, and encourage each other. Contact Todd.klair@gmail.com for more info.
URL:https://livinghopect.org/event/forum-for-fathers/2026-02-22/
LOCATION:Living Hope Community Church\, 38 West End Avenue\, Old Greenwich\, CT\, 06870\, United States
CATEGORIES:Men's Ministry
ATTACH;FMTTYPE=image/jpeg:https://livinghopect.org/wp-content/uploads/2025/06/ADHD-image-scaled.jpg
END:VEVENT
BEGIN:VEVENT
DTSTART;TZID=America/New_York:20260228T080000
DTEND;TZID=America/New_York:20260228T093000
DTSTAMP:20260421T020008
CREATED:20250331T142734Z
LAST-MODIFIED:20251230T162414Z
UID:10000527-1772265600-1772271000@livinghopect.org
SUMMARY:Saturdays: Men's Fellowship
DESCRIPTION:Men are invited to a meaningful journey through The Measure of a Man by Gene A. Getz\, as we explore God’s call to faith\, character\, and leadership in everyday life. \nBooks are available for purchase at church\, $20 each. \nSign up on Realm \nhttps://onrealm.org/livinghopect/PublicRegistrations/Event?linkString=NjlhOGViN2MtZmZiZS00ZTMxLWE4NjItYjNiNTAxMjdkZmQz \n\n\n\n\n\n 
URL:https://livinghopect.org/event/saturdays-mens-fellowship8am/2026-02-28/
LOCATION:Living Hope Community Church\, 38 West End Ave\, Old Greenwich\, CT\, 10118\, United States
CATEGORIES:Men's Ministry
ATTACH;FMTTYPE=image/jpeg:https://livinghopect.org/wp-content/uploads/2025/03/measure-of-a-man.jpeg
END:VEVENT
END:VCALENDAR