BEGIN:VCALENDAR
VERSION:2.0
PRODID:-//Living Hope Church Community CT - ECPv6.15.19//NONSGML v1.0//EN
CALSCALE:GREGORIAN
METHOD:PUBLISH
X-WR-CALNAME:Living Hope Church Community CT
X-ORIGINAL-URL:https://livinghopect.org
X-WR-CALDESC:Events for Living Hope Church Community CT
REFRESH-INTERVAL;VALUE=DURATION:PT1H
X-Robots-Tag:noindex
X-PUBLISHED-TTL:PT1H
BEGIN:VTIMEZONE
TZID:America/New_York
BEGIN:DAYLIGHT
TZOFFSETFROM:-0500
TZOFFSETTO:-0400
TZNAME:EDT
DTSTART:20240310T070000
END:DAYLIGHT
BEGIN:STANDARD
TZOFFSETFROM:-0400
TZOFFSETTO:-0500
TZNAME:EST
DTSTART:20241103T060000
END:STANDARD
BEGIN:DAYLIGHT
TZOFFSETFROM:-0500
TZOFFSETTO:-0400
TZNAME:EDT
DTSTART:20250309T070000
END:DAYLIGHT
BEGIN:STANDARD
TZOFFSETFROM:-0400
TZOFFSETTO:-0500
TZNAME:EST
DTSTART:20251102T060000
END:STANDARD
BEGIN:DAYLIGHT
TZOFFSETFROM:-0500
TZOFFSETTO:-0400
TZNAME:EDT
DTSTART:20260308T070000
END:DAYLIGHT
BEGIN:STANDARD
TZOFFSETFROM:-0400
TZOFFSETTO:-0500
TZNAME:EST
DTSTART:20261101T060000
END:STANDARD
END:VTIMEZONE
BEGIN:VEVENT
DTSTART;TZID=America/New_York:20251115T080000
DTEND;TZID=America/New_York:20251115T093000
DTSTAMP:20260425T222855
CREATED:20251103T221206Z
LAST-MODIFIED:20251103T221206Z
UID:10000512-1763193600-1763199000@livinghopect.org
SUMMARY:Saturdays: Men's Fellowship Breakfast
DESCRIPTION:Come fellowship with us\, have a bite to eat\, and help us welcome Charles Caviola who will share his testimony! Evangelism Course to follow from 9:30-12:30. \n\n\n\n  \n\n\n\n\n\n 
URL:https://livinghopect.org/event/saturdays-mens-fellowship8am-2/
LOCATION:Living Hope Community Church\, 38 West End Ave\, Old Greenwich\, CT\, 10118\, United States
CATEGORIES:Men's Ministry
ATTACH;FMTTYPE=image/jpeg:https://livinghopect.org/wp-content/uploads/2025/03/men-s-ministry-1920w.jpg
END:VEVENT
BEGIN:VEVENT
DTSTART;TZID=America/New_York:20251115T093000
DTEND;TZID=America/New_York:20251115T123000
DTSTAMP:20260425T222855
CREATED:20251103T221924Z
LAST-MODIFIED:20251103T222054Z
UID:10005391-1763199000-1763209800@livinghopect.org
SUMMARY:Evangelism Training Seminar
DESCRIPTION:Be part of a powerful\, experiential seminar \n“Share the Good News” with Charlie Caviola \nAn inspiring time to grow in sharing the Gospel
URL:https://livinghopect.org/event/evangelism-training-seminar/
LOCATION:Living Hope Community Church\, 38 West End Avenue\, Old Greenwich\, CT\, 06870\, United States
CATEGORIES:Outreach
ATTACH;FMTTYPE=image/jpeg:https://livinghopect.org/wp-content/uploads/2025/11/01443FA2-BAC9-4006-A068-2A0395BB71C7_4_5005_c.jpeg
ORGANIZER;CN="office":MAILTO:office@livinghopect.org
END:VEVENT
END:VCALENDAR