BEGIN:VCALENDAR
VERSION:2.0
PRODID:-//Living Hope Church Community CT - ECPv6.15.19//NONSGML v1.0//EN
CALSCALE:GREGORIAN
METHOD:PUBLISH
X-WR-CALNAME:Living Hope Church Community CT
X-ORIGINAL-URL:https://livinghopect.org
X-WR-CALDESC:Events for Living Hope Church Community CT
REFRESH-INTERVAL;VALUE=DURATION:PT1H
X-Robots-Tag:noindex
X-PUBLISHED-TTL:PT1H
BEGIN:VTIMEZONE
TZID:America/New_York
BEGIN:DAYLIGHT
TZOFFSETFROM:-0500
TZOFFSETTO:-0400
TZNAME:EDT
DTSTART:20240310T070000
END:DAYLIGHT
BEGIN:STANDARD
TZOFFSETFROM:-0400
TZOFFSETTO:-0500
TZNAME:EST
DTSTART:20241103T060000
END:STANDARD
BEGIN:DAYLIGHT
TZOFFSETFROM:-0500
TZOFFSETTO:-0400
TZNAME:EDT
DTSTART:20250309T070000
END:DAYLIGHT
BEGIN:STANDARD
TZOFFSETFROM:-0400
TZOFFSETTO:-0500
TZNAME:EST
DTSTART:20251102T060000
END:STANDARD
BEGIN:DAYLIGHT
TZOFFSETFROM:-0500
TZOFFSETTO:-0400
TZNAME:EDT
DTSTART:20260308T070000
END:DAYLIGHT
BEGIN:STANDARD
TZOFFSETFROM:-0400
TZOFFSETTO:-0500
TZNAME:EST
DTSTART:20261101T060000
END:STANDARD
END:VTIMEZONE
BEGIN:VEVENT
DTSTART;VALUE=DATE:20251010
DTEND;VALUE=DATE:20251012
DTSTAMP:20260419T164322
CREATED:20251002T184710Z
LAST-MODIFIED:20251002T184710Z
UID:10005339-1760054400-1760227199@livinghopect.org
SUMMARY:Men's Golf Retreat
DESCRIPTION:Contact Todd Klair for more information \nTodd.klair@gmail.com
URL:https://livinghopect.org/event/mens-golf-retreat/
LOCATION:CT
CATEGORIES:Men's Ministry
ATTACH;FMTTYPE=image/webp:https://livinghopect.org/wp-content/uploads/2025/10/golf-club-ball-grass.webp
ORGANIZER;CN="Jason Pankau":MAILTO:office@livinghopect.org
END:VEVENT
END:VCALENDAR