BEGIN:VCALENDAR
VERSION:2.0
PRODID:-//Living Hope Church Community CT - ECPv6.15.19//NONSGML v1.0//EN
CALSCALE:GREGORIAN
METHOD:PUBLISH
X-WR-CALNAME:Living Hope Church Community CT
X-ORIGINAL-URL:https://livinghopect.org
X-WR-CALDESC:Events for Living Hope Church Community CT
REFRESH-INTERVAL;VALUE=DURATION:PT1H
X-Robots-Tag:noindex
X-PUBLISHED-TTL:PT1H
BEGIN:VTIMEZONE
TZID:America/New_York
BEGIN:DAYLIGHT
TZOFFSETFROM:-0500
TZOFFSETTO:-0400
TZNAME:EDT
DTSTART:20240310T070000
END:DAYLIGHT
BEGIN:STANDARD
TZOFFSETFROM:-0400
TZOFFSETTO:-0500
TZNAME:EST
DTSTART:20241103T060000
END:STANDARD
BEGIN:DAYLIGHT
TZOFFSETFROM:-0500
TZOFFSETTO:-0400
TZNAME:EDT
DTSTART:20250309T070000
END:DAYLIGHT
BEGIN:STANDARD
TZOFFSETFROM:-0400
TZOFFSETTO:-0500
TZNAME:EST
DTSTART:20251102T060000
END:STANDARD
BEGIN:DAYLIGHT
TZOFFSETFROM:-0500
TZOFFSETTO:-0400
TZNAME:EDT
DTSTART:20260308T070000
END:DAYLIGHT
BEGIN:STANDARD
TZOFFSETFROM:-0400
TZOFFSETTO:-0500
TZNAME:EST
DTSTART:20261101T060000
END:STANDARD
END:VTIMEZONE
BEGIN:VEVENT
DTSTART;TZID=America/New_York:20250824T084500
DTEND;TZID=America/New_York:20250824T094500
DTSTAMP:20260425T103241
CREATED:20250522T013419Z
LAST-MODIFIED:20250610T143532Z
UID:10002991-1756025100-1756028700@livinghopect.org
SUMMARY:Matthew Bible Study
DESCRIPTION:Starting Sunday\, June 1 \n8:45-9:45 AM \nBible Study: Matthew Please join us for an hour of learning and discussion about a corrupt tax collector for Rome\, who would one day write a document that would be read\, studied\, and treasured for centuries in every part of the world!
URL:https://livinghopect.org/event/40842/2025-08-24/
LOCATION:Living Hope Community Church\, 38 West End Avenue\, Old Greenwich\, CT\, 06870\, United States
CATEGORIES:Men's Ministry,Women's Ministry
ATTACH;FMTTYPE=image/jpeg:https://livinghopect.org/wp-content/uploads/2025/05/Matthew-the-Arrival-of-a-King.jpg
END:VEVENT
BEGIN:VEVENT
DTSTART;TZID=America/New_York:20250824T090000
DTEND;TZID=America/New_York:20250824T100000
DTSTAMP:20260425T103241
CREATED:20250623T215707Z
LAST-MODIFIED:20250623T215914Z
UID:10003363-1756026000-1756029600@livinghopect.org
SUMMARY:Forum for Fathers
DESCRIPTION:Are you a man with or who has kids or family members with ADHD? We meet Sundays at 9AM at the church to pray\, seek God\, and encourage each other. Contact Todd.klair@gmail.com for more info.
URL:https://livinghopect.org/event/forum-for-fathers/2025-08-24/
LOCATION:Living Hope Community Church\, 38 West End Avenue\, Old Greenwich\, CT\, 06870\, United States
CATEGORIES:Men's Ministry
ATTACH;FMTTYPE=image/jpeg:https://livinghopect.org/wp-content/uploads/2025/06/ADHD-image-scaled.jpg
END:VEVENT
BEGIN:VEVENT
DTSTART;TZID=America/New_York:20250824T100000
DTEND;TZID=America/New_York:20250824T111500
DTSTAMP:20260425T103241
CREATED:20250331T143248Z
LAST-MODIFIED:20250610T142532Z
UID:10000098-1756029600-1756034100@livinghopect.org
SUMMARY:Sundays: Worship Service
DESCRIPTION: 
URL:https://livinghopect.org/event/sundays-morning-services/2025-08-24/
LOCATION:Living Hope Community Church\, 38 West End Ave\, Old Greenwich\, CT\, 10118\, United States
CATEGORIES:Sunday Services
ATTACH;FMTTYPE=image/jpeg:https://livinghopect.org/wp-content/uploads/2025/03/sunday-service-e1741750136601.jpeg
END:VEVENT
BEGIN:VEVENT
DTSTART;TZID=America/New_York:20250824T170000
DTEND;TZID=America/New_York:20250824T183000
DTSTAMP:20260425T103241
CREATED:20250623T221545Z
LAST-MODIFIED:20250623T221624Z
UID:10003635-1756054800-1756060200@livinghopect.org
SUMMARY:Youth Group
DESCRIPTION:Middle & High School Ages.   \n\n\n\n\n\nEmail Jaden@LivingHopeCT.org for more information. \n\n\n\n  \n\n\n\n\n\n\n\n\n\n\n\n\n\n 
URL:https://livinghopect.org/event/youth-group-2/2025-08-24/
LOCATION:Living Hope Community Church\, 38 West End Ave\, Old Greenwich\, CT\, 10118\, United States
CATEGORIES:Youth Group
ATTACH;FMTTYPE=image/jpeg:https://livinghopect.org/wp-content/uploads/2025/03/youth1-1920w-1.jpeg
END:VEVENT
END:VCALENDAR