BEGIN:VCALENDAR
VERSION:2.0
PRODID:-//Living Hope Church Community CT - ECPv6.15.19//NONSGML v1.0//EN
CALSCALE:GREGORIAN
METHOD:PUBLISH
X-WR-CALNAME:Living Hope Church Community CT
X-ORIGINAL-URL:https://livinghopect.org
X-WR-CALDESC:Events for Living Hope Church Community CT
REFRESH-INTERVAL;VALUE=DURATION:PT1H
X-Robots-Tag:noindex
X-PUBLISHED-TTL:PT1H
BEGIN:VTIMEZONE
TZID:America/New_York
BEGIN:DAYLIGHT
TZOFFSETFROM:-0500
TZOFFSETTO:-0400
TZNAME:EDT
DTSTART:20240310T070000
END:DAYLIGHT
BEGIN:STANDARD
TZOFFSETFROM:-0400
TZOFFSETTO:-0500
TZNAME:EST
DTSTART:20241103T060000
END:STANDARD
BEGIN:DAYLIGHT
TZOFFSETFROM:-0500
TZOFFSETTO:-0400
TZNAME:EDT
DTSTART:20250309T070000
END:DAYLIGHT
BEGIN:STANDARD
TZOFFSETFROM:-0400
TZOFFSETTO:-0500
TZNAME:EST
DTSTART:20251102T060000
END:STANDARD
BEGIN:DAYLIGHT
TZOFFSETFROM:-0500
TZOFFSETTO:-0400
TZNAME:EDT
DTSTART:20260308T070000
END:DAYLIGHT
BEGIN:STANDARD
TZOFFSETFROM:-0400
TZOFFSETTO:-0500
TZNAME:EST
DTSTART:20261101T060000
END:STANDARD
END:VTIMEZONE
BEGIN:VEVENT
DTSTART;VALUE=DATE:20250712
DTEND;VALUE=DATE:20250720
DTSTAMP:20260425T174654
CREATED:20250623T221919Z
LAST-MODIFIED:20250623T222232Z
UID:10003654-1752278400-1752969599@livinghopect.org
SUMMARY:Nicaragua Mission Trip for Young Life
DESCRIPTION:
URL:https://livinghopect.org/event/nicaragua-mission-trip-for-young-life/
LOCATION:CT
CATEGORIES:Missions
ATTACH;FMTTYPE=image/webp:https://livinghopect.org/wp-content/uploads/2025/03/Nicaragua-mission-trip-e1742425425156.webp
END:VEVENT
BEGIN:VEVENT
DTSTART;TZID=America/New_York:20250717T190000
DTEND;TZID=America/New_York:20250717T203000
DTSTAMP:20260425T174654
CREATED:20250331T142130Z
LAST-MODIFIED:20250806T152001Z
UID:10000587-1752778800-1752784200@livinghopect.org
SUMMARY:Thursdays: Group for Young Adults
DESCRIPTION:  \n\n\n\nGroup for Young Adults in their 20s and 30s \n\n\n\n7 – 8:30 PM \n\n\n\nDinner provided!
URL:https://livinghopect.org/event/thursdays-group-for-young-adults/2025-07-17/
LOCATION:Living Hope Community Church\, 38 West End Ave\, Old Greenwich\, CT\, 10118\, United States
CATEGORIES:Young Adults Group
ATTACH;FMTTYPE=image/jpeg:https://livinghopect.org/wp-content/uploads/2025/08/IMG_8860-1-3-scaled.jpg
END:VEVENT
END:VCALENDAR