BEGIN:VCALENDAR
VERSION:2.0
PRODID:-//Living Hope Church Community CT - ECPv6.15.19//NONSGML v1.0//EN
CALSCALE:GREGORIAN
METHOD:PUBLISH
X-WR-CALNAME:Living Hope Church Community CT
X-ORIGINAL-URL:https://livinghopect.org
X-WR-CALDESC:Events for Living Hope Church Community CT
REFRESH-INTERVAL;VALUE=DURATION:PT1H
X-Robots-Tag:noindex
X-PUBLISHED-TTL:PT1H
BEGIN:VTIMEZONE
TZID:America/New_York
BEGIN:DAYLIGHT
TZOFFSETFROM:-0500
TZOFFSETTO:-0400
TZNAME:EDT
DTSTART:20240310T070000
END:DAYLIGHT
BEGIN:STANDARD
TZOFFSETFROM:-0400
TZOFFSETTO:-0500
TZNAME:EST
DTSTART:20241103T060000
END:STANDARD
BEGIN:DAYLIGHT
TZOFFSETFROM:-0500
TZOFFSETTO:-0400
TZNAME:EDT
DTSTART:20250309T070000
END:DAYLIGHT
BEGIN:STANDARD
TZOFFSETFROM:-0400
TZOFFSETTO:-0500
TZNAME:EST
DTSTART:20251102T060000
END:STANDARD
BEGIN:DAYLIGHT
TZOFFSETFROM:-0500
TZOFFSETTO:-0400
TZNAME:EDT
DTSTART:20260308T070000
END:DAYLIGHT
BEGIN:STANDARD
TZOFFSETFROM:-0400
TZOFFSETTO:-0500
TZNAME:EST
DTSTART:20261101T060000
END:STANDARD
END:VTIMEZONE
BEGIN:VEVENT
DTSTART;TZID=America/New_York:20251101T090000
DTEND;TZID=America/New_York:20251101T130000
DTSTAMP:20260423T091935
CREATED:20251020T193742Z
LAST-MODIFIED:20251020T193742Z
UID:41199-1761987600-1762002000@livinghopect.org
SUMMARY:Making Cent$ Seminar
DESCRIPTION:This seminar is designed to help people achieve financial freedom from God’s perspective. This seminar examines what the Scriptures say about money and money management in the areas of earning\, saving\, giving\, borrowing\, consuming\, budgeting\, and investing. It then translates that knowledge into wisdom and helps people develop a personal financial plan for stewarding the resources God has entrusted to them. Register at: https://onrealm.org/livinghopect/PublicRegistrations/Event?linkString=NGQ2MmY0MjktZjhjNC00YzZmLWFiZjItYjM3YzAxNDFlYzUw
URL:https://livinghopect.org/event/making-cent-seminar-2/
CATEGORIES:Financial Stewardship,Outreach
ATTACH;FMTTYPE=image/png:https://livinghopect.org/wp-content/uploads/2025/07/Making-Cents.png
ORGANIZER;CN="Jason Pankau":MAILTO:office@livinghopect.org
END:VEVENT
END:VCALENDAR